BEGIN:VCALENDAR
VERSION:2.0
PRODID:-//なるぱら - ECPv5.16.4//NONSGML v1.0//EN
CALSCALE:GREGORIAN
METHOD:PUBLISH
X-WR-CALNAME:なるぱら
X-ORIGINAL-URL:http://www.narupara.com
X-WR-CALDESC:Events for なるぱら
REFRESH-INTERVAL;VALUE=DURATION:PT1H
X-Robots-Tag:noindex
X-PUBLISHED-TTL:PT1H
BEGIN:VTIMEZONE
TZID:Asia/Tokyo
BEGIN:STANDARD
TZOFFSETFROM:+0900
TZOFFSETTO:+0900
TZNAME:JST
DTSTART:20230101T000000
END:STANDARD
END:VTIMEZONE
BEGIN:VEVENT
DTSTART;TZID=Asia/Tokyo:20231112T084500
DTEND;TZID=Asia/Tokyo:20231112T120000
DTSTAMP:20260422T045554
CREATED:20230916T022728Z
LAST-MODIFIED:20230916T022728Z
UID:4723-1699778700-1699790400@www.narupara.com
SUMMARY:区役所・支所の日曜窓口(令和5年11月は5日から12日に)
DESCRIPTION:名古屋市では、より利用しやすい区役所・支所を目指し、毎月1回原則第1日曜日(5月・9月・1月は第2日曜日)と、3月の最終・最終前の日曜日、4月の第4日曜日に転入・転出に関係する窓口業務を行っています。 \n11月の日曜窓口実施日の変更について\n11月の日曜窓口は、国が管理する個人番号カード管理システムの機器更改に伴うメンテナンス作業のため、11月5日から12日に変更になりました。 \n\n区役所・支所の日曜窓口｜名古屋市公式ウェブサイト名古屋市公式ウェブサイトwww.city.nagoya.jp
URL:http://www.narupara.com/event/20231112-sunday-window/
LOCATION:名古屋市緑区役所\, 緑区青山二丁目15番地\, 名古屋市\, 愛知県\, 458-8585\, 日本
END:VEVENT
BEGIN:VEVENT
DTSTART;TZID=Asia/Tokyo:20231105T084500
DTEND;TZID=Asia/Tokyo:20231105T120000
DTSTAMP:20260422T045554
CREATED:20230916T022805Z
LAST-MODIFIED:20230916T022805Z
UID:4724-1699173900-1699185600@www.narupara.com
SUMMARY:[変更注意]区役所・支所の日曜窓口(令和5年11月は5日から12日に)
DESCRIPTION:名古屋市では、より利用しやすい区役所・支所を目指し、毎月1回原則第1日曜日(5月・9月・1月は第2日曜日)と、3月の最終・最終前の日曜日、4月の第4日曜日に転入・転出に関係する窓口業務を行っています。 \n11月の日曜窓口実施日の変更について\n11月の日曜窓口は、国が管理する個人番号カード管理システムの機器更改に伴うメンテナンス作業のため、11月5日から12日に変更になりました。 \n\n区役所・支所の日曜窓口｜名古屋市公式ウェブサイト名古屋市公式ウェブサイトwww.city.nagoya.jp
URL:http://www.narupara.com/event/20231105-sunday-window/
LOCATION:名古屋市緑区役所\, 緑区青山二丁目15番地\, 名古屋市\, 愛知県\, 458-8585\, 日本
END:VEVENT
BEGIN:VEVENT
DTSTART;VALUE=DATE:20230701
DTEND;VALUE=DATE:20231101
DTSTAMP:20260422T045554
CREATED:20230714T131438Z
LAST-MODIFIED:20230714T131438Z
UID:4057-1688169600-1698796799@www.narupara.com
SUMMARY:みどりく・おいしく・わくわく あ! ぐりーんスタンプラリー -緑区の新鮮! おいしい! を探しに行こう!-(2023/7/1～10/31)
DESCRIPTION:みどりく・おいしく・わくわく あ! ぐりーんスタンプラリー -緑区の新鮮! おいしい! を探しに行こう!- \n\nERROR: The request could not be satisfiedwww.city.nagoya.jp\n「あ! ぐりーん」とは、agriculture(アグリカルチャー=農業)とgreen(グリーン=緑)を合わせた造語です。 \n地元産の新鮮な農産物を知っていただくことを目的として、例年開催している地産地消スタンプラリーが、区制60周年の今年、「あ!ぐりーんスタンプラリー」に生まれ変わりました。区内の直売所などの参加協力店を利用し、スタンプを集めて応募すると、すてきな景品が抽選で当たります。ぜひご応募ください。\n(注)詳細は応募はがき付きマップをご覧ください。(参加協力店で入手できるほか、区ウェブサイトからもダウンロードできます。) \n開催期間:7月1日(土曜日)から10月31日(火曜日) \n応募方法:\nステップ(1)参加協力店を利用し、応募はがきにスタンプを押してもらう\nステップ(2)2か所以上のスタンプを集めた応募はがきを郵送または応募箱に投函 \n景品:抽選で50人にお米や野菜などをプレゼント!さらに抽選で60人に区制60周年を記念して、3月にあいちの伝統野菜に選定された「徳重だいこん」の種が当たります。また、参加賞として、応募者全員に「大高菜」の種を進呈します。 \n問い合わせ先:\n緑区役所東部・緑農政課(2階24番窓口) 電話番号 052-625-3932 ファクス番号 052-623-8191 \n\nERROR: The request could not be satisfiedwww.city.nagoya.jp
URL:http://www.narupara.com/event/ah-gurin-stamp-rally-20230701to1031/
LOCATION:愛知県
CATEGORIES:レジャー,教養・実用・講座,自然・環境
END:VEVENT
BEGIN:VEVENT
DTSTART;TZID=Asia/Tokyo:20230408T083000
DTEND;TZID=Asia/Tokyo:20230408T200000
DTSTAMP:20260422T045554
CREATED:20230325T002155Z
LAST-MODIFIED:20230325T002155Z
UID:2425-1680942600-1680984000@www.narupara.com
SUMMARY:名古屋市会議員・愛知県会議員選挙 期日前投票
DESCRIPTION:日時:令和5年4月1日(土曜日)から4月8日(土曜日)まで土曜、日曜を含む毎日午前8時30分から午後8時まで\n場所(緑区):緑区役所(2階)と徳重支所(2階) \n\nERROR: The request could not be satisfiedwww.city.nagoya.jp\n\n各区の期日前投票所｜名古屋市公式ウェブサイト名古屋市公式ウェブサイトwww.city.nagoya.jp\n\n[特設]令和5年4月9日(日)は名古屋市会議員・愛知県会議員選挙令和5年4月9日(日)は統一地方選の愛知県議会議員選挙と名古屋市会議員選挙が行われます。名古屋市緑区における各選挙の情報ページを作成しましたので、これはそのページ一覧です。※名古屋市議会議員一般選挙立候補予定者説明会に出席した立候補予定者を...www.narupara.com2023/04/09
URL:http://www.narupara.com/event/www-city-nagoya-jp-senkyokanri-page-0000160015-html-2-2-2-2-2-2-2-2/
LOCATION:名古屋市緑区役所\, 緑区青山二丁目15番地\, 名古屋市\, 愛知県\, 458-8585\, 日本
CATEGORIES:議会
ATTACH;FMTTYPE=image/jpeg:http://www.narupara.com/cms/wp-content/uploads/2023/01/335021138_1294264611153825_264811518279894176_n.jpg
END:VEVENT
BEGIN:VEVENT
DTSTART;TZID=Asia/Tokyo:20230407T083000
DTEND;TZID=Asia/Tokyo:20230407T200000
DTSTAMP:20260422T045554
CREATED:20230325T002139Z
LAST-MODIFIED:20230325T002139Z
UID:2424-1680856200-1680897600@www.narupara.com
SUMMARY:名古屋市会議員・愛知県会議員選挙 期日前投票
DESCRIPTION:日時:令和5年4月1日(土曜日)から4月8日(土曜日)まで土曜、日曜を含む毎日午前8時30分から午後8時まで\n場所(緑区):緑区役所(2階)と徳重支所(2階) \n\nERROR: The request could not be satisfiedwww.city.nagoya.jp\n\n各区の期日前投票所｜名古屋市公式ウェブサイト名古屋市公式ウェブサイトwww.city.nagoya.jp\n\n[特設]令和5年4月9日(日)は名古屋市会議員・愛知県会議員選挙令和5年4月9日(日)は統一地方選の愛知県議会議員選挙と名古屋市会議員選挙が行われます。名古屋市緑区における各選挙の情報ページを作成しましたので、これはそのページ一覧です。※名古屋市議会議員一般選挙立候補予定者説明会に出席した立候補予定者を...www.narupara.com2023/04/09
URL:http://www.narupara.com/event/www-city-nagoya-jp-senkyokanri-page-0000160015-html-2-2-2-2-2-2-2/
LOCATION:名古屋市緑区役所\, 緑区青山二丁目15番地\, 名古屋市\, 愛知県\, 458-8585\, 日本
CATEGORIES:議会
ATTACH;FMTTYPE=image/jpeg:http://www.narupara.com/cms/wp-content/uploads/2023/01/335021138_1294264611153825_264811518279894176_n.jpg
END:VEVENT
BEGIN:VEVENT
DTSTART;TZID=Asia/Tokyo:20230406T083000
DTEND;TZID=Asia/Tokyo:20230406T200000
DTSTAMP:20260422T045554
CREATED:20230325T002122Z
LAST-MODIFIED:20230325T002122Z
UID:2423-1680769800-1680811200@www.narupara.com
SUMMARY:名古屋市会議員・愛知県会議員選挙 期日前投票
DESCRIPTION:日時:令和5年4月1日(土曜日)から4月8日(土曜日)まで土曜、日曜を含む毎日午前8時30分から午後8時まで\n場所(緑区):緑区役所(2階)と徳重支所(2階) \n\nERROR: The request could not be satisfiedwww.city.nagoya.jp\n\n各区の期日前投票所｜名古屋市公式ウェブサイト名古屋市公式ウェブサイトwww.city.nagoya.jp\n\n[特設]令和5年4月9日(日)は名古屋市会議員・愛知県会議員選挙令和5年4月9日(日)は統一地方選の愛知県議会議員選挙と名古屋市会議員選挙が行われます。名古屋市緑区における各選挙の情報ページを作成しましたので、これはそのページ一覧です。※名古屋市議会議員一般選挙立候補予定者説明会に出席した立候補予定者を...www.narupara.com2023/04/09
URL:http://www.narupara.com/event/www-city-nagoya-jp-senkyokanri-page-0000160015-html-2-2-2-2-2-2/
LOCATION:名古屋市緑区役所\, 緑区青山二丁目15番地\, 名古屋市\, 愛知県\, 458-8585\, 日本
CATEGORIES:議会
ATTACH;FMTTYPE=image/jpeg:http://www.narupara.com/cms/wp-content/uploads/2023/01/335021138_1294264611153825_264811518279894176_n.jpg
END:VEVENT
BEGIN:VEVENT
DTSTART;TZID=Asia/Tokyo:20230405T083000
DTEND;TZID=Asia/Tokyo:20230405T200000
DTSTAMP:20260422T045554
CREATED:20230325T002106Z
LAST-MODIFIED:20230325T002106Z
UID:2422-1680683400-1680724800@www.narupara.com
SUMMARY:名古屋市会議員・愛知県会議員選挙 期日前投票
DESCRIPTION:日時:令和5年4月1日(土曜日)から4月8日(土曜日)まで土曜、日曜を含む毎日午前8時30分から午後8時まで\n場所(緑区):緑区役所(2階)と徳重支所(2階) \n\nERROR: The request could not be satisfiedwww.city.nagoya.jp\n\n各区の期日前投票所｜名古屋市公式ウェブサイト名古屋市公式ウェブサイトwww.city.nagoya.jp\n\n[特設]令和5年4月9日(日)は名古屋市会議員・愛知県会議員選挙令和5年4月9日(日)は統一地方選の愛知県議会議員選挙と名古屋市会議員選挙が行われます。名古屋市緑区における各選挙の情報ページを作成しましたので、これはそのページ一覧です。※名古屋市議会議員一般選挙立候補予定者説明会に出席した立候補予定者を...www.narupara.com2023/04/09
URL:http://www.narupara.com/event/www-city-nagoya-jp-senkyokanri-page-0000160015-html-2-2-2-2-2/
LOCATION:名古屋市緑区役所\, 緑区青山二丁目15番地\, 名古屋市\, 愛知県\, 458-8585\, 日本
CATEGORIES:議会
ATTACH;FMTTYPE=image/jpeg:http://www.narupara.com/cms/wp-content/uploads/2023/01/335021138_1294264611153825_264811518279894176_n.jpg
END:VEVENT
BEGIN:VEVENT
DTSTART;TZID=Asia/Tokyo:20230404T083000
DTEND;TZID=Asia/Tokyo:20230404T200000
DTSTAMP:20260422T045554
CREATED:20230325T002048Z
LAST-MODIFIED:20230325T002048Z
UID:2421-1680597000-1680638400@www.narupara.com
SUMMARY:名古屋市会議員・愛知県会議員選挙 期日前投票
DESCRIPTION:日時:令和5年4月1日(土曜日)から4月8日(土曜日)まで土曜、日曜を含む毎日午前8時30分から午後8時まで\n場所(緑区):緑区役所(2階)と徳重支所(2階) \n\nERROR: The request could not be satisfiedwww.city.nagoya.jp\n\n各区の期日前投票所｜名古屋市公式ウェブサイト名古屋市公式ウェブサイトwww.city.nagoya.jp\n\n[特設]令和5年4月9日(日)は名古屋市会議員・愛知県会議員選挙令和5年4月9日(日)は統一地方選の愛知県議会議員選挙と名古屋市会議員選挙が行われます。名古屋市緑区における各選挙の情報ページを作成しましたので、これはそのページ一覧です。※名古屋市議会議員一般選挙立候補予定者説明会に出席した立候補予定者を...www.narupara.com2023/04/09
URL:http://www.narupara.com/event/www-city-nagoya-jp-senkyokanri-page-0000160015-html-2-2-2-2/
LOCATION:名古屋市緑区役所\, 緑区青山二丁目15番地\, 名古屋市\, 愛知県\, 458-8585\, 日本
CATEGORIES:議会
ATTACH;FMTTYPE=image/jpeg:http://www.narupara.com/cms/wp-content/uploads/2023/01/335021138_1294264611153825_264811518279894176_n.jpg
END:VEVENT
BEGIN:VEVENT
DTSTART;TZID=Asia/Tokyo:20230403T083000
DTEND;TZID=Asia/Tokyo:20230403T200000
DTSTAMP:20260422T045554
CREATED:20230325T002035Z
LAST-MODIFIED:20230325T002035Z
UID:2420-1680510600-1680552000@www.narupara.com
SUMMARY:名古屋市会議員・愛知県会議員選挙 期日前投票
DESCRIPTION:日時:令和5年4月1日(土曜日)から4月8日(土曜日)まで土曜、日曜を含む毎日午前8時30分から午後8時まで\n場所(緑区):緑区役所(2階)と徳重支所(2階) \n\nERROR: The request could not be satisfiedwww.city.nagoya.jp\n\n各区の期日前投票所｜名古屋市公式ウェブサイト名古屋市公式ウェブサイトwww.city.nagoya.jp\n\n[特設]令和5年4月9日(日)は名古屋市会議員・愛知県会議員選挙令和5年4月9日(日)は統一地方選の愛知県議会議員選挙と名古屋市会議員選挙が行われます。名古屋市緑区における各選挙の情報ページを作成しましたので、これはそのページ一覧です。※名古屋市議会議員一般選挙立候補予定者説明会に出席した立候補予定者を...www.narupara.com2023/04/09
URL:http://www.narupara.com/event/www-city-nagoya-jp-senkyokanri-page-0000160015-html-2-2-2/
LOCATION:名古屋市緑区役所\, 緑区青山二丁目15番地\, 名古屋市\, 愛知県\, 458-8585\, 日本
CATEGORIES:議会
ATTACH;FMTTYPE=image/jpeg:http://www.narupara.com/cms/wp-content/uploads/2023/01/335021138_1294264611153825_264811518279894176_n.jpg
END:VEVENT
BEGIN:VEVENT
DTSTART;TZID=Asia/Tokyo:20230402T083000
DTEND;TZID=Asia/Tokyo:20230402T200000
DTSTAMP:20260422T045554
CREATED:20230325T002022Z
LAST-MODIFIED:20230325T002022Z
UID:2419-1680424200-1680465600@www.narupara.com
SUMMARY:名古屋市会議員・愛知県会議員選挙 期日前投票
DESCRIPTION:日時:令和5年4月1日(土曜日)から4月8日(土曜日)まで土曜、日曜を含む毎日午前8時30分から午後8時まで\n場所(緑区):緑区役所(2階)と徳重支所(2階) \n\nERROR: The request could not be satisfiedwww.city.nagoya.jp\n\n各区の期日前投票所｜名古屋市公式ウェブサイト名古屋市公式ウェブサイトwww.city.nagoya.jp\n\n[特設]令和5年4月9日(日)は名古屋市会議員・愛知県会議員選挙令和5年4月9日(日)は統一地方選の愛知県議会議員選挙と名古屋市会議員選挙が行われます。名古屋市緑区における各選挙の情報ページを作成しましたので、これはそのページ一覧です。※名古屋市議会議員一般選挙立候補予定者説明会に出席した立候補予定者を...www.narupara.com2023/04/09
URL:http://www.narupara.com/event/www-city-nagoya-jp-senkyokanri-page-0000160015-html-2-2/
LOCATION:名古屋市緑区役所\, 緑区青山二丁目15番地\, 名古屋市\, 愛知県\, 458-8585\, 日本
CATEGORIES:議会
ATTACH;FMTTYPE=image/jpeg:http://www.narupara.com/cms/wp-content/uploads/2023/01/335021138_1294264611153825_264811518279894176_n.jpg
END:VEVENT
BEGIN:VEVENT
DTSTART;TZID=Asia/Tokyo:20230401T083000
DTEND;TZID=Asia/Tokyo:20230401T200000
DTSTAMP:20260422T045555
CREATED:20230325T001836Z
LAST-MODIFIED:20230325T002006Z
UID:2418-1680337800-1680379200@www.narupara.com
SUMMARY:名古屋市会議員・愛知県会議員選挙 期日前投票
DESCRIPTION:日時:令和5年4月1日(土曜日)から4月8日(土曜日)まで土曜、日曜を含む毎日午前8時30分から午後8時まで\n場所(緑区):緑区役所(2階)と徳重支所(2階) \n\nERROR: The request could not be satisfiedwww.city.nagoya.jp\n\n各区の期日前投票所｜名古屋市公式ウェブサイト名古屋市公式ウェブサイトwww.city.nagoya.jp\n\n[特設]令和5年4月9日(日)は名古屋市会議員・愛知県会議員選挙令和5年4月9日(日)は統一地方選の愛知県議会議員選挙と名古屋市会議員選挙が行われます。名古屋市緑区における各選挙の情報ページを作成しましたので、これはそのページ一覧です。※名古屋市議会議員一般選挙立候補予定者説明会に出席した立候補予定者を...www.narupara.com2023/04/09
URL:http://www.narupara.com/event/www-city-nagoya-jp-senkyokanri-page-0000160015-html-2/
LOCATION:名古屋市緑区役所\, 緑区青山二丁目15番地\, 名古屋市\, 愛知県\, 458-8585\, 日本
CATEGORIES:議会
ATTACH;FMTTYPE=image/jpeg:http://www.narupara.com/cms/wp-content/uploads/2023/01/335021138_1294264611153825_264811518279894176_n.jpg
END:VEVENT
END:VCALENDAR