BEGIN:VCALENDAR
VERSION:2.0
PRODID:-//なるぱら - ECPv5.16.4//NONSGML v1.0//EN
CALSCALE:GREGORIAN
METHOD:PUBLISH
X-WR-CALNAME:なるぱら
X-ORIGINAL-URL:http://www.narupara.com
X-WR-CALDESC:Events for なるぱら
REFRESH-INTERVAL;VALUE=DURATION:PT1H
X-Robots-Tag:noindex
X-PUBLISHED-TTL:PT1H
BEGIN:VTIMEZONE
TZID:Asia/Tokyo
BEGIN:STANDARD
TZOFFSETFROM:+0900
TZOFFSETTO:+0900
TZNAME:JST
DTSTART:20220101T000000
END:STANDARD
END:VTIMEZONE
BEGIN:VEVENT
DTSTART;VALUE=DATE:20231229
DTEND;VALUE=DATE:20240104
DTSTAMP:20260424T090011
CREATED:20231206T210111Z
LAST-MODIFIED:20231206T210111Z
UID:6040-1703808000-1704326399@www.narupara.com
SUMMARY:鳴海プール 年末年始休館(2023/12/29～2024/1/3)
DESCRIPTION:年末年始休館のお知らせ \n平素は鳴海プールをご愛顧いただき、誠にありがとうございます。\n年末年始の休館日についてご案内いたします。 \n【休館期間】令和5年12月29日(金)～ 令和6年1月3日(水)\n年末年始休館日とさせていただきます。 \n令和6年1月4日(水)より通常営業いたします。\n皆様のご来館をお待ちしております。 \n\n新着情報-名古屋市鳴海プール名古屋市鳴海プールは１年中気軽に利用できる温水プールです。水遊びや、日々の体力づくりに！お子様同士でもお一人様でも、お気軽にご利用いただけます。水泳教室や講習会、楽しいイベントも定期的に開催！www.jpn-sports.com
URL:http://www.narupara.com/event/20231229to20240103-narumi-pool-closed/
LOCATION:名古屋市鳴海プール\, 緑区浦里一丁目66\, 名古屋市\, 愛知県\, 458-0847\, 日本
CATEGORIES:スポーツ・健康
END:VEVENT
BEGIN:VEVENT
DTSTART;TZID=Asia/Tokyo:20230324T100000
DTEND;TZID=Asia/Tokyo:20230324T170000
DTSTAMP:20260424T090011
CREATED:20230209T212200Z
LAST-MODIFIED:20230410T063327Z
UID:1830-1679652000-1679677200@www.narupara.com
SUMMARY:50th Anniversary 大感謝祭
DESCRIPTION:鳴海プールでは「50th Anniversary 大感謝祭」として令和5年3月24日(金)、さまざまな企画が催されるようです。\n管理人も子どもの頃に緑プールとあわせて鳴海プールによく通いました。\n創立50周年おめでとうございます!! \n\n\n\nイベント案内-名古屋市鳴海プール名古屋市鳴海プールは１年中気軽に利用できる温水プールです。水遊びや、日々の体力づくりに！お子様同士でもお一人様でも、お気軽にご利用いただけます。水泳教室や講習会、楽しいイベントも定期的に開催！www.jpn-sports.com\n—–\n以下、ホームページから引用または抜粋\n—– \n\n\n\n50th Anniversary 大感謝祭\n鳴海プールは、創立50周年を迎えました。 この記念すべき50年という節目の年を迎えることができましたのも、これまで支えてきてくださったお客様、ご関係の皆様のおかげです。\n日頃の感謝の気持を込めまして、周年祭を開催いたします。多くの方のご参加お待ちしております。■水中撮影会：鳴海プールカメラにて撮影したのち写真をプレゼント(SNS投稿も可)\n■水上遊具：水上アスレチック/バブルプール体験\n■縁日：スーパーボールすくい、ヨーヨーつり\n■SDGsブース：ペットボトルキャップ1回収につき鳴海プールオリジナル品プレゼント(ヘアゴム、マーブルクレヨン、タオル等)\n■大抽選会：抽選券お持ちの方はガラガラ抽選に参加。景品がもらえます。(ハズレなし)\n\n\n受講コード\nー\n\n\n定員\n\n\n\n対象者\n■水中撮影会：20名\n■水上遊具：1部75名/2部75名\n■縁日：200名\n■SDGsブース：なし\n■大抽選会：なし\n\n\n日程\n令和5年3月24日（金）10：00～17：00\n※一般利用はできませんのでご了承ください。\n\n\n時間\n■水中撮影会：10：00～12：00\n■水上遊具\n1部13：00～14：45、2部15：00～16：45\n■縁日：10：00～17：00\n■SDGsブース：10：00～17：00\n■大抽選会：10：00～17：00\n\n\n参加費\n■水中撮影会： 1\,100円 (税込)\n■水上遊具：1\,100円(税込)\n■縁日：50円(税込)\n■SDGsブース：なし\n■大抽選会：なし\n\n\n会場\n鳴海プール温水プール、ロビー\n\n\n持ち物\n■水中撮影会：水着、水泳帽、タオル\n■水上遊具：水着、水泳帽、タオル\n■縁日：なし\n■SDGsブース：ペットボトルキャップ\n■大抽選会：抽選券\n\n\n申込期間\n■水中撮影会：令和5年2月27日(月)～窓口10：00～電話11：00～\n■水上遊具：令和5年2月27日(月)～窓口10：00～電話11：00～\n■縁日：当日\n■SDGsブース：当日\n■大抽選会：抽選券をお持ちの方のみ当日抽選に参加できます。\n\n\nその他\n【駐車場について】\n■第一駐車場：6台\n■第二駐車場：20台\n1回300円(税込)※30分以上の場合【注意事項】\n■ 参加中に撮影した写真を、当施設のブログや掲示板に使用することがあります。(掲載されることに支障がある方は事前にお申し出ください。 )\n■ 新型コロナウイルス感染症の影響によりイベントを急遽中止とさせていただく場合がございます。\n■ ご不明な点がございましたら鳴海プールへお問い合わせください。\n\n\nPDF資料\n【50th Anniversary 大感謝祭】 ダウンロード
URL:http://www.narupara.com/event/narumi-pool-narumi-50th-anniversary-grand-thanks-festival-20230324/
LOCATION:名古屋市鳴海プール\, 緑区浦里一丁目66\, 名古屋市\, 愛知県\, 458-0847\, 日本
CATEGORIES:スポーツ・健康
ATTACH;FMTTYPE=image/jpeg:http://www.narupara.com/cms/wp-content/uploads/2023/02/50th_narumi.jpg
END:VEVENT
BEGIN:VEVENT
DTSTART;TZID=Asia/Tokyo:20221009T130000
DTEND;TZID=Asia/Tokyo:20221009T150000
DTSTAMP:20260424T090011
CREATED:20220919T130223Z
LAST-MODIFIED:20220919T130223Z
UID:532-1665320400-1665327600@www.narupara.com
SUMMARY:SUP体験会
DESCRIPTION:鳴海プールではスポーティブライフ月間事業として令和4年10月9日(日)にパドルを漕いで水面を進んでいく新感覚アクティビティイベント「SUP体験会」を開催予定です。 \n\n\n—–\n以下、ホームページから引用または抜粋\n—– \nSUP体験会～スポーティブライフ月間事業～\nパドルを漕いで水面を進んでいく新感覚アクティビティイベント『SUP体験会』を行います。\n友達同士でも参加可能です。おもいっきりスポーツの秋を楽しもう!! \n\n\n\n\n\n\n受講コード\n―\n\n\n定員\n20名\n\n\n対象者\n小学生以上\n\n\n日程\n令和4年10月9日(日)\n\n\n時間\n13:00～15:00\n\n\n参加費\n500円 (税込)\n※ポイント利用可\n※別途施設利用料が必要\n\n\n会場\n鳴海プール 温水プール\n\n\n持ち物\n水着、水泳帽、タオル など ※必要であればゴーグル\n\n\n申込期間\n令和 4年 9月 5日 (月) 窓口申し込み:11:00 ～ 電話申し込み:12:00 ～ ※先着順申込\n\n\nその他\n■ 参加中に撮影した写真を、当施設のブログや掲示板に使用することがあります。(掲載されることに支障がある方は事前にお申し出ください。 )\n■ 新型コロナウイルス感染症の影響によりイベントを急遽中止とさせていただく場合がございます。\n■ ご不明な点がございましたら鳴海プールへお問い合わせください。\n\n\n\n\nイベント案内-名古屋市鳴海プール名古屋市鳴海プールは１年中気軽に利用できる温水プールです。水遊びや、日々の体力づくりに！お子様同士でもお一人様でも、お気軽にご利用いただけます。水泳教室や講習会、楽しいイベントも定期的に開催！www.jpn-sports.com
URL:http://www.narupara.com/event/20221009-narumi-pool-sup/
LOCATION:名古屋市鳴海プール\, 緑区浦里一丁目66\, 名古屋市\, 愛知県\, 458-0847\, 日本
CATEGORIES:スポーツ・健康
ATTACH;FMTTYPE=image/jpeg:http://www.narupara.com/cms/wp-content/uploads/2022/09/1009_sup_narumi.jpg
END:VEVENT
BEGIN:VEVENT
DTSTART;VALUE=DATE:20221001
DTEND;VALUE=DATE:20221101
DTSTAMP:20260424T090011
CREATED:20220918T132608Z
LAST-MODIFIED:20220919T125725Z
UID:507-1664582400-1667260799@www.narupara.com
SUMMARY:なるみ50thanniversary秋(2022/10/1～10/31)
DESCRIPTION:鳴海プールでは「なるみ50thanniversary秋」として令和4年10月1日から31日までの期間中、さまざまな企画が催されるようです。\n管理人も子どもの頃に緑プールとあわせて鳴海プールによく通いました。 \n\n\n[令和4年9月19日追記]\n日程などの情報がイベント案内ページで紹介されていますのでご確認ください。 \n\nイベント案内-名古屋市鳴海プール名古屋市鳴海プールは１年中気軽に利用できる温水プールです。水遊びや、日々の体力づくりに！お子様同士でもお一人様でも、お気軽にご利用いただけます。水泳教室や講習会、楽しいイベントも定期的に開催！www.jpn-sports.com\n—–\n以下、ホームページから引用または抜粋\n—– \n\n  目次\n    \n    ■かぼちゃ大作戦■タイム測定会■ワンコインワークショップ■いたずら大作戦■Instagramフォト撮影■Happyweek大作戦\n    \n  \n\n■かぼちゃ大作戦\n土日祝10：00～16：00\n幼児プールに大量のかぼちゃ！？おばけさんのいたずら… \n \n■タイム測定会\n平日10：00～15：00限定。スポーツの秋♪ \n \n■ワンコインワークショップ\n期間中10：00～15：00\nハロウィンボトルをつくろう♪ \n \n■いたずら大作戦\n期間中。キッズルームが大きなキャンパスに！！ \n \n■Instagramフォト撮影\n期間中。鳴海プールInstagramデビュー♪ \n \n■Happyweek大作戦\n10/24～10/31　小学生以下限定\nプールの後に魔法の言葉を受付スタッフに言ってね。ミニお菓子プレゼント☆\n※なくなり次第終了 \n\nなるみ50thanniversary秋 – スタッフブログwww.jpn-sports.com
URL:http://www.narupara.com/event/20220918-narumi-pool-narumi-50thanniversary-autumn/
LOCATION:名古屋市鳴海プール\, 緑区浦里一丁目66\, 名古屋市\, 愛知県\, 458-0847\, 日本
CATEGORIES:スポーツ・健康
ATTACH;FMTTYPE=image/jpeg:http://www.narupara.com/cms/wp-content/uploads/2022/09/IMG_8317-300x3001-1.jpg
END:VEVENT
END:VCALENDAR