BEGIN:VCALENDAR
VERSION:2.0
PRODID:-//なるぱら - ECPv5.16.4//NONSGML v1.0//EN
CALSCALE:GREGORIAN
METHOD:PUBLISH
X-WR-CALNAME:なるぱら
X-ORIGINAL-URL:http://www.narupara.com
X-WR-CALDESC:Events for なるぱら
REFRESH-INTERVAL;VALUE=DURATION:PT1H
X-Robots-Tag:noindex
X-PUBLISHED-TTL:PT1H
BEGIN:VTIMEZONE
TZID:Asia/Tokyo
BEGIN:STANDARD
TZOFFSETFROM:+0900
TZOFFSETTO:+0900
TZNAME:JST
DTSTART:20230101T000000
END:STANDARD
END:VTIMEZONE
BEGIN:VEVENT
DTSTART;VALUE=DATE:20230701
DTEND;VALUE=DATE:20230925
DTSTAMP:20260426T053804
CREATED:20230702T065720Z
LAST-MODIFIED:20230702T065720Z
UID:3926-1688169600-1695599999@www.narupara.com
SUMMARY:名古屋市見晴台考古資料館 「緑区の遺跡」展
DESCRIPTION:展示期間　7月1日から9月24日\n緑区の遺跡から出土した弥生土器、銅釧(どうくしろ)、古代瓦、須恵器、灰釉陶器などを紹介します。 \n\n名古屋市見晴台考古資料館　施設案内｜名古屋市公式ウェブサイト名古屋市見晴台考古資料館についてのご案内www.city.nagoya.jp\n開館時間\n\n午前9時15分から午後5時 \n\n入館料\n\n無料 \n\n休館日\n\n毎週月曜日(休日にあたるときはその翌平日)\n毎月第4火曜日(休日を除く)\n年末年始(12月29日から1月3日) \n\n所在地\n\n郵便番号457-0026　名古屋市南区見晴町47 \n電話番号 052-823-3200 \nファックス番号 052-823-3223 \n\n交通案内\n\n名鉄電車「本笠寺」下車　東へ徒歩10分\n地下鉄「鶴里」下車　南西へ徒歩15分\n市バス「笠寺西門」下車　東へ徒歩7分\n「弥生町」下車　西へ徒歩7分 \n\n駐車場\n\n\n21台(うち1台は身障者用)・無料\nご利用は資料館見学時間にかぎります。\n開館時間以外は施錠しますので、車両の出入はできません。
URL:http://www.narupara.com/event/20230701to0924-miharasidai/
LOCATION:愛知県
CATEGORIES:教養・実用・講座
END:VEVENT
BEGIN:VEVENT
DTSTART;VALUE=DATE:20230701
DTEND;VALUE=DATE:20231101
DTSTAMP:20260426T053804
CREATED:20230714T131438Z
LAST-MODIFIED:20230714T131438Z
UID:4057-1688169600-1698796799@www.narupara.com
SUMMARY:みどりく・おいしく・わくわく あ! ぐりーんスタンプラリー -緑区の新鮮! おいしい! を探しに行こう!-(2023/7/1～10/31)
DESCRIPTION:みどりく・おいしく・わくわく あ! ぐりーんスタンプラリー -緑区の新鮮! おいしい! を探しに行こう!- \n\nERROR: The request could not be satisfiedwww.city.nagoya.jp\n「あ! ぐりーん」とは、agriculture(アグリカルチャー=農業)とgreen(グリーン=緑)を合わせた造語です。 \n地元産の新鮮な農産物を知っていただくことを目的として、例年開催している地産地消スタンプラリーが、区制60周年の今年、「あ!ぐりーんスタンプラリー」に生まれ変わりました。区内の直売所などの参加協力店を利用し、スタンプを集めて応募すると、すてきな景品が抽選で当たります。ぜひご応募ください。\n(注)詳細は応募はがき付きマップをご覧ください。(参加協力店で入手できるほか、区ウェブサイトからもダウンロードできます。) \n開催期間:7月1日(土曜日)から10月31日(火曜日) \n応募方法:\nステップ(1)参加協力店を利用し、応募はがきにスタンプを押してもらう\nステップ(2)2か所以上のスタンプを集めた応募はがきを郵送または応募箱に投函 \n景品:抽選で50人にお米や野菜などをプレゼント!さらに抽選で60人に区制60周年を記念して、3月にあいちの伝統野菜に選定された「徳重だいこん」の種が当たります。また、参加賞として、応募者全員に「大高菜」の種を進呈します。 \n問い合わせ先:\n緑区役所東部・緑農政課(2階24番窓口) 電話番号 052-625-3932 ファクス番号 052-623-8191 \n\nERROR: The request could not be satisfiedwww.city.nagoya.jp
URL:http://www.narupara.com/event/ah-gurin-stamp-rally-20230701to1031/
LOCATION:愛知県
CATEGORIES:レジャー,教養・実用・講座,自然・環境
END:VEVENT
BEGIN:VEVENT
DTSTART;VALUE=DATE:20230805
DTEND;VALUE=DATE:20231221
DTSTAMP:20260426T053804
CREATED:20230802T223841Z
LAST-MODIFIED:20230802T223955Z
UID:4182-1691193600-1703116799@www.narupara.com
SUMMARY:WE LOVE MIDORI
DESCRIPTION:区制 60 周年を記念し、緑区の魅力を紹介する特別展示を緑区内のギャラリーとの共催により開催します。\n緑区内の”とっておきなスポットやシーン”を、緑区マスコットキャラクター「みどりっち」と一緒に散歩をしているように鑑賞していただける展示です。\nまた、8 月 9 日(水)の「野球の日」には、来場者と「みどりっち」とのグリーティングや写真撮影を行う企画もありますので、ぜひ取材いただきますようお願いいたします。 \n【写真展概要】\n内容\n2020 年・2021 年に開催された「緑区フォトコンテスト」受賞作品を中心に構成。\nシーンをつなぎ合わせ、巨大パネルの「みどりっち」と一緒に区内を歩いているイメージで展示します。 \n期間\n令和5年8月5日(土)～12月20日(水) \n時間\n月～金曜日(祝日を除く)\n午前 10:00～午後 11:00\n土曜・日曜・祝日\n8～10 月 午前 8:00～午後 11:00\n11・12 月 午前 9:00～午後 11:00 \n会場\nGROWING SPACE(名古屋市緑区鳴海町字杜若 92 番地) \n主催\n株式会社マルエ(GROWING SPACE 運営会社) \n共催\n緑区役所、緑区観光推進協議会 \n【野球の日について】\n会場がバッティングセンターと併設されているため、「野(8)球(9)の日」と題して、「160km/h マシンが登場!」や「小学生以下のこども 30 球無料!(緑区在住の方はさらに特典あり)」が行われます。 \n緑区観光推進協議会とは\n区内の商工会・市民団体・区役所などが協力しあい、緑区の特色ある観光資源を活用し、きめ細かな「おもてなしの心」にあふれ、ゆったりとした観光を味わってもらおうと、平成22 年(2010 年)に設立されました。 \n \n\nERROR: The request could not be satisfiedwww.city.nagoya.jp
URL:http://www.narupara.com/event/20230805to1220-we-love-midori/
LOCATION:愛知県
CATEGORIES:レジャー,文化・芸術
END:VEVENT
BEGIN:VEVENT
DTSTART;VALUE=DATE:20230911
DTEND;VALUE=DATE:20231013
DTSTAMP:20260426T053804
CREATED:20230409T022238Z
LAST-MODIFIED:20230409T022238Z
UID:2641-1694390400-1697155199@www.narupara.com
SUMMARY:名古屋市会 令和5年度 9月定例会
DESCRIPTION:名古屋市会 令和5年9月定例会は 令和5年9月11日(月曜日)から10月12日(木曜日)、32日間の日程です \n\n\n\n年間スケジュール｜名古屋市公式ウェブサイト名古屋市公式ウェブサイトwww.city.nagoya.jp\n中継で視聴できます\n名古屋市会の本会議・委員会は生中継および録画中継で視聴することができます。 \n\n名古屋市会　議会中継名古屋市会の議会中継システムを提供しています。nagoya.gijiroku.com\n名古屋市緑区選出 名古屋市会議員(令和5年4月11日現在 五十音順)\n岩本たかひろ \n\n名古屋市会議員 岩本たかひろ名古屋市会議員 岩本たかひろの公式ウェブサイトです。緑区選出、自由民主党に所属しています。議員の責務である市政の課題解決への取り組みや日々の活動報告をお伝えしています。www.iwamoto-takahiro.jp\n大谷ともひろ \n\n大谷 智洋大谷 智洋 - 「いいね！」955件 · 1人が話題にしています - 『魅せる政治』へ 「分かりにくい・難しい政治から、 親しみやすい・参加できる政治へ！」 をモットーに、誰もが『魅力』を感じられる政治へ 変えていきたいと思っています。 政...www.facebook.com\n岡本やすひろ \n\n岡本やすひろオフィシャルサイト | 名古屋市会議員（緑区）名古屋市会議員（緑区）「岡本やすひろ」の公式サイトです。名古屋市緑区に対する思いや、市政への考え方、経歴などを掲載しています。okapon.nagoya\n近藤かずひろ \n\n公明党名古屋市会議員　近藤かずひろ～一人ひとりを大切にする市政を目指して～www.komei.or.jp\n永井ゆり \n\n永井 ゆり永井 ゆり - 「いいね！」741件 · 2人が話題にしています - 10歳と4歳の娘を育てながら、仕事に家事に育児に奮闘中。中小企業様のため、子ども達の未来のため、働く女性のため、障がい者雇用拡大のため、前進あるのみ。健康第一でがんばりま...www.facebook.com\n中里高之 \n\n中里高之オフィシャルホームページ毎日全力投球、名古屋市会議員　中里高之のオフィシャルホームページnakazato-nzp.jp\nみつなか美由紀 \n\n満仲 美由紀満仲 美由紀さんはFacebookを利用しています。Facebookに登録して、満仲 美由紀さんや他の知り合いと交流しましょう。Facebookは、人々が簡単に情報をシェアできる、オープンでつながりのある世界の構築をお手伝いします。www.facebook.com
URL:http://www.narupara.com/event/nagoya-city-assembly-september-2023-regular-meeting/
LOCATION:愛知県
CATEGORIES:議会
ATTACH;FMTTYPE=image/jpeg:http://www.narupara.com/cms/wp-content/uploads/2022/09/C87T42271.jpg
END:VEVENT
BEGIN:VEVENT
DTSTART;VALUE=DATE:20230916
DTEND;VALUE=DATE:20231016
DTSTAMP:20260426T053804
CREATED:20230914T205833Z
LAST-MODIFIED:20230914T205903Z
UID:4651-1694822400-1697414399@www.narupara.com
SUMMARY:徳重図書館 「大島洋平選手に「2000本安打達成お祝いメッセージ」を贈ろう!」≪開催日:9月16日(土)から10月15日(日)≫
DESCRIPTION:徳重図書館 「大島洋平選手に「2000本安打達成お祝いメッセージ」を贈ろう!」\n開催期間:9月16日(土)から10月15日(日) \n徳重図書館では、大島洋平選手に「2000本安打達成お祝いメッセージ」を贈ります。 \n緑区出身の中日ドラゴンズ・大島洋平選手にお祝いのメッセージを皆さんから寄せていただき、図書館でファイルにまとめ、後日中日ドラゴンズにファンレターとして贈ります。\nメッセージは文章でもイラストでも構いません。皆様のお祝いの気持ちを、届けます! \n募集期間:2023年9月16日(土曜日)から10月15日(日曜日)\n応募方法:徳重図書館で配布するシートにメッセージを書き、特設コーナーに設置したポストに投函\nお問合せ:名古屋市徳重図書館 TEL:052-878-2234 FAX:052-878-3681\nその他:いただいたメッセージはお返しできません。 \n\n名古屋市図書館ホームページ徳重図書館　「大島洋平選手に「2000本安打達成お祝いメッセージ」を贈ろう！」≪開催日：9月16日（土）から10月15日（日）≫www.library.city.nagoya.jp
URL:http://www.narupara.com/event/tokushige-library-20230916to1015/
LOCATION:名古屋市徳重図書館\, 緑区元徳重一丁目401番地\, 名古屋市\, 愛知県\, 458-0852\, 日本
CATEGORIES:教養・実用・講座
ATTACH;FMTTYPE=image/jpeg:http://www.narupara.com/cms/wp-content/uploads/2023/09/img22_202309_2_1.jpg
END:VEVENT
BEGIN:VEVENT
DTSTART;TZID=Asia/Tokyo:20230924T093000
DTEND;TZID=Asia/Tokyo:20230924T113000
DTSTAMP:20260426T053804
CREATED:20230714T131807Z
LAST-MODIFIED:20230714T131807Z
UID:4059-1695547800-1695555000@www.narupara.com
SUMMARY:自然を感じる散策会
DESCRIPTION:自然を感じる散策会 \n緑区には、今も豊かな緑が息づいています。身近な池や緑地を訪ねて、市街地の中に残る自然を感じてみませんか。 \n日時:9月24日(日曜日)午前9時30分から午前11時30分\n集合:鳴子北駅2番出口地上付近 解散:神沢南公園\n対象:先着20人 \n講師:緑区ルネッサンスフォーラム \n申し込み:7月11日(火曜日)午前8時45分から緑区観光推進協議会事務局窓口か電話にて \n問い合わせ先:緑区観光推進協議会事務局(区役所地域力推進室 3階34番窓口)電話番号 052-625-3874 ファクス番号 052-623-8191 \n\nERROR: The request could not be satisfiedwww.city.nagoya.jp
URL:http://www.narupara.com/event/20230924-nature-walks/
LOCATION:愛知県
CATEGORIES:レジャー,自然・環境
END:VEVENT
BEGIN:VEVENT
DTSTART;TZID=Asia/Tokyo:20230924T100000
DTEND;TZID=Asia/Tokyo:20230924T120000
DTSTAMP:20260426T053804
CREATED:20230909T204803Z
LAST-MODIFIED:20230909T204803Z
UID:4601-1695549600-1695556800@www.narupara.com
SUMMARY:ハロウィンの飾り シュロでホーキとリース作り!(事前申し込み・先着順)
DESCRIPTION:県営大高緑地(大高緑地公園)のホームページで令和5年9月24日(日)に「ハロウィンの飾り シュロでホーキとリース作り!」が開催されるお知らせが発表されました。開催時間は10時から。先着順で参加者も募集中。参加費500円が必要です。 \n詳しくは発表掲載ページをご覧ください。 \n\n\nこのはな倶楽部の8月の講習会です。\n身近な苔を使って素敵インテリアを作りましょう。\n\n\nページが見つかりませんでした | おでかけナビ・名古屋と愛知の公園であそぼう！www.aichi-koen.com\n\n\n\nこのはな倶楽部9月イベントです。10月31日はハロウィンです。 \nこの講習会で飾りを作って、お部屋に飾り、ハロウィンを迎えましょう。
URL:http://www.narupara.com/event/20230924-odaka-green-park/
LOCATION:県営大高緑地(大高緑地公園)\, 緑区大高町高山1-1\, 名古屋市\, 愛知県\, 459-8801\, 日本
CATEGORIES:教養・実用・講座
ATTACH;FMTTYPE=image/jpeg:http://www.narupara.com/cms/wp-content/uploads/2023/09/E38193E381AEE381AFE381AAEFBC99E69C88-1.jpg
END:VEVENT
BEGIN:VEVENT
DTSTART;TZID=Asia/Tokyo:20230924T100000
DTEND;TZID=Asia/Tokyo:20230924T170000
DTSTAMP:20260426T053804
CREATED:20230916T023541Z
LAST-MODIFIED:20230916T023541Z
UID:4726-1695549600-1695574800@www.narupara.com
SUMMARY:鳴海ここよい祭り2023
DESCRIPTION:4年ぶりに開催!! \n鳴海ここよい祭り \n2023年『鳴海ここよい祭り』は、地域の皆様のご協力の元 今年も開催されます。 \n誠に有難うございます。 \n場所も心機一転\n鳴海駅北側の社会実証地区を利用して、ステージや子供縁日やキッチンカーなど楽しいイベント盛りだくさんで開催いたします。 \n当日 お越しの際は、近隣の解放されているコインパーキングをご利用頂くか 公共の交通機関をご利用ください。 \n【天候について】\n※小雨は開催を予定しておりますが天候により中止を決定する際は 本facebookページにてご報告致します。\n※天候によりるプログラムに変更がある場合もございます。ご了承下さい。 \n\n404 Not Found | 名古屋市交通局www.kotsu.city.nagoya.jp\n\nブラウザーをアップデートしてくださいwww.facebook.com
URL:http://www.narupara.com/event/20230924-narumi-kokoyoi/
LOCATION:愛知県
CATEGORIES:レジャー,文化・芸術
ATTACH;FMTTYPE=image/jpeg:http://www.narupara.com/cms/wp-content/uploads/2023/09/20230924-narumi-kokoyoi.jpg
END:VEVENT
BEGIN:VEVENT
DTSTART;TZID=Asia/Tokyo:20230924T130000
DTEND;TZID=Asia/Tokyo:20230924T180000
DTSTAMP:20260426T053804
CREATED:20230901T212503Z
LAST-MODIFIED:20230901T212953Z
UID:4466-1695560400-1695578400@www.narupara.com
SUMMARY:ピアノ発表会 @緑文化小劇場
DESCRIPTION:関係者のみ
URL:http://www.narupara.com/event/%e3%83%94%e3%82%a2%e3%83%8e%e7%99%ba%e8%a1%a8%e4%bc%9a-%e7%b7%91%e6%96%87%e5%8c%96%e5%b0%8f%e5%8a%87%e5%a0%b4-2/
LOCATION:愛知県
CATEGORIES:文化・芸術
END:VEVENT
BEGIN:VEVENT
DTSTART;TZID=Asia/Tokyo:20230924T193000
DTEND;TZID=Asia/Tokyo:20230924T230000
DTSTAMP:20260426T053804
CREATED:20230902T210830Z
LAST-MODIFIED:20230902T211347Z
UID:4504-1695583800-1695596400@www.narupara.com
SUMMARY:アラン・プーサン ライブ(Allan Poohsan LIVE)
DESCRIPTION:★Nora(ノラ)//
URL:http://www.narupara.com/event/%e3%82%a2%e3%83%a9%e3%83%b3%e3%83%bb%e3%83%97%e3%83%bc%e3%82%b5%e3%83%b3-%e3%83%a9%e3%82%a4%e3%83%96allan-poohsan-live-137/
LOCATION:愛知県
CATEGORIES:レジャー,文化・芸術
END:VEVENT
BEGIN:VEVENT
DTSTART;TZID=Asia/Tokyo:20230924T230000
DTEND;TZID=Asia/Tokyo:20230925T080000
DTSTAMP:20260426T053804
CREATED:20230908T212341Z
LAST-MODIFIED:20230908T212341Z
UID:4580-1695596400-1695628800@www.narupara.com
SUMMARY:名古屋市図書館 電子書籍サービス一時停止(23:00～8:00予定)
DESCRIPTION:名古屋市図書館 電子書籍サービスの一時停止のお知らせ《実施日:9月24日(日)から25日(月)》 \n名古屋市図書館 電子書籍サービスが、2023年9月24日(日曜日)午後11時から25日(月曜日)午前8時までの間、メンテナンスのためご利用いただけません。。\nご利用の皆さまにはご迷惑をおかけしますが、なにとぞご了承のほど、お願い申し上げます。 \n【お問合せ先】\n名古屋市鶴舞中央図書館 整理課 情報システム係\nTEL:052-741-3198 FAX:052-733-6337 \n\n名古屋市図書館ホームページ名古屋市図書館　電子書籍サービスの一時停止のお知らせ《実施日：9月24日（日）から25日（月）》www.library.city.nagoya.jp
URL:http://www.narupara.com/event/2023024-library-city-nagoya-jp/
LOCATION:愛知県
CATEGORIES:教養・実用・講座
END:VEVENT
END:VCALENDAR