BEGIN:VCALENDAR
VERSION:2.0
PRODID:-//なるぱら - ECPv5.16.4//NONSGML v1.0//EN
CALSCALE:GREGORIAN
METHOD:PUBLISH
X-WR-CALNAME:なるぱら
X-ORIGINAL-URL:http://www.narupara.com
X-WR-CALDESC:Events for なるぱら
REFRESH-INTERVAL;VALUE=DURATION:PT1H
X-Robots-Tag:noindex
X-PUBLISHED-TTL:PT1H
BEGIN:VTIMEZONE
TZID:Asia/Tokyo
BEGIN:STANDARD
TZOFFSETFROM:+0900
TZOFFSETTO:+0900
TZNAME:JST
DTSTART:20230101T000000
END:STANDARD
END:VTIMEZONE
BEGIN:VEVENT
DTSTART;VALUE=DATE:20230805
DTEND;VALUE=DATE:20231221
DTSTAMP:20260426T071434
CREATED:20230802T223841Z
LAST-MODIFIED:20230802T223955Z
UID:4182-1691193600-1703116799@www.narupara.com
SUMMARY:WE LOVE MIDORI
DESCRIPTION:区制 60 周年を記念し、緑区の魅力を紹介する特別展示を緑区内のギャラリーとの共催により開催します。\n緑区内の”とっておきなスポットやシーン”を、緑区マスコットキャラクター「みどりっち」と一緒に散歩をしているように鑑賞していただける展示です。\nまた、8 月 9 日(水)の「野球の日」には、来場者と「みどりっち」とのグリーティングや写真撮影を行う企画もありますので、ぜひ取材いただきますようお願いいたします。 \n【写真展概要】\n内容\n2020 年・2021 年に開催された「緑区フォトコンテスト」受賞作品を中心に構成。\nシーンをつなぎ合わせ、巨大パネルの「みどりっち」と一緒に区内を歩いているイメージで展示します。 \n期間\n令和5年8月5日(土)～12月20日(水) \n時間\n月～金曜日(祝日を除く)\n午前 10:00～午後 11:00\n土曜・日曜・祝日\n8～10 月 午前 8:00～午後 11:00\n11・12 月 午前 9:00～午後 11:00 \n会場\nGROWING SPACE(名古屋市緑区鳴海町字杜若 92 番地) \n主催\n株式会社マルエ(GROWING SPACE 運営会社) \n共催\n緑区役所、緑区観光推進協議会 \n【野球の日について】\n会場がバッティングセンターと併設されているため、「野(8)球(9)の日」と題して、「160km/h マシンが登場!」や「小学生以下のこども 30 球無料!(緑区在住の方はさらに特典あり)」が行われます。 \n緑区観光推進協議会とは\n区内の商工会・市民団体・区役所などが協力しあい、緑区の特色ある観光資源を活用し、きめ細かな「おもてなしの心」にあふれ、ゆったりとした観光を味わってもらおうと、平成22 年(2010 年)に設立されました。 \n \n\nERROR: The request could not be satisfiedwww.city.nagoya.jp
URL:http://www.narupara.com/event/20230805to1220-we-love-midori/
LOCATION:愛知県
CATEGORIES:レジャー,文化・芸術
END:VEVENT
BEGIN:VEVENT
DTSTART;VALUE=DATE:20231011
DTEND;VALUE=DATE:20231229
DTSTAMP:20260426T071434
CREATED:20231015T002020Z
LAST-MODIFIED:20231015T002020Z
UID:5217-1696982400-1703807999@www.narupara.com
SUMMARY:緑福祉会館 新規利用キャンペーン
DESCRIPTION:新規利用キャンペーン\n期間:10月11日(水曜日)から12月28日(木曜日)\n(注)「福祉会館めぐり」と同時開催。 \n内容:期間中、緑区内在住で新たに利用証を作られた方へ特典をプレゼント。手作りマスク・つまようじ入れ・ミニボトル・大高菜の種を進呈(なくなり次第終了)
URL:http://www.narupara.com/event/20231027-new-usage-campaign/
LOCATION:名古屋市緑福祉会館\, 緑区相原郷二丁目701番地\, 名古屋市\, 愛知県\, 458-0033\, 日本
CATEGORIES:教養・実用・講座
END:VEVENT
BEGIN:VEVENT
DTSTART;VALUE=DATE:20231109
DTEND;VALUE=DATE:20231228
DTSTAMP:20260426T071434
CREATED:20231108T205453Z
LAST-MODIFIED:20231108T205453Z
UID:5544-1699488000-1703721599@www.narupara.com
SUMMARY:わたしの日本遺産ありまつ 写真投稿キャンペーン開催(2023/11/1～12/27)
DESCRIPTION:写真投稿キャンペーン わたしの日本遺産 ありまつ 愛知県 有松の新たな魅力を発見\n愛知県名古屋市緑区、Instagram有松の写真投稿キャンペーン 2023年11月1日から12月27日まで \n有松・鳴海絞会館のフォロー と 有松・鳴海絞会館タグ付け &ハッシュタグ「#日本遺産ありまつ」をつけて投稿しよう!\n有松・鳴海絞会館での提示で粗品をプレゼント+さらに抽選で名古屋の特産品をプレゼント! \n\nhttps://arimatsu-nihonisan.com/arimatsu-nihonisan.com
URL:http://www.narupara.com/event/20231101to1227-arimatsu-nihonisan/
LOCATION:旧東海道有松界隈\, 緑区\, 名古屋市\, 愛知県\, 458-0924\, 日本
CATEGORIES:レジャー,散策・まち歩き
ATTACH;FMTTYPE=image/png:http://www.narupara.com/cms/wp-content/uploads/2023/11/toptbsmimg.png
END:VEVENT
BEGIN:VEVENT
DTSTART;VALUE=DATE:20231118
DTEND;VALUE=DATE:20231215
DTSTAMP:20260426T071434
CREATED:20231118T204624Z
LAST-MODIFIED:20231118T204624Z
UID:5788-1700265600-1702598399@www.narupara.com
SUMMARY:徳重図書館 「みんなでぬくぬくあそびましょ」≪展示期間:11月18日(土)から12月14日(木)≫
DESCRIPTION:徳重図書館 「みんなでぬくぬくあそびましょ」 \n展示期間:2023年11月18日(土曜日)から12月14日(木曜日) \n子どもたちの冬休み前に、お部屋のなかでのあそびを図書館から紹介します。\n長期休みの子どもたちに、あそびの腕前を披露してみては? \n■ 主な展示資料 ■ \n\n\n\nNo.\n書名\n著者名\n出版者\n出版年\n分類\nコメント\n\n\n\n\n1\nちいさなモール遊び\n\n雄鶏社\n2008\n5949\n誰でも簡単に作れる、モール遊びの本。動物やお花など、様々なモチーフを紹介しています。\n\n\n2\nおばけのこままわしたいかい\n西平あかね／さく\n福音館書店\n2023\nｴ\nおばけのこままわしたいかいに参加することになったたろう。おばけたちは変わったこまを使っていて・・・。\n\n\n3\nしりとりボクシング\n新井けいこ／作\n小峰書店\n2017\n9136\n学年行事でしりとり大会をすることになり、特訓をすることに。あなたもしりとりが強くなれるかも。\n\n\n\n\n名古屋市図書館ホームページ徳重図書館　「みんなでぬくぬくあそびましょ」≪展示期間：11月18日（土）から12月14日（木）≫www.library.city.nagoya.jp
URL:http://www.narupara.com/event/tokushige-library-20231118to1214/
LOCATION:名古屋市徳重図書館\, 緑区元徳重一丁目401番地\, 名古屋市\, 愛知県\, 458-0852\, 日本
CATEGORIES:教養・実用・講座
ATTACH;FMTTYPE=image/jpeg:http://www.narupara.com/cms/wp-content/uploads/2023/11/img22_202311_2_1.jpg
END:VEVENT
BEGIN:VEVENT
DTSTART;VALUE=DATE:20231207
DTEND;VALUE=DATE:20231213
DTSTAMP:20260426T071434
CREATED:20231201T203339Z
LAST-MODIFIED:20231201T203339Z
UID:5979-1701907200-1702425599@www.narupara.com
SUMMARY:カラフル大福の販売(2023/12/7～12/12)
DESCRIPTION:イオンタウン有松HPで令和5年12月7日(木)から12月12日(火)までの期間開催される「カラフル大福の販売」の情報が発表されました。 \n\n\n\n\nカラフル大福の販売\n開催期間:2023.12.07～2023.12.12\n時間:10時～20時\n場所:2階 ラメール前 \n \n\nイオンタウン有松イオンタウン有松の公式サイトです。ショップ情報、イベント情報、施設情報などを掲載しています。イオンタウンは、「地域とのつながり」を創造し、お客さまの日常に新たな発見を提供し続けます。皆さまのご来店をお待ちしております。www.aeontown.co.jp
URL:http://www.narupara.com/event/aeontown-arimatsu-20231207to1212/
LOCATION:イオンタウン有松\, 緑区鳴海町有松裏200番地\, 名古屋市\, 愛知県\, 458-0852458-0824\, 日本
CATEGORIES:レジャー
ATTACH;FMTTYPE=image/jpeg:http://www.narupara.com/cms/wp-content/uploads/2022/09/aeontown-arimatsu.jpg
END:VEVENT
BEGIN:VEVENT
DTSTART;VALUE=DATE:20231209
DTEND;VALUE=DATE:20231211
DTSTAMP:20260426T071434
CREATED:20231201T203147Z
LAST-MODIFIED:20231201T203147Z
UID:5978-1702080000-1702252799@www.narupara.com
SUMMARY:米粉ワッフル専門店 こがね屋(2023/12/9～12/10)
DESCRIPTION:イオンタウン有松HPで令和5年12月9日(土)から12月10日(日)までの期間開催される「米粉ワッフル専門店 こがね屋」の情報が発表されました。 \n\n\n\n\n米粉ワッフル専門店 こがね屋\n開催期間:2023.12.09～2023.12.10\n時間:10時～20時\n場所:2階 ラメール前 \n \n\nイオンタウン有松イオンタウン有松の公式サイトです。ショップ情報、イベント情報、施設情報などを掲載しています。イオンタウンは、「地域とのつながり」を創造し、お客さまの日常に新たな発見を提供し続けます。皆さまのご来店をお待ちしております。www.aeontown.co.jp
URL:http://www.narupara.com/event/aeontown-arimatsu-20231209to1210/
LOCATION:イオンタウン有松\, 緑区鳴海町有松裏200番地\, 名古屋市\, 愛知県\, 458-0852458-0824\, 日本
CATEGORIES:レジャー
ATTACH;FMTTYPE=image/jpeg:http://www.narupara.com/cms/wp-content/uploads/2022/09/aeontown-arimatsu.jpg
END:VEVENT
BEGIN:VEVENT
DTSTART;TZID=Asia/Tokyo:20231210T095500
DTEND;TZID=Asia/Tokyo:20231210T114000
DTSTAMP:20260426T071434
CREATED:20231208T201743Z
LAST-MODIFIED:20231208T201743Z
UID:6067-1702202100-1702208400@www.narupara.com
SUMMARY:放送中[中京]大とくさん 大行列!!並んだ先には一体何が!?驚きの真実7連発!!
DESCRIPTION:超人気!!ナゴヤのココに大行列!なぜ並ぶ!?調査7連発★緑区豪華すぎ海鮮丼⇒まさかの1000円!伏見に3時間待ち!?バズりおにぎりランチ?名古屋上陸パン新店とは!? \n愛知で見つけた大行列!並んだ先には一体何が!?緑区で見つけた行列にボイメン辻本が潜入!待つこと1時間でも納得の豪華&コスパ最強海鮮丼とご対面!そのお味とは? \n\n放送が終了しています - Gガイド.テレビ王国\n「ぐ～たくさん【市場の達人】お勧め!!年末年始に行かなきゃ損な超お買い物情報ＳＰ」の番組詳細。東海３県で今アツいこと＆盛り上がっていることがあっという間にわかる！番組独自の目線で情報を深掘りし、鮮度抜群とれたてでお届けする１０５分生放送の情...www.tvkingdom.jp\n\n前略、大とくさん9月29日をもって『前略、大とくさん』は終了致しました。長い間、ご視聴頂きありがとうございました！www.ctv.co.jp\nTweets by daitokuojisan \n\nInstagramwww.instagram.com\n\n前略、大とくさん9月29日をもって『前略、大とくさん』は終了致しました。長い間、ご視聴頂きありがとうございました！www.ctv.co.jp
URL:http://www.narupara.com/event/20231209-0955to1140/
LOCATION:愛知県
ATTACH;FMTTYPE=image/jpeg:http://www.narupara.com/cms/wp-content/uploads/2023/12/2c97435b14df4b25b3475eca5ce16752.jpg
END:VEVENT
BEGIN:VEVENT
DTSTART;TZID=Asia/Tokyo:20231210T100000
DTEND;TZID=Asia/Tokyo:20231210T160000
DTSTAMP:20260426T071434
CREATED:20231110T210014Z
LAST-MODIFIED:20231110T210014Z
UID:5614-1702202400-1702224000@www.narupara.com
SUMMARY:親子防災イベント「あそぼうさい まなぼうさい」
DESCRIPTION:親子防災イベント「あそぼうさい まなぼうさい」 \n楽しく体験!ご家庭での備えを話し合うきっかけにも! \n日時:12月10(日曜日) 午前10時から午後4時\n会場:ヒルズウォーク徳重ガーデンズ 地下1階ウォークコート \n内容:\n地震の揺れを体験しよう\n非常食を食べてみよう\n自転車発電でスマホを充電してみよう \n問い合わせ先:緑区役所総務課 電話番号 052-625-3906 ファクス番号 052-623-8191
URL:http://www.narupara.com/event/20231210-parent-child-disaster-prevention-event/
LOCATION:ヒルズウォーク徳重ガーデンズ\, 緑区元徳重一丁目505番地\, 名古屋市\, 愛知県\, 458-0852\, 日本
CATEGORIES:教養・実用・講座
END:VEVENT
BEGIN:VEVENT
DTSTART;TZID=Asia/Tokyo:20231210T110000
DTEND;TZID=Asia/Tokyo:20231210T143000
DTSTAMP:20260426T071434
CREATED:20231209T200017Z
LAST-MODIFIED:20231209T200017Z
UID:6103-1702206000-1702218600@www.narupara.com
SUMMARY:サンシャイン池崎 お笑いステージ!
DESCRIPTION:イオンモール大高のホームページに令和5年12月10日(日)に開催予定のサンシャイン池崎 お笑いステージ!のお知らせが掲載されました。\n場所は1F グリーンコート\n出演はサンシャイン池崎\n詳しくは発表掲載ページをご覧ください。 \n\n\n\nイオンモール大高イオンモール大高は「イオン大高店」を核店舗に、ファッション、飲食、サービスなどの専門店で構成されたモールです。odaka-aeonmall.com\n\nサンシャイン池崎 お笑いステージ!\n日 程 12月10日(日) \n＼参 加 無 料/\n時 間\n(1) 11:00～ (2) 14:00～(各回30分ショー) \n各回 70組さま(先着 140組さま/1組4名さま)\n※当日は整理券を配布致します。 \n場 所\n1F グリーンコート \n【整理券配布について】\n各回の整理券を朝9:30より「レストラン北入口/館外」にて配布いたします。\n「イベント参加券」 各回 先着70組さま×2回(合計140組さま) \n※全ての回の整理券を9:30～配布、無くなり次第終了いたします。\n(整理券が余った場合は列が途切れ次第もしくは10:15分ごろをめどにて1F グリーンコートにて配布いたします)\n※お並びいただいた順に各回の整理券をお選びいただけます。\n※お並び1名(1組)につき1枚整理券をお渡しします。整理券1枚につき1～4名程入場できる観覧エリアにご案内いたします。\n※整理券の紛失、破損等いかなる場合があったとしても再発行はいたしません。慎重に保管等お願いいたします。\n※天候・混雑状況によっては整理券配布時間が前後する場合がございます。\n※整理券の配布状況は変動するため、電話でのお答えをする事はできかねます。ご了承くださいませ。\n※会場へのお問い合わせはご遠慮くださいませ。 \n【観覧について】\n※会場の入場前には整理券をスタッフがご確認いたします。確認できない場合入場をお断りする可能性がございます。整理券は慎重に保管等お願いいたします。\n※観覧につきましては会場のシートでの観覧となります。観覧エリアでの椅子など備品の持ち込みは出来かねます。ご用意したシートにお座りください。\n※事前予約・電話予約などでの場所取りは一切いたしません。ご了承ください。\n※場所取りにてご使用になったご持参品の紛失は一切の責任を負いかねます。ご了承ください。\n※場所取りする場合は観覧される人数分のみとさせていただきます。\n※場所取りされた方は、整理券の表記時間の30分前には必ずお席にお戻りください。お戻りが確認できない場合、スタッフの方でご持参品を回収させていただきます。その際の紛失、破損に関しましては、会場、運営スタッフは一切の責任を負いかねます。ご了承ください。\n※会場に戻られた際は、開演前までに場所取りでご使用になられたご持参品は速やかにカバンなどにしまってご観覧ください。\n※シート上で空いているスペースがございましたら、詰めていただくお願いもしくは、他のお客様をご案内いたします。お客様同士の距離は詰めてご観覧の程お願いいたします。\n※観覧に際し、施設のカートは一旦お近くの返却場所にてご返却後、ご観覧ください。\n※2F、3Fの観覧の際は、肩車、ガラスの塀を腕や身の乗り出しての観覧・撮影は禁止とさせていただきます。\n※撮影、録画は禁止とさせていただきます。\n※観覧シートでの飲食は禁止とさせていただきます。\n※上記の行為を見かけた場合、スタッフからお声がけさせていただきます速やかに指示に従っていただきますようお願いいたします。\n※内容につきましては予告なく変更または中止する場合がございます。ご了承ください。 \n日程 2023/12/10 (日)\n時間 (1)11:00～ (2)14:00～(各回30分ショー)\n※整理券配布あり\n場所 1F グリーンコート
URL:http://www.narupara.com/event/20231210-odaka-aeonmall-2/
LOCATION:イオンモール大高\, 緑区南大高二丁目450番地\, 名古屋市\, 愛知県\, 459-8016\, 日本
CATEGORIES:イベント,コンサート・ライブ,レジャー,文化・芸術
ATTACH;FMTTYPE=image/gif:http://www.narupara.com/cms/wp-content/uploads/2022/09/scname-pc.gif
END:VEVENT
BEGIN:VEVENT
DTSTART;TZID=Asia/Tokyo:20231210T120000
DTEND;TZID=Asia/Tokyo:20231210T160000
DTSTAMP:20260426T071434
CREATED:20231111T071237Z
LAST-MODIFIED:20231111T071556Z
UID:5669-1702209600-1702224000@www.narupara.com
SUMMARY:舞踊発表会 @緑文化小劇場
DESCRIPTION:無料
URL:http://www.narupara.com/event/%e8%88%9e%e8%b8%8a%e7%99%ba%e8%a1%a8%e4%bc%9a-%e7%b7%91%e6%96%87%e5%8c%96%e5%b0%8f%e5%8a%87%e5%a0%b4/
LOCATION:愛知県
CATEGORIES:コンサート・ライブ,文化・芸術
END:VEVENT
BEGIN:VEVENT
DTSTART;TZID=Asia/Tokyo:20231210T133000
DTEND;TZID=Asia/Tokyo:20231210T150000
DTSTAMP:20260426T071434
CREATED:20231110T200209Z
LAST-MODIFIED:20231110T200209Z
UID:5587-1702215000-1702220400@www.narupara.com
SUMMARY:ロボットプログラミング ワークショップ(事前申し込み・先着順)
DESCRIPTION:ロボットプログラミング ワークショップ \n日時:\n(1)12月3日(日曜日)午前10時から午前11時30分\n(2)12月10日(日曜日)午後1時30分から午後3時 \n会場\n(1)緑図書館\n(2)徳重地区会館 \n対象:小学生と保護者。先着各4組 \n※申し込み開始日時および方法は広報なごやにて確認してください \n\nERROR: The request could not be satisfiedwww.city.nagoya.jp
URL:http://www.narupara.com/event/20231210-robot-programming-workshop/
LOCATION:名古屋市徳重地区会館\, 緑区元徳重一丁目401番地\, 名古屋市\, 愛知県\, 458-0852\, 日本
CATEGORIES:子育て,教養・実用・講座
END:VEVENT
BEGIN:VEVENT
DTSTART;TZID=Asia/Tokyo:20231210T140000
DTEND;TZID=Asia/Tokyo:20231210T153000
DTSTAMP:20260426T071434
CREATED:20231123T210420Z
LAST-MODIFIED:20231123T210420Z
UID:5854-1702216800-1702222200@www.narupara.com
SUMMARY:斉藤茂雄プロ生誕祭 with畑野プロ&佐渡島プロ(事前申し込み)
DESCRIPTION:名古屋グランドボウル公式サイトに令和5年12月10日(日)に「斉藤茂雄プロ生誕祭 with畑野プロ&佐渡島プロ」開催の案内が掲載されていました。時間は14時スタート。事前エントリー制です。 \n\n\n\n【終了】12/10(日) 斉藤茂雄プロ生誕祭 with畑野プロ＆佐渡島プロ！ | 名古屋グランドボウルこの大会は終了しました。ご参加ありがとうございました。大会結果はコチラからご確認ください。＝＝＝＝＝＝＝＝www.grandbowl.jp\n\n12/10(日) 斉藤茂雄プロ生誕祭 with畑野プロ&佐渡島プロ!\n \n通常の順位表彰に加え、生誕祭ならではの各ゲームイベントを用意します。\n斉藤プロの52歳をみんなで祝いましょう♪ \nそして畑野健人プロに加え、佐渡島悟プロの参加も緊急決定!\n皆さま是非ご参加ください!
URL:http://www.narupara.com/event/20231210-nagoya-grandbowl/
LOCATION:名古屋グランドボウル\, 緑区忠治山201番地\, 名古屋市\, 愛知県\, 459-8014\, 日本
CATEGORIES:スポーツ・健康,レジャー
ATTACH;FMTTYPE=image/jpeg:http://www.narupara.com/cms/wp-content/uploads/2022/09/nagoya-grandbowl.jpg
END:VEVENT
BEGIN:VEVENT
DTSTART;TZID=Asia/Tokyo:20231210T160000
DTEND;TZID=Asia/Tokyo:20231210T170000
DTSTAMP:20260426T071434
CREATED:20231208T203234Z
LAST-MODIFIED:20231208T203234Z
UID:6074-1702224000-1702227600@www.narupara.com
SUMMARY:愛知県高齢者交通安全啓発キャンペーン@イオンモール大高
DESCRIPTION:イオンモール大高のホームページに令和5年12月10日(日)に開催予定の愛知県高齢者交通安全啓発キャンペーンのお知らせが掲載されました。\n場所は1F ゴディバ前\n出演はSKE48メンバー\n詳しくは発表掲載ページをご覧ください。 \n\n\n\nイオンモール大高イオンモール大高は「イオン大高店」を核店舗に、ファッション、飲食、サービスなどの専門店で構成されたモールです。odaka-aeonmall.com\n\n愛知県高齢者交通安全啓発キャンペーン\nSKE48メンバー\n井上 瑠夏 (いのうえ るか) さん、林 美澪 (はやし みれい)さん による啓発資材の配布を実施します。 \n※啓発資材がなくなり次第、終了となります。 \n日 程\n12月10日(日) \n時 間\n16:00～17:00 \n場 所\n1F ゴディバ前 \n──────────\n【お問い合わせ先】\n株式会社シンク 担当:東山\nTEL:080-4932-8235\n(平日 10:00～17:00)\n────────── \n日程 2023/12/10 (日)\n時間 16:00～17:00\n場所 1F ゴディバ前
URL:http://www.narupara.com/event/20231210-odaka-aeonmall/
LOCATION:イオンモール大高\, 緑区南大高二丁目450番地\, 名古屋市\, 愛知県\, 459-8016\, 日本
CATEGORIES:イベント,コンサート・ライブ,レジャー,文化・芸術
ATTACH;FMTTYPE=image/gif:http://www.narupara.com/cms/wp-content/uploads/2022/09/scname-pc.gif
END:VEVENT
BEGIN:VEVENT
DTSTART;TZID=Asia/Tokyo:20231210T193000
DTEND;TZID=Asia/Tokyo:20231210T230000
DTSTAMP:20260426T071434
CREATED:20231103T214812Z
LAST-MODIFIED:20231103T222831Z
UID:5456-1702236600-1702249200@www.narupara.com
SUMMARY:アラン・プーサン ライブ(Allan Poohsan LIVE)
DESCRIPTION:★ブラウン・タビー ★ピンク・パンク・パンツ ★4 After Go Featuring Mayumi / 1000円 / ※内容は掲載当時のものです。変更の場合もあるので公式サイトやSNSでご確認ください。
URL:http://www.narupara.com/event/%e3%82%a2%e3%83%a9%e3%83%b3%e3%83%bb%e3%83%97%e3%83%bc%e3%82%b5%e3%83%b3-%e3%83%a9%e3%82%a4%e3%83%96allan-poohsan-live-179/
LOCATION:愛知県
CATEGORIES:コンサート・ライブ,レジャー,文化・芸術
END:VEVENT
END:VCALENDAR