BEGIN:VCALENDAR
VERSION:2.0
PRODID:-//なるぱら - ECPv5.16.4//NONSGML v1.0//EN
CALSCALE:GREGORIAN
METHOD:PUBLISH
X-WR-CALNAME:なるぱら
X-ORIGINAL-URL:http://www.narupara.com
X-WR-CALDESC:Events for なるぱら
REFRESH-INTERVAL;VALUE=DURATION:PT1H
X-Robots-Tag:noindex
X-PUBLISHED-TTL:PT1H
BEGIN:VTIMEZONE
TZID:Asia/Tokyo
BEGIN:STANDARD
TZOFFSETFROM:+0900
TZOFFSETTO:+0900
TZNAME:JST
DTSTART:20240101T000000
END:STANDARD
END:VTIMEZONE
BEGIN:VEVENT
DTSTART;VALUE=DATE:20240119
DTEND;VALUE=DATE:20240130
DTSTAMP:20260426T022251
CREATED:20240118T124126Z
LAST-MODIFIED:20240118T124126Z
UID:6694-1705622400-1706572799@www.narupara.com
SUMMARY:『札幌 ラ・ネージュ』出店
DESCRIPTION:イオンモール大高のホームページに令和6年1月19日(金)から29日(月)開催の『札幌 ラ・ネージュ』出店のお知らせが掲載されました。\n場所は1F ブルーコート柱横\n詳しくは発表掲載ページをご覧ください。 \n\n\n\nイオンモール大高イオンモール大高は「イオン大高店」を核店舗に、ファッション、飲食、サービスなどの専門店で構成されたモールです。odaka-aeonmall.com\n\n＼北の大地北海道より、味わい豊かな洋菓子をお届けいたします。/\n一番人気商品は、しっとりなめらかな絶品スイートポテトでございます。\n北海道の美味しさが詰まったスイーツを多数取り揃え、皆様のお越しを心よりお待ちしております。 \n■開催期間\n1/19(金)～1/29(月) \n■時 間\n10:00～20:00(最終日のみ18:00迄) \n■場 所\n1F ブルーコート柱横 \n─────────────\n【お問い合わせ先】\n株式会社ロイヤルスイーツ\nTEL:011-789-0111\n───────────── \n日程 2024/01/19 (金) – 2024/01/29 (月)\n時間 10:00～20:00(最終日のみ18:00迄)\n場所 1F ブルーコート柱横
URL:http://www.narupara.com/event/20240119to0129-odaka-aeonmall/
LOCATION:イオンモール大高\, 緑区南大高二丁目450番地\, 名古屋市\, 愛知県\, 459-8016\, 日本
CATEGORIES:レジャー
ATTACH;FMTTYPE=image/jpeg:http://www.narupara.com/cms/wp-content/uploads/2024/01/thumbW480_photo1.jpg
END:VEVENT
BEGIN:VEVENT
DTSTART;VALUE=DATE:20240120
DTEND;VALUE=DATE:20240216
DTSTAMP:20260426T022251
CREATED:20240120T204434Z
LAST-MODIFIED:20240120T204434Z
UID:6743-1705708800-1708041599@www.narupara.com
SUMMARY:徳重図書館 「ご趣味は?」≪展示期間:1月20日(土)から2月15日(木)≫
DESCRIPTION:徳重図書館 「ご趣味は?」≪展示期間:1月20日(土)から2月15日(木)≫ \n展示期間:2024年1月20日(土曜日)から2月15日(木曜日) \n趣味・・・なくてもいいけれど、あったらなんだか楽しそう。\n何か新しいことを始めてみませんか?\n各分野の入門書と、やる気が出る本を集めました。 \n\n■ 主な展示資料 ■\n\n\n\nNo.\n書名\n著者名\n出版者\n出版年\n分類\nコメント\n\n\n\n\n1\nおとなのプログラミング入門 | 仕事でおうちで役立つ!\nジャムハウス編集部/著\nジャムハウス\n2021\n00764\n「Scratch」を使い、キャラクターを作り、音と動きを付けお孫さんを驚かしましょう!プログラミングの超基礎本です。\n\n\n2\nめざせ!おうちシェフ |\n小学生からの料理入門\n川上文代/著\nナツメ社\n2023\n596\n食材の切り方から、料理の基本を写真付きで学べます。日曜日の朝食は、子供にお願いしましょう。\n\n\n3\n子どもにウケる将棋超入門 | すぐにはじめられるいちばんやさしい入門書\n創元社編集部/編\n創元社\n2018\n796\n将棋に興味を持ったら、大人も子供も、まずはこの1冊から! \n \n\n\n\n\n\n\n名古屋市図書館ホームページ徳重図書館　「ご趣味は？」≪展示期間：1月20日(土）から2月15日(木）≫www.library.city.nagoya.jp
URL:http://www.narupara.com/event/tokushige-library-20240120to20240215/
LOCATION:名古屋市徳重図書館\, 緑区元徳重一丁目401番地\, 名古屋市\, 愛知県\, 458-0852\, 日本
CATEGORIES:教養・実用・講座
ATTACH;FMTTYPE=image/jpeg:http://www.narupara.com/cms/wp-content/uploads/2024/01/img22_202401_3_1.jpg
END:VEVENT
BEGIN:VEVENT
DTSTART;VALUE=DATE:20240126
DTEND;VALUE=DATE:20240129
DTSTAMP:20260426T022251
CREATED:20240119T125404Z
LAST-MODIFIED:20240119T125426Z
UID:6719-1706227200-1706486399@www.narupara.com
SUMMARY:チョコレートの販売(2024/1/26～1/28)
DESCRIPTION:イオンタウン有松HPで令和6年1月26日から1月28日までの期間開催される「チョコレートの販売」の情報が発表されました。 \n\n\n\n\nチョコレートの販売\n開催期間:2024.01.26 ～ 2024.01.28\n時間:10時～18時\n場所:2階 ラメール前 \n1 \n\nイオンタウン有松イオンタウン有松の公式サイトです。ショップ情報、イベント情報、施設情報などを掲載しています。イオンタウンは、「地域とのつながり」を創造し、お客さまの日常に新たな発見を提供し続けます。皆さまのご来店をお待ちしております。www.aeontown.co.jp
URL:http://www.narupara.com/event/20240126to0128-aeontown-arimatsu/
LOCATION:イオンタウン有松\, 緑区鳴海町有松裏200番地\, 名古屋市\, 愛知県\, 458-0852458-0824\, 日本
CATEGORIES:レジャー
ATTACH;FMTTYPE=image/jpeg:http://www.narupara.com/cms/wp-content/uploads/2022/09/aeontown-arimatsu.jpg
END:VEVENT
BEGIN:VEVENT
DTSTART;TZID=Asia/Tokyo:20240126T093000
DTEND;TZID=Asia/Tokyo:20240126T100000
DTSTAMP:20260426T022251
CREATED:20230411T001717Z
LAST-MODIFIED:20230411T001802Z
UID:2840-1706261400-1706263200@www.narupara.com
SUMMARY:すくすく歯ッピー教室 －お口にタッチコース－(予約制)  徳重分室実施分
DESCRIPTION:お子さんの体の成長とともにお口の機能もどんどん発達していきます。食べる力をつけるための離乳食の食べさせ方や歯みがきをこれから上手に進めていくためのコツをお伝えします!(注) 感染症の状況に応じて、内容変更や中止となる場合があります。 \n—–\n内容\nよく噛むお口の育て方、歯みがきの進め方、他\n—– \n—–\n対象\n—–\n3か月から6か月児(緑区民) 第1子のみ \n—–\n日程(すべて金曜日)\n—–\nすくすく歯ッピー教室開催日\n 日にち /  場所 / 申し込み期間\n4月28日 / 緑保健センター(オンライン併用開催) / 4月18日から 4月24日\n5月26日 / 徳重分室 / 5月16日から 5月22日\n6月30日 / 緑保健センター(オンライン併用開催) / 6月20日から 6月26日\n7月28日 / 徳重分室 / 7月18日から 7月24日\n8月25日 / 緑保健センター(オンライン併用開催) / 8月15日から 8月21日\n9月29日 / 徳重分室 / 9月19日から 9月25日\n10月27日 / 緑保健センター(オンライン併用開催) / 10月17日から10月23日\n12月1日 / 徳重分室 / 11月21日から11月27日\n12月22日 / 緑保健センター(オンライン併用開催) / 12月12日から12月18日\n1月26日 / 徳重分室 / 1月16日から 1月22日\n3月1日 / 緑保健センター(オンライン併用開催) / 2月20日から 2月26日\n3月22日 / 徳重分室 / 3月12日から 3月18日 \n—–\n開催時間\n—–\n【緑保健センター・徳重分室】\n午前9時30分から10時00分(受付時間 9時20分から)\n・感染症対策のため、参加者はお子さま1名につき保護者1名でお願いします。\n・体調の優れない方は参加をお控えください。 \n【オンライン】\n午前9時30分から10時00分(接続開始 9時15分から) \n—–\n定員\n—–\n【緑保健センター・オンライン】\n先着各15組 \n【徳重分室】\n先着10組 \n申し込み方法などは下記ページで確認してください。\n—–\n名古屋市:すくすく歯ッピー教室 -お口にタッチコース-(予約制)(緑区)\nhttps://www.city.nagoya.jp/midori/page/0000161956.html\n—–
URL:http://www.narupara.com/event/%e3%81%99%e3%81%8f%e3%81%99%e3%81%8f%e6%ad%af%e3%83%83%e3%83%94%e3%83%bc%e6%95%99%e5%ae%a4-%ef%bc%8d%e3%81%8a%e5%8f%a3%e3%81%ab%e3%82%bf%e3%83%83%e3%83%81%e3%82%b3%e3%83%bc%e3%82%b9%ef%bc%8d-5/
LOCATION:愛知県
CATEGORIES:子育て
END:VEVENT
BEGIN:VEVENT
DTSTART;TZID=Asia/Tokyo:20240126T103000
DTEND;TZID=Asia/Tokyo:20240126T111500
DTSTAMP:20260426T022251
CREATED:20230411T001201Z
LAST-MODIFIED:20230411T001249Z
UID:2826-1706265000-1706267700@www.narupara.com
SUMMARY:すくすく歯ッピー教室 -はじめての歯みがきコース-(予約制)  徳重分室実施分
DESCRIPTION:いつから歯みがきをはじめたらいいの?どうやってみがくの?など、はじめての歯みがきには心配ごとがいっぱい!むし歯予防や仕上げ磨きのポイントについてお話します。\n(注) 感染症の状況に応じて、内容変更や中止となる場合があります。 \n—–\n内容\n—–\nむし歯予防の話、仕上げみがきの仕方、他 \n—–\n対象\n—–\n7か月から1歳1か月児まで(緑区民) 第1子のみ \n—–\n日程(すべて金曜日)\n—–\nすくすく歯ッピー教室開催日 \n日にち / 場所 / 申し込み期間\n4月28日 / 緑保健センター(オンライン併用開催) / 4月18日から 4月24日\n5月26日 / 徳重分室 / 5月16日から 5月22日\n6月30日 / 緑保健センター(オンライン併用開催) / 6月20日から 6月26日\n7月28日 / 徳重分室 / 7月18日から 7月24日\n8月25日 / 緑保健センター(オンライン併用開催) / 8月15日から 8月21日\n9月29日 / 徳重分室 / 9月19日から 9月25日\n10月27日 / 緑保健センター(オンライン併用開催) / 10月17日から10月23日\n12月1日 / 徳重分室 / 11月21日から11月27日\n12月22日 / 緑保健センター(オンライン併用開催) / 12月12日から12月18日\n1月26日 / 徳重分室 / 1月16日から 1月22日\n3月1日 / 緑保健センター(オンライン併用開催) / 2月20日から 2月26日\n3月22日 / 徳重分室 / 3月12日から 3月18日 \n—–\n開催時間\n—–\n【緑保健センター・徳重分室】\n午前10時30分から11時15分(受付時間 10時20分から)\n・感染症対策のため、参加者はお子さま1名につき保護者1名でお願いします。\n・体調の優れない方は、参加をご遠慮ください。 \n【オンライン】\n午前10時30分から11時00分(接続開始 10時15分から) \n—–\n定員\n—–\n【緑保健センター・オンライン】\n先着各15組 \n【徳重分室】\n先着10組 \n申し込み方法などは下記ページで確認してください。\n—–\n名古屋市:すくすく歯ッピー教室 -はじめての歯みがきコース-(予約制)(緑区)\nhttps://www.city.nagoya.jp/midori/page/0000161957.html\n—–
URL:http://www.narupara.com/event/%e3%81%99%e3%81%8f%e3%81%99%e3%81%8f%e6%ad%af%e3%83%83%e3%83%94%e3%83%bc%e6%95%99%e5%ae%a4-%e3%81%af%e3%81%98%e3%82%81%e3%81%a6%e3%81%ae%e6%ad%af%e3%81%bf%e3%81%8c%e3%81%8d%e3%82%b3%e3%83%bc-20/
LOCATION:愛知県
CATEGORIES:子育て
END:VEVENT
BEGIN:VEVENT
DTSTART;TZID=Asia/Tokyo:20240126T110000
DTEND;TZID=Asia/Tokyo:20240126T110000
DTSTAMP:20260426T022251
CREATED:20231201T214432Z
LAST-MODIFIED:20231201T214653Z
UID:5997-1706266800-1706266800@www.narupara.com
SUMMARY:三輪 陽子 門下生発表会 @緑文化小劇場
DESCRIPTION:無料
URL:http://www.narupara.com/event/%e4%b8%89%e8%bc%aa-%e9%99%bd%e5%ad%90-%e9%96%80%e4%b8%8b%e7%94%9f%e7%99%ba%e8%a1%a8%e4%bc%9a-%e7%b7%91%e6%96%87%e5%8c%96%e5%b0%8f%e5%8a%87%e5%a0%b4/
LOCATION:愛知県
CATEGORIES:コンサート・ライブ,文化・芸術
END:VEVENT
BEGIN:VEVENT
DTSTART;TZID=Asia/Tokyo:20240126T133000
DTEND;TZID=Asia/Tokyo:20240126T143000
DTSTAMP:20260426T022251
CREATED:20230311T230404Z
LAST-MODIFIED:20230311T230827Z
UID:2257-1706275800-1706279400@www.narupara.com
SUMMARY:こころの健康相談日(事前申し込み)
DESCRIPTION:こころの健康相談日会場:保健センター\n日程:毎週金曜日\n開催時間:午後1時30分から午後2時、午後2時から午後2時30分\n対象:区内在住・在勤・在学の方、家族・支援者など\n申込:2日前までに電子申請か前日までに電話にて \n予約問合:精神相談 電話番号 052-891-3621
URL:http://www.narupara.com/event/%e3%81%93%e3%81%93%e3%82%8d%e3%81%ae%e5%81%a5%e5%ba%b7%e7%9b%b8%e8%ab%87%e6%97%a5%e4%ba%8b%e5%89%8d%e7%94%b3%e3%81%97%e8%be%bc%e3%81%bf-43/
LOCATION:愛知県
CATEGORIES:スポーツ・健康
END:VEVENT
BEGIN:VEVENT
DTSTART;TZID=Asia/Tokyo:20240126T200000
DTEND;TZID=Asia/Tokyo:20240126T230000
DTSTAMP:20260426T022251
CREATED:20231111T070403Z
LAST-MODIFIED:20231111T070444Z
UID:5662-1706299200-1706310000@www.narupara.com
SUMMARY:アラン・プーサン ライブ(Allan Poohsan LIVE)
DESCRIPTION:2023年11月より アコナイ 参加料1000円に変更になりました。Acoustic De Night 弾き語り・アコ・フリーナイト 事前エントリー制(1月1日より) / 参加者1000円 お客様無料 / ※内容は掲載当時のものです。変更の場合もあるので公式サイトやSNSでご確認ください。
URL:http://www.narupara.com/event/%e3%82%a2%e3%83%a9%e3%83%b3%e3%83%bb%e3%83%97%e3%83%bc%e3%82%b5%e3%83%b3-%e3%83%a9%e3%82%a4%e3%83%96allan-poohsan-live-198/
LOCATION:愛知県
CATEGORIES:コンサート・ライブ,レジャー,文化・芸術
END:VEVENT
END:VCALENDAR