BEGIN:VCALENDAR
VERSION:2.0
PRODID:-//なるぱら - ECPv5.16.4//NONSGML v1.0//EN
CALSCALE:GREGORIAN
METHOD:PUBLISH
X-ORIGINAL-URL:http://www.narupara.com
X-WR-CALDESC:Events for なるぱら
REFRESH-INTERVAL;VALUE=DURATION:PT1H
X-Robots-Tag:noindex
X-PUBLISHED-TTL:PT1H
BEGIN:VTIMEZONE
TZID:Asia/Tokyo
BEGIN:STANDARD
TZOFFSETFROM:+0900
TZOFFSETTO:+0900
TZNAME:JST
DTSTART:20240101T000000
END:STANDARD
END:VTIMEZONE
BEGIN:VEVENT
DTSTART;VALUE=DATE:20240120
DTEND;VALUE=DATE:20240216
DTSTAMP:20260425T013135
CREATED:20240120T204434Z
LAST-MODIFIED:20240120T204434Z
UID:6743-1705708800-1708041599@www.narupara.com
SUMMARY:徳重図書館 「ご趣味は?」≪展示期間:1月20日(土)から2月15日(木)≫
DESCRIPTION:徳重図書館 「ご趣味は?」≪展示期間:1月20日(土)から2月15日(木)≫ \n展示期間:2024年1月20日(土曜日)から2月15日(木曜日) \n趣味・・・なくてもいいけれど、あったらなんだか楽しそう。\n何か新しいことを始めてみませんか?\n各分野の入門書と、やる気が出る本を集めました。 \n\n■ 主な展示資料 ■\n\n\n\nNo.\n書名\n著者名\n出版者\n出版年\n分類\nコメント\n\n\n\n\n1\nおとなのプログラミング入門 | 仕事でおうちで役立つ!\nジャムハウス編集部/著\nジャムハウス\n2021\n00764\n「Scratch」を使い、キャラクターを作り、音と動きを付けお孫さんを驚かしましょう!プログラミングの超基礎本です。\n\n\n2\nめざせ!おうちシェフ |\n小学生からの料理入門\n川上文代/著\nナツメ社\n2023\n596\n食材の切り方から、料理の基本を写真付きで学べます。日曜日の朝食は、子供にお願いしましょう。\n\n\n3\n子どもにウケる将棋超入門 | すぐにはじめられるいちばんやさしい入門書\n創元社編集部/編\n創元社\n2018\n796\n将棋に興味を持ったら、大人も子供も、まずはこの1冊から! \n \n\n\n\n\n\n\n名古屋市図書館ホームページ徳重図書館　「ご趣味は？」≪展示期間：1月20日(土）から2月15日(木）≫www.library.city.nagoya.jp
URL:http://www.narupara.com/event/tokushige-library-20240120to20240215/
LOCATION:名古屋市徳重図書館\, 緑区元徳重一丁目401番地\, 名古屋市\, 愛知県\, 458-0852\, 日本
CATEGORIES:教養・実用・講座
ATTACH;FMTTYPE=image/jpeg:http://www.narupara.com/cms/wp-content/uploads/2024/01/img22_202401_3_1.jpg
END:VEVENT
BEGIN:VEVENT
DTSTART;TZID=Asia/Tokyo:20240128T100000
DTEND;TZID=Asia/Tokyo:20240228T120000
DTSTAMP:20260425T013135
CREATED:20231227T203653Z
LAST-MODIFIED:20240115T123445Z
UID:6381-1706436000-1709121600@www.narupara.com
SUMMARY:ビートルベットを作ろう!
DESCRIPTION:県営大高緑地(大高緑地公園)のホームページで令和6年1月28日(日)に「ビートルベットを作ろう!」が開催されるお知らせが発表されました。開催時間は10時から12時。 \n詳しくは発表掲載ページをご覧ください。 \n\n\n\n\nページが見つかりませんでした | おでかけナビ・名古屋と愛知の公園であそぼう！www.aichi-koen.com\n寒さに負けず、ビートルベット(かぶとむしの幼虫のおうち)をみんなで作りましょう。落ち葉プールで遊べるよ。\nまた、カブトムシの幼虫を探しのイベントもあるよ。
URL:http://www.narupara.com/event/20240128-odaka-green-park/
LOCATION:県営大高緑地(大高緑地公園)\, 緑区大高町高山1-1\, 名古屋市\, 愛知県\, 459-8801\, 日本
CATEGORIES:イベント,レジャー,子育て,自然・環境
ATTACH;FMTTYPE=image/jpeg:http://www.narupara.com/cms/wp-content/uploads/2023/12/E38393E383BCE38388E383ABE38399E38383E38388E38292E4BD9CE3828DE38186EFBC81-724x1024-1.jpg
END:VEVENT
BEGIN:VEVENT
DTSTART;VALUE=DATE:20240201
DTEND;VALUE=DATE:20240301
DTSTAMP:20260425T013135
CREATED:20240117T210345Z
LAST-MODIFIED:20240117T210345Z
UID:6685-1706745600-1709251199@www.narupara.com
SUMMARY:緑生涯学習センター臨時休館(2024/2/1～2/29)
DESCRIPTION:非常用発電機取替工事によるアスベスト除去工事の実施に伴い、緑生涯学習センター全館を臨時休館します。 \n休館期間\n令和6年2月1日(木曜日)から令和6年2月29日(木曜日)まで \n\n名古屋市生涯学習センターのご案内｜名古屋市公式ウェブサイト名古屋市公式ウェブサイトwww.city.nagoya.jp\n\n施設案内 | イーブルなごやe-able-nagoya.jp\n\nERROR: The request could not be satisfiedwww.city.nagoya.jp
URL:http://www.narupara.com/event/20240201to0229-midori-lifelong-learning-center/
LOCATION:愛知県
ATTACH;FMTTYPE=image/jpeg:http://www.narupara.com/cms/wp-content/uploads/2022/09/midori-lifelong-learning-center.jpg
END:VEVENT
BEGIN:VEVENT
DTSTART;VALUE=DATE:20240210
DTEND;VALUE=DATE:20240216
DTSTAMP:20260425T013135
CREATED:20240114T061111Z
LAST-MODIFIED:20240114T061111Z
UID:6573-1707523200-1708041599@www.narupara.com
SUMMARY:ぬいぐるみのおとまり会 2024/2/10～2/15 (先着順)
DESCRIPTION:ぬいぐるみのおとまり会\n日時:2月10日(土曜日)から15日(木曜日)\n対象:先着15人 \n※申し込み開始日時および方法は広報なごやにて確認してください
URL:http://www.narupara.com/event/20240210to0215-otomari-kai-of-stuffed-toys/
LOCATION:名古屋市緑図書館\, 緑区旭出一丁目1104番地\, 名古屋市\, 愛知県\, 458-0031\, 日本
CATEGORIES:子育て,教養・実用・講座
END:VEVENT
BEGIN:VEVENT
DTSTART;TZID=Asia/Tokyo:20240213T100000
DTEND;TZID=Asia/Tokyo:20240213T130000
DTSTAMP:20260425T013135
CREATED:20230325T024214Z
LAST-MODIFIED:20230325T024447Z
UID:2515-1707818400-1707829200@www.narupara.com
SUMMARY:移動児童館「ちびっこ冒険ひろば」(雨天中止)
DESCRIPTION:移動児童館「ちびっこ冒険ひろば」日時:毎週火曜日 10:00～13:00\n会場:新海池公園(荒天中止)\n対象:乳幼児と保護者\n内容:どろんこ遊び・森へのおさんぽなどを楽しんでいます。\n着替え持参、汚れてもいい服装で来てね。(おとなも♪) \n※雨天決行・荒天の場合は中止します\n中止の場合はホームページに掲載します。 \n\n名古屋市 緑児童館やってみたい！をやってみよう。緑児童館は名古屋市の指定管理を受け、特定非営利活動法人こどもNPOと名古屋市緑区社会福祉協議会コンソーシアムによって管理・運営をしています。midorijidoukan.com
URL:http://www.narupara.com/event/%e7%a7%bb%e5%8b%95%e5%85%90%e7%ab%a5%e9%a4%a8%e3%80%8c%e3%81%a1%e3%81%b3%e3%81%a3%e3%81%93%e5%86%92%e9%99%ba%e3%81%b2%e3%82%8d%e3%81%b0%e3%80%8d%e9%9b%a8%e5%a4%a9%e4%b8%ad%e6%ad%a2-50/
LOCATION:愛知県
CATEGORIES:スポーツ・健康,子育て
END:VEVENT
BEGIN:VEVENT
DTSTART;TZID=Asia/Tokyo:20240213T130000
DTEND;TZID=Asia/Tokyo:20240213T140000
DTSTAMP:20260425T013135
CREATED:20230410T234146Z
LAST-MODIFIED:20230410T234233Z
UID:2741-1707829200-1707832800@www.narupara.com
SUMMARY:1歳6か月児健康診査 緑保健センター実施分
DESCRIPTION:“—–概要\n—–\n・1歳6か月のお子様の健康診査、子育ての相談を行っています。\n・対象の方には、保健センターから個別に通知します。\n・実施日に都合の悪い方や、転入などにより通知が届かない方は緑保健センター(電話番号052-891-3619)までご連絡下さい。 \n—–\n健康診査の内容\n—–\n1.受付\n2.歯科検診(歯の発育状態をチェックします)\n3.問診(お子様の様子や子育ての困りごとなどをお聞きします)\n4.身体計測(身長・体重・頭囲)\n5.お医者さんによる診察\n6.育児、栄養、歯科についての相談\n7.フッ化物塗布(希望される方のみ、感染症の状況により中止となる場合があります)\n注:感染症の状況により一部の内容が中止・変更となる場合があります。\n注:フッ化物塗布をご希望の方は720円必要です(生活保護世帯は免除あり、要証明)。 \n令和5年度の1歳6か月児健診について\n令和5年度の1歳6か月児健診の日程、対象者です。 \n令和5年度1歳6か月児健康診査日程 (PDF形式\, 201.13KB)\nhttps://www.city.nagoya.jp/midori/cmsfiles/contents/0000124/124654/18M-old-child_schedule.pdf \n受付時間・対象者\n健診会場:/  受付時間 / 対象者\n緑保健センター / (第2子以降)午後1時から午後1時30分まで (第1子)午後1時30分から午後2時まで / 徳重分室対象学区以外の学区にお住まいの方\n徳重分室 / (第2子以降)午後1時5分から午後1時30分まで (第1子)午後1時30分から午後2時まで / 次の学区にお住まいの方:黒石・常安・鳴海東部・戸笠・徳重・神の倉・熊の前・桃山 \n・お住まいの学区により健診日、健診会場、受付時間が異なります。\n・12時(正午)から整理番号札を配布します。 \n—–\n日程変更のお申し出について\n—–\n緑保健センターが実施する乳幼児健診の日程変更を希望される方は、下記の二次元コードまたはURLから変更申請を行ってください。 \n\nLoGoフォームlogoform.jp\n日程変更ができるのは、緑区にお住まいの方のうち、現在、お手元に乳幼児健診のご案内が届いている方のみです。\nウェブでのお手続きが難しい場合は、電話番号(052-891-3619)にてお申し出ください。 \n—–\nその地\n—–\n・付き添いの方はできるだけ保護者様1人でお願いします(ご事情がある方は当日、会場でお申し出ください)。\n・お子様やご家族に咳や発熱、感染が疑われる発疹等の症状のある方は、通知日にかかわらず、受診の延期をお願いします。\n・車での来場はできるだけご遠慮ください。緑保健センターでは、健診者すべての方が駐車できるスペースはありませんので、駐車できるまでお待たせすることがあります。\n・緑保健センター近隣の商業施設への駐車は絶対にご遠慮ください。\n・健診当日の来所者数により、2時間から3時間程度かかることがあります。 \n—–\n名古屋市:令和5年度 1歳6か月児健康診査のご案内(緑区)\nhttps://www.city.nagoya.jp/midori/page/0000124654.html\n—–“
URL:http://www.narupara.com/event/1%e6%ad%b36%e3%81%8b%e6%9c%88%e5%85%90%e5%81%a5%e5%ba%b7%e8%a8%ba%e6%9f%bb-%e7%b7%91%e4%bf%9d%e5%81%a5%e3%82%bb%e3%83%b3%e3%82%bf%e3%83%bc%e5%ae%9f%e6%96%bd%e5%88%86-35/
LOCATION:愛知県
CATEGORIES:子育て
END:VEVENT
BEGIN:VEVENT
DTSTART;TZID=Asia/Tokyo:20240213T133000
DTEND;TZID=Asia/Tokyo:20240213T150000
DTSTAMP:20260425T013135
CREATED:20240114T062845Z
LAST-MODIFIED:20240114T062845Z
UID:6591-1707831000-1707836400@www.narupara.com
SUMMARY:認知症サポーター養成講座 緑区南部(事前申し込み)
DESCRIPTION:認知症サポーター養成講座\n先着20人(団体申し込みの場合は応相談) \n※申し込み開始日時および方法は広報なごやにて確認してください
URL:http://www.narupara.com/event/20240213-dementia-supporter-training-course/
LOCATION:緑区南部いきいき支援センター\, 緑区左京山3038\, 名古屋市\, 愛知県\, 458-0825\, 日本
CATEGORIES:スポーツ・健康
END:VEVENT
END:VCALENDAR