BEGIN:VCALENDAR
VERSION:2.0
PRODID:-//なるぱら - ECPv5.16.4//NONSGML v1.0//EN
CALSCALE:GREGORIAN
METHOD:PUBLISH
X-WR-CALNAME:なるぱら
X-ORIGINAL-URL:http://www.narupara.com
X-WR-CALDESC:Events for なるぱら
REFRESH-INTERVAL;VALUE=DURATION:PT1H
X-Robots-Tag:noindex
X-PUBLISHED-TTL:PT1H
BEGIN:VTIMEZONE
TZID:Asia/Tokyo
BEGIN:STANDARD
TZOFFSETFROM:+0900
TZOFFSETTO:+0900
TZNAME:JST
DTSTART:20240101T000000
END:STANDARD
END:VTIMEZONE
BEGIN:VEVENT
DTSTART;VALUE=DATE:20240215
DTEND;VALUE=DATE:20240316
DTSTAMP:20260425T080154
CREATED:20240119T212907Z
LAST-MODIFIED:20240119T212907Z
UID:6725-1707955200-1710547199@www.narupara.com
SUMMARY:緑区内周遊ラリー
DESCRIPTION:区内周遊ラリー<みんなでかくれんぼ‐みどりっち、みーつけた!‐>を開催します\n開催期間\n\n令和6年2月15日(木曜日)から令和6年3月15日(金曜日) \n\nイベント概要\n\n緑区マスコットキャラクター「みどりっち」が区内のあちこちでかくれんぼする「みどりっちラリー」を開催します!\n緑区内のみどりっち設置施設(20箇所)にて異なるスタンプを5つ以上集め、期日までに応募された方の中から抽選で60名に鳴海製陶社製「みどりっちプレート」をプレゼントします。\n5つ以上、10つ以上、20つ以上の合計3回応募できるチャンスがあるので、たくさんみどりっちを集めると当選率がアップします。\nさらに応募者全員に、「みどりっちカード-かくれんぽVer-」をプレゼントします。\nただいま開催に向けて、準備中です。順次公開予定ですので、続報をお待ちください。 \n\n参加方法\nデジタル(スマートフォンでの参加)方式\n\nただいま準備中です。\nご迷惑をおかけしますが、今しばらくお待ちください。 \n\nアナログ(回答はがきでの参加)方式\n\nただいま準備中です。\nご迷惑をおかけしますが、今しばらくお待ちください。 \n\nラリースポット\n\nみどりっちが隠されているスポットは全部で20か所。\nヒントを頼りに、隠れているみどりっちを探してみてください。 \n各スポット・ヒントは準備中です。 \n\nスポットによっては、駐車場がない場所もあります。公共交通機関を利用していただくか、近隣コインパーキングをご活用ください。\nイベントのお問い合わせは、各施設ではお答えできかねます。お手数ですが下記のページ作成担当までお問い合わせください。\n\n\nお知らせ\n「緑区ものしりカルタ」のページが公開されました。\n「緑区観光大使の紹介」のページを公開しました。\n緑区観光推進協議会について\n\n緑区観光推進協議会とは \n緑区観光推進協議会のご紹介です。 \n\n緑区観光大使\n\n緑区観光大使の紹介緑区の魅力PR活動をおこなう観光大使を紹介します。 \n\n緑区を歩こう\nおすすめ!まち歩きツール\n\n緑区あちこちマップ \n持ち歩きに便利な緑区入門編マップ!区内のおすすめスポットやコースを地区ごとにご紹介。 \n外国人向け緑区散策マップ(英語版) \n緑区あちこちマップの英語版です。 \n\n\n緑区散策マップ \n地元の団体「緑区ルネッサンスフォーラム」さん作成の詳しい解説付きマップ。これであなたも緑区博士!? \n\n地域みんなでおもてなし\n\nまちかど案内所 \n簡単な道案内などにご協力いただいているお店や事業所です。おみやげやお食事などのショップリストとしてもどうぞ! \n\n\n観光ボランティアガイドのご紹介 \n地元のボランティアガイドさんと一緒にまち歩きしてみませんか? \n\n緑区を知ろう\n\n緑区ものしりカルタ緑区の名所や良いところが絵柄になっているカルタを紹介 \n\n\n緑区プロモーション映像「いろとりどり緑区 ―継がれ、進化するまち―」 \n武将、絞り、山車、酒蔵、カフェなど、緑区の多彩な見どころをYouTubeでチェック! \n\n\n地元発!地域の皆様から緑区のおススメを動画でご紹介2020年に開催した「緑区魅力発信映像制作講座」の受講生のみなさまが作った動画です。 \n\n\nいろとりどり緑区 緑区フォトコンテスト受賞作品集 \n2020年・2021年の2回にわたり開催した「緑区フォトコンテスト」の受賞作品を紹介 \n\n\nみどりPHOTOもっと \n緑区内の魅力スポットを写真で楽しめる観光PRパンフレット。 \n\n賛助金のお願い\n\n緑区の観光推進に対する賛助金のご協力をお願いします \n賛助いただいた方にみどりっちグッズを進呈しています。 \n\n問い合わせ先\n\n緑区観光推進協議会事務局(緑区役所地域力推進室 3階34番窓口)\n電話番号052-625-3878\nファックス番号052-623-8191 \n\n緑区観光推進協議会　概要｜名古屋市公式ウェブサイト名古屋市公式ウェブサイトwww.city.nagoya.jp
URL:http://www.narupara.com/event/20240215to0315-rally-around-midori-ward/
LOCATION:愛知県
CATEGORIES:レジャー,散策・まち歩き
END:VEVENT
BEGIN:VEVENT
DTSTART;VALUE=DATE:20240215
DTEND;VALUE=DATE:20240316
DTSTAMP:20260425T080154
CREATED:20240205T203335Z
LAST-MODIFIED:20240205T203335Z
UID:7017-1707955200-1710547199@www.narupara.com
SUMMARY:区内周遊ラリー みんなでかくれんぼ‐みどりっち、みーつけた!
DESCRIPTION:イベント概要\n区内のあちこちでかくれんぼしている、区マスコットキャラクター「みどりっち」を見つけだす「みどりっち、みーつけた!」を開催します!\n緑区内20箇所に隠れているみどりっちを5つ以上見つけ、期日までに応募された方の中から抽選で60名に鳴海製陶製「みどりっちプレート」をプレゼントします。\n5つ以上、10個以上、20個以上の合計3回応募できるチャンスがあるので、たくさんみどりっちを集めると当選確率がアップします。\nさらに応募者全員に、「みどりっちカード-かくれんぼVer.-」をプレゼントします。 \n開催期間など\n開催期間:令和6年2月15日(木曜日)から令和6年3月15日(金曜日)\n応募締切:令和6年3月19日(火曜日)必着\n当選発表:令和6年3月27日(水曜日 \n(本文続く…) \n詳しくは以下をご覧ください \n\n緑区観光推進協議会　概要｜名古屋市公式ウェブサイト名古屋市公式ウェブサイトwww.city.nagoya.jp
URL:http://www.narupara.com/event/20240206-nagoya-city-midori/
LOCATION:愛知県
CATEGORIES:イベント,レジャー
ATTACH;FMTTYPE=image/jpeg:http://www.narupara.com/cms/wp-content/uploads/2024/02/topgazoumitsuketa-1.jpg
END:VEVENT
BEGIN:VEVENT
DTSTART;VALUE=DATE:20240217
DTEND;VALUE=DATE:20240315
DTSTAMP:20260425T080154
CREATED:20240222T202658Z
LAST-MODIFIED:20240222T202658Z
UID:7298-1708128000-1710460799@www.narupara.com
SUMMARY:徳重図書館 「『想い』を伝える」≪展示期間:2月17日(土)から3月14日(木)≫
DESCRIPTION:徳重図書館 「『想い』を伝える」≪展示期間:2月17日(土)から3月14日(木)≫ \n展示期間:2024年2月17日(土曜日)から3月14日(木曜日) \n\n\n\n\n贈り物や手紙の書き方など、いろいろな本を集めてみました!\n\n\n\n卒業シーズンが間もなくやってきます。お世話になった人に、家族に、新たなスタートを切る仲間に、『想い』を伝えてみませんか。\n気持ちを伝えるお手伝いが出来る本を集めてみました。 \n■ 主な展示資料 ■\n\n\n\nNo.\n書名\n著者名\n出版者\n出版年\n分類\nコメント\n\n\n\n\n1\nおとうさんぼくね…\n長谷川義史/さく・え\n保育社\n2015\nエ\nお仕事で遠いところへ行ったおとうさん。いつだっておとうさんを想うぼく。じつはおとうさんに伝えたいことがあるんだ。それはね…。\n\n\n2\nカミキィの<気持ちが伝わる>贈り物おりがみ | 日常・記念日・行事のプチギフト\nカミキィ/著\n日本文芸社\n2021\n7549\n毎日のコミュニケーションに、人生の大切な記念日に、みんなで楽しみたい行事に。気持ちが伝わるおりがみ作品を、折り方の手順写真とともに紹介します。\n\n\n3\nにっぽん全国おみやげおやつ\n甲斐みのり/著\n白泉社\n2021\n59665\nお取り寄せできるおやつ、あの人に贈るおやつ、地方の旅みや…47都道府県のお菓子屋約180軒の店舗情報と、おすすめのおやつを紹介します。\n\n\n\n\n\n\n名古屋市図書館ホームページ徳重図書館　「『想い』を伝える」≪展示期間：2月17日（土）から3月14日（木）≫www.library.city.nagoya.jp\n 
URL:http://www.narupara.com/event/tokushige-library-20240217to20240314/
LOCATION:名古屋市徳重図書館\, 緑区元徳重一丁目401番地\, 名古屋市\, 愛知県\, 458-0852\, 日本
CATEGORIES:教養・実用・講座
ATTACH;FMTTYPE=image/jpeg:http://www.narupara.com/cms/wp-content/uploads/2024/02/img22_202402_1_1.jpg
END:VEVENT
BEGIN:VEVENT
DTSTART;VALUE=DATE:20240220
DTEND;VALUE=DATE:20240323
DTSTAMP:20260425T080155
CREATED:20230409T022409Z
LAST-MODIFIED:20230409T022409Z
UID:2643-1708387200-1711151999@www.narupara.com
SUMMARY:名古屋市会 令和5年度 2月定例会
DESCRIPTION:名古屋市会 令和6年2月定例会は令和6年2月20日(火曜日)から3月22日(金曜日)、32日間の日程です \n\n\n\n年間スケジュール｜名古屋市公式ウェブサイト名古屋市公式ウェブサイトwww.city.nagoya.jp\n中継で視聴できます\n名古屋市会の本会議・委員会は生中継および録画中継で視聴することができます。 \n\n名古屋市会　議会中継名古屋市会の議会中継システムを提供しています。nagoya.gijiroku.com\n名古屋市緑区選出 名古屋市会議員(令和5年4月11日現在 五十音順)\n岩本たかひろ \n\n名古屋市会議員 岩本たかひろ名古屋市会議員 岩本たかひろの公式ウェブサイトです。緑区選出、自由民主党に所属しています。議員の責務である市政の課題解決への取り組みや日々の活動報告をお伝えしています。www.iwamoto-takahiro.jp\n大谷ともひろ \n\n大谷 智洋大谷 智洋 - 「いいね！」955件 · 1人が話題にしています - 『魅せる政治』へ 「分かりにくい・難しい政治から、 親しみやすい・参加できる政治へ！」 をモットーに、誰もが『魅力』を感じられる政治へ 変えていきたいと思っています。 政...www.facebook.com\n岡本やすひろ \n\n岡本やすひろオフィシャルサイト | 名古屋市会議員（緑区）名古屋市会議員（緑区）「岡本やすひろ」の公式サイトです。名古屋市緑区に対する思いや、市政への考え方、経歴などを掲載しています。okapon.nagoya\n近藤かずひろ \n\n公明党名古屋市会議員　近藤かずひろ～一人ひとりを大切にする市政を目指して～www.komei.or.jp\n永井ゆり \n\n永井 ゆり永井 ゆり - 「いいね！」741件 · 2人が話題にしています - 10歳と4歳の娘を育てながら、仕事に家事に育児に奮闘中。中小企業様のため、子ども達の未来のため、働く女性のため、障がい者雇用拡大のため、前進あるのみ。健康第一でがんばりま...www.facebook.com\n中里高之 \n\n中里高之オフィシャルホームページ毎日全力投球、名古屋市会議員　中里高之のオフィシャルホームページnakazato-nzp.jp\nみつなか美由紀 \n\n満仲 美由紀満仲 美由紀さんはFacebookを利用しています。Facebookに登録して、満仲 美由紀さんや他の知り合いと交流しましょう。Facebookは、人々が簡単に情報をシェアできる、オープンでつながりのある世界の構築をお手伝いします。www.facebook.com
URL:http://www.narupara.com/event/nagoya-city-assembly-february-2023-regular-meeting/
LOCATION:愛知県
CATEGORIES:議会
ATTACH;FMTTYPE=image/jpeg:http://www.narupara.com/cms/wp-content/uploads/2022/09/C87T42271.jpg
END:VEVENT
BEGIN:VEVENT
DTSTART;VALUE=DATE:20240223
DTEND;VALUE=DATE:20240325
DTSTAMP:20260425T080155
CREATED:20240203T232602Z
LAST-MODIFIED:20240203T232743Z
UID:6987-1708646400-1711324799@www.narupara.com
SUMMARY:春のありまつさんぽ道(2024/2/23～3/24)
DESCRIPTION:春の有松さんぽ道\n令和6年2月23日(金・祝)〜3月24日(日) \n福よせ雛さんたちの様子や有松のイベント情報もご紹介 \n\n春のありまつさんぽみち|有松福よせ雛実行委員会 (@arimatsu.sanpo) • Instagram photos and videos575 Followers\, 199 Following\, 1\,156 Posts - See Instagram photos and videos from 春のありまつさんぽみち|有松福よせ雛実行委員会 (@arimatsu.sanp...www.instagram.com\n※詳細は発表がありしだい順次掲載していきます。
URL:http://www.narupara.com/event/spring-arimatsu-walk-road-2024/
LOCATION:愛知県
CATEGORIES:レジャー,文化・芸術
ATTACH;FMTTYPE=image/jpeg:http://www.narupara.com/cms/wp-content/uploads/2024/02/424433576_935325361504286_2625096710126064862_n.jpg
END:VEVENT
BEGIN:VEVENT
DTSTART;VALUE=DATE:20240223
DTEND;VALUE=DATE:20240311
DTSTAMP:20260425T080155
CREATED:20240209T200844Z
LAST-MODIFIED:20240209T200844Z
UID:7070-1708646400-1710115199@www.narupara.com
SUMMARY:大高緑地 花梅まつり(2024/2/23～3/10の毎土日) ※花梅観覧や和風庭園・梅林周辺入場は常時
DESCRIPTION:今年は例年よりも開花が、1～2週間程早くなっております。\n「梅の花」を楽しまれる方は、早めに来園されるのをオススメいたします。\n「まつり」を楽しまれる方は、開催状況が天気に左右されますので、お気をつけください。 \n\n\n  ページが見つかりませんでした | おでかけナビ・名古屋と愛知の公園であそぼう！  www.aichi-koen.com
URL:http://www.narupara.com/event/odaka-hana-ume-festival-2024/
LOCATION:県営大高緑地(大高緑地公園)\, 緑区大高町高山1-1\, 名古屋市\, 愛知県\, 459-8801\, 日本
CATEGORIES:レジャー,自然・環境
ATTACH;FMTTYPE=image/jpeg:http://www.narupara.com/cms/wp-content/uploads/2024/02/E88AB1E6A285_E8A1A8.jpg
END:VEVENT
BEGIN:VEVENT
DTSTART;VALUE=DATE:20240301
DTEND;VALUE=DATE:20240308
DTSTAMP:20260425T080155
CREATED:20240216T193119Z
LAST-MODIFIED:20240216T193119Z
UID:7194-1709251200-1709855999@www.narupara.com
SUMMARY:春の火災予防運動(2024/3/1～3/7)
DESCRIPTION:3月1日(金曜日)から7日(木曜日) 春の火災予防運動 \n「火を消して 不安を消して つなぐ未来」(2023年度全国統一防火標語)\n春は空気が乾燥し、火災が発生しやすい季節です。\n火気の取り扱いに十分注意し、ご家庭や地域ぐるみで火災予防に努めましょう。\n住宅用火災警報器は火災の早期発見に効果的です。\n台所・寝室・寝室がある階の階段へ設置が義務付けられています。\n電池切れなどで使えなくなっている場合もあるため、定期的な点検と交換をお願いします。 \n問い合わせ先:緑消防署 電話番号 052-896-0119 ファクス番号 052-891-0119
URL:http://www.narupara.com/event/2024-spring-fire-prevention-exercise/
LOCATION:名古屋市消防局名古屋市緑消防署\, 緑区滝ノ水四丁目2007\, 名古屋市\, 愛知県\, 458-0021\, 日本
CATEGORIES:教養・実用・講座
END:VEVENT
BEGIN:VEVENT
DTSTART;TZID=Asia/Tokyo:20240304T200000
DTEND;TZID=Asia/Tokyo:20240304T200000
DTSTAMP:20260425T080155
CREATED:20240210T202717Z
LAST-MODIFIED:20240210T203116Z
UID:7103-1709582400-1709582400@www.narupara.com
SUMMARY:アラン・プーサン ライブ(Allan Poohsan LIVE)
DESCRIPTION:2023年11月より セッション参加料1000円に変更になりました。 Stormy Monday Blues SESSION ホストバンド SP’s ※BluesSesの日は24時閉店です。 / 出演者1000円 お客様無料 / ※内容は掲載当時のものです。変更の場合もあるので公式サイトやSNSでご確認ください。
URL:http://www.narupara.com/event/%e3%82%a2%e3%83%a9%e3%83%b3%e3%83%bb%e3%83%97%e3%83%bc%e3%82%b5%e3%83%b3-%e3%83%a9%e3%82%a4%e3%83%96allan-poohsan-live-218/
LOCATION:愛知県
CATEGORIES:コンサート・ライブ,文化・芸術
END:VEVENT
END:VCALENDAR