BEGIN:VCALENDAR
VERSION:2.0
PRODID:-//なるぱら - ECPv5.16.4//NONSGML v1.0//EN
CALSCALE:GREGORIAN
METHOD:PUBLISH
X-WR-CALNAME:なるぱら
X-ORIGINAL-URL:http://www.narupara.com
X-WR-CALDESC:Events for なるぱら
REFRESH-INTERVAL;VALUE=DURATION:PT1H
X-Robots-Tag:noindex
X-PUBLISHED-TTL:PT1H
BEGIN:VTIMEZONE
TZID:Asia/Tokyo
BEGIN:STANDARD
TZOFFSETFROM:+0900
TZOFFSETTO:+0900
TZNAME:JST
DTSTART:20240101T000000
END:STANDARD
END:VTIMEZONE
BEGIN:VEVENT
DTSTART;TZID=Asia/Tokyo:20240208T100000
DTEND;TZID=Asia/Tokyo:20240208T110000
DTSTAMP:20260425T001244
CREATED:20240114T001445Z
LAST-MODIFIED:20240114T001445Z
UID:6560-1707386400-1707390000@www.narupara.com
SUMMARY:HIV(エイズ)・梅毒・性器クラミジア感染症検査 緑保健センター実施分
DESCRIPTION:HIV(エイズ)・梅毒・性器クラミジア感染症検査会場:緑保健センター\n日程:第2木曜日\n受付時間:午前10時から午前11時\n原則匿名で受検。予約不要。結果は原則1週間後\n※性器クラミジア感染症検査をご希望の方は、1時間以上排尿を控えてお越しください。 \n予約問合:がん検診、予防接種 電話番号 052-891-3623
URL:http://www.narupara.com/event/20240208-hiv-aids-syphilis-and-genital-chlamydia-infection-testing/
LOCATION:愛知県
CATEGORIES:スポーツ・健康
END:VEVENT
BEGIN:VEVENT
DTSTART;TZID=Asia/Tokyo:20240207T144500
DTEND;TZID=Asia/Tokyo:20240207T160000
DTSTAMP:20260425T001244
CREATED:20240114T083009Z
LAST-MODIFIED:20240114T083134Z
UID:6611-1707317100-1707321600@www.narupara.com
SUMMARY:眼衛生研修会 @緑文化小劇場
DESCRIPTION:関係者のみ
URL:http://www.narupara.com/event/%e7%9c%bc%e8%a1%9b%e7%94%9f%e7%a0%94%e4%bf%ae%e4%bc%9a-%e7%b7%91%e6%96%87%e5%8c%96%e5%b0%8f%e5%8a%87%e5%a0%b4/
LOCATION:愛知県
CATEGORIES:教養・実用・講座
END:VEVENT
BEGIN:VEVENT
DTSTART;TZID=Asia/Tokyo:20240207T133000
DTEND;TZID=Asia/Tokyo:20240207T160000
DTSTAMP:20260425T001244
CREATED:20230411T053643Z
LAST-MODIFIED:20230411T053709Z
UID:2917-1707312600-1707321600@www.narupara.com
SUMMARY:子どものアレルギーとぜん息相談(予約制) 緑保健センター実施分
DESCRIPTION:令和5年度 子どものアレルギーとぜん息相談(予約制)\n食物アレルギー、アトピー性皮膚炎、湿疹が治りにくい・風邪をひきやすい・ゼーゼーヒューヒューするなどの症状がご心配な方へ。お気軽にご相談ください。 \n—–\n内容\n—–\n1.問診\n2.個別相談・診察\n3.栄養相談\n4.住居環境相談 \n—–\n対象\n—–\n15歳未満の方とその保護者 \n—–\n令和5年度の日程\n—–\n令和5年度の子どものアレルギーとぜん息相談の日程です。 \n子どものアレルギーとぜん息相談日程 (PDF形式\, 129.48KB)\nhttps://www.city.nagoya.jp/midori/cmsfiles/contents/0000161/161294/R5-chirashi.pdf \n—–\n開催時間\n—–\n会場:/ 開催時間\n緑保健センター(1階) / 午後1時30分から午後4時まで\n徳重分室(ユメリア徳重3階) / 午後1時30分から午後3時まで \n—–\n予約方法\n—–\n開催日前日までに電話で予約してください。\n(電話番号052-891-3620) \n—–\n名古屋市:令和5年度 子どものアレルギーとぜん息相談(予約制)(緑区)\nhttps://www.city.nagoya.jp/midori/page/0000161294.html\n—–
URL:http://www.narupara.com/event/%e5%ad%90%e3%81%a9%e3%82%82%e3%81%ae%e3%82%a2%e3%83%ac%e3%83%ab%e3%82%ae%e3%83%bc%e3%81%a8%e3%81%9c%e3%82%93%e6%81%af%e7%9b%b8%e8%ab%87%e4%ba%88%e7%b4%84%e5%88%b6-%e7%b7%91%e4%bf%9d%e5%81%a5-15/
LOCATION:愛知県
CATEGORIES:子育て
END:VEVENT
BEGIN:VEVENT
DTSTART;TZID=Asia/Tokyo:20240207T133000
DTEND;TZID=Asia/Tokyo:20240207T153000
DTSTAMP:20260425T001244
CREATED:20230325T003146Z
LAST-MODIFIED:20230325T003246Z
UID:2438-1707312600-1707319800@www.narupara.com
SUMMARY:子どものアレルギーとぜん息相談(事前予約制)
DESCRIPTION:子どものアレルギーとぜん息相談\n食物アレルギー・アトピー性皮膚炎・湿疹が治りにくい・風邪をひきやすい\nゼーゼーヒューヒューするなどの症状がご心配な方へ!お気軽にご相談ください! \n対象者:15歳未満の方と保護者\n内容:1.問診 2.個別相談・診察 3.栄養相談 4.住居環境相談 \n申し込み先:緑保健センター 保健感染症係 TEL 052-891-3621  \nhttps://www.city.nagoya.jp/midori/cmsfiles/contents/0000161/161294/R5-chirashi.pdf
URL:http://www.narupara.com/event/%e5%ad%90%e3%81%a9%e3%82%82%e3%81%ae%e3%82%a2%e3%83%ac%e3%83%ab%e3%82%ae%e3%83%bc%e3%81%a8%e3%81%9c%e3%82%93%e6%81%af%e7%9b%b8%e8%ab%87%e4%ba%8b%e5%89%8d%e4%ba%88%e7%b4%84%e5%88%b6-11/
LOCATION:愛知県
CATEGORIES:子育て
END:VEVENT
BEGIN:VEVENT
DTSTART;TZID=Asia/Tokyo:20240207T130000
DTEND;TZID=Asia/Tokyo:20240207T132000
DTSTAMP:20260425T001244
CREATED:20230410T232549Z
LAST-MODIFIED:20230410T232650Z
UID:2691-1707310800-1707312000@www.narupara.com
SUMMARY:乳幼児健康診査(3・4か月) 緑保健センター実施分
DESCRIPTION:—–概要\n—–\n3(4)か月のお子様の健康診査、子育ての相談を行っています。\n対象の方には、保健センターから個別に通知します。\n実施日に都合の悪い方や、転入などにより通知が届かない方は緑保健センター(電話番号052-891-3619)までご連絡下さい。 \n—–\n健康診査の内容\n—–\n1.受付\n2.育児、栄養、お口、予防接種の話(第1子の方のみ)\n3.問診(お子様の様子や子育ての困りごとなどをお聞きします)\n4.身体計測(身長、体重、頭囲)\n5.お医者さんによる診察\n6.育児や栄養についての相談\n注:感染症の状況により一部の内容が中止・変更となる場合があります。 \n—–\n令和5年度の3(4)か月児健診について\n—–\n令和5年度の3(4)か月児健診の日程、対象者です。\n令和5年度3(4)か月児健診日程 (PDF形式\, 200.21KB) \nhttps://www.city.nagoya.jp/midori/cmsfiles/contents/0000124/124639/3M-old-child_schedule.pdf \n—–\n受付時間・対象者\n—–\n健診会場:/ 受付時間 / 対象者\n緑保健センター / 午後1時から1時20分まで / 徳重分室対象学区以外の学区にお住まいの方\n徳重分室 / 午後1時5分から1時25分まで / 次の学区にお住まいの方:黒石・常安・鳴海東部・戸笠・徳重・神の倉・熊の前・桃山 \n・お住まいの学区により健診日、健診会場、受付時間が異なります。\n・12時(正午)から整理番号札を配布します。 \n—–\n日程変更のお申し出について\n—–\n緑保健センターが実施する乳幼児健診の日程変更を希望される方は、下記の二次元コードまたはURLから変更申請を行ってください。 \n\nLoGoフォームlogoform.jp\n日程変更ができるのは、緑区にお住まいの方のうち、現在、お手元に乳幼児健診のご案内が届いている方のみです。\nウェブでのお手続きが難しい場合は、電話番号(052-891-3619)にてお申し出ください。 \n—–\nその他\n—–\n付き添いの方はできるだけ保護者様1人でお願いします(ご事情がある方は当日、会場でお申し出ください)。\nお子様やご家族に咳や発熱、感染が疑われる発疹等の症状のある方は、通知日にかかわらず、受診の延期をお願いします。\n車での来場はできるだけご遠慮ください。緑保健センターでは、健診者すべての方が駐車できるスペースはありませんので、駐車できるまでお待たせすることがあります。\n緑保健センター近隣の商業施設への駐車は絶対にご遠慮ください。\n健康診査は1時間から2時間かかります。ただし当日の混み具合により変わります。 \n—–\n名古屋市:令和5年度 3(4)か月児健康診査（緑区）\nhttps://www.city.nagoya.jp/midori/page/0000124639.html\n—–
URL:http://www.narupara.com/event/%e4%b9%b3%e5%b9%bc%e5%85%90%e5%81%a5%e5%ba%b7%e8%a8%ba%e6%9f%bb3%e3%83%bb4%e3%81%8b%e6%9c%88-%e7%b7%91%e4%bf%9d%e5%81%a5%e3%82%bb%e3%83%b3%e3%82%bf%e3%83%bc%e5%ae%9f%e6%96%bd%e5%88%86-36/
LOCATION:愛知県
CATEGORIES:子育て
END:VEVENT
BEGIN:VEVENT
DTSTART;TZID=Asia/Tokyo:20240206T133000
DTEND;TZID=Asia/Tokyo:20240206T150000
DTSTAMP:20260425T001244
CREATED:20240114T001243Z
LAST-MODIFIED:20240114T001243Z
UID:6558-1707226200-1707231600@www.narupara.com
SUMMARY:難病患者さんと家族のつどい(事前申し込み) 緑保健センター実施分
DESCRIPTION:難病患者さんと家族のつどい \n会場:緑保健センター\n時間:午後1時30分から午後3時\n対象:難病に関する個別相談を希望する方 \n※申し込み開始日時および方法は広報なごやにて確認してください \n問い合わせ先:緑保健センター 電話番号 052-891-3628
URL:http://www.narupara.com/event/20240206-patients-with-intractable-diseases-and-their-families/
LOCATION:名古屋市緑保健センター\, 緑区相原郷一丁目715\, 名古屋市\, 愛知県\, 458-0033\, 日本
CATEGORIES:スポーツ・健康
END:VEVENT
BEGIN:VEVENT
DTSTART;TZID=Asia/Tokyo:20240206T130500
DTEND;TZID=Asia/Tokyo:20240206T140000
DTSTAMP:20260425T001244
CREATED:20230410T234346Z
LAST-MODIFIED:20230410T234421Z
UID:2761-1707224700-1707228000@www.narupara.com
SUMMARY:1歳6か月児健康診査 緑保健センター徳重分室実施分
DESCRIPTION:“—–概要\n—–\n・1歳6か月のお子様の健康診査、子育ての相談を行っています。\n・対象の方には、保健センターから個別に通知します。\n・実施日に都合の悪い方や、転入などにより通知が届かない方は緑保健センター(電話番号052-891-3619)までご連絡下さい。 \n—–\n健康診査の内容\n—–\n1.受付\n2.歯科検診(歯の発育状態をチェックします)\n3.問診(お子様の様子や子育ての困りごとなどをお聞きします)\n4.身体計測(身長・体重・頭囲)\n5.お医者さんによる診察\n6.育児、栄養、歯科についての相談\n7.フッ化物塗布(希望される方のみ、感染症の状況により中止となる場合があります)\n注:感染症の状況により一部の内容が中止・変更となる場合があります。\n注:フッ化物塗布をご希望の方は720円必要です(生活保護世帯は免除あり、要証明)。 \n令和5年度の1歳6か月児健診について\n令和5年度の1歳6か月児健診の日程、対象者です。 \n令和5年度1歳6か月児健康診査日程 (PDF形式\, 201.13KB)\nhttps://www.city.nagoya.jp/midori/cmsfiles/contents/0000124/124654/18M-old-child_schedule.pdf \n受付時間・対象者\n健診会場:/  受付時間 / 対象者\n緑保健センター / (第2子以降)午後1時から午後1時30分まで (第1子)午後1時30分から午後2時まで / 徳重分室対象学区以外の学区にお住まいの方\n徳重分室 / (第2子以降)午後1時5分から午後1時30分まで (第1子)午後1時30分から午後2時まで / 次の学区にお住まいの方:黒石・常安・鳴海東部・戸笠・徳重・神の倉・熊の前・桃山 \n・お住まいの学区により健診日、健診会場、受付時間が異なります。\n・12時(正午)から整理番号札を配布します。 \n—–\n日程変更のお申し出について\n—–\n緑保健センターが実施する乳幼児健診の日程変更を希望される方は、下記の二次元コードまたはURLから変更申請を行ってください。 \n\nLoGoフォームlogoform.jp\n日程変更ができるのは、緑区にお住まいの方のうち、現在、お手元に乳幼児健診のご案内が届いている方のみです。\nウェブでのお手続きが難しい場合は、電話番号(052-891-3619)にてお申し出ください。 \n—–\nその地\n—–\n・付き添いの方はできるだけ保護者様1人でお願いします(ご事情がある方は当日、会場でお申し出ください)。\n・お子様やご家族に咳や発熱、感染が疑われる発疹等の症状のある方は、通知日にかかわらず、受診の延期をお願いします。\n・車での来場はできるだけご遠慮ください。緑保健センターでは、健診者すべての方が駐車できるスペースはありませんので、駐車できるまでお待たせすることがあります。\n・緑保健センター近隣の商業施設への駐車は絶対にご遠慮ください。\n・健診当日の来所者数により、2時間から3時間程度かかることがあります。 \n—–\n名古屋市:令和5年度 1歳6か月児健康診査のご案内(緑区)\nhttps://www.city.nagoya.jp/midori/page/0000124654.html\n—–“
URL:http://www.narupara.com/event/1%e6%ad%b36%e3%81%8b%e6%9c%88%e5%85%90%e5%81%a5%e5%ba%b7%e8%a8%ba%e6%9f%bb-%e7%b7%91%e4%bf%9d%e5%81%a5%e3%82%bb%e3%83%b3%e3%82%bf%e3%83%bc%e5%be%b3%e9%87%8d%e5%88%86%e5%ae%a4%e5%ae%9f%e6%96%bd-28/
LOCATION:愛知県
CATEGORIES:子育て
END:VEVENT
BEGIN:VEVENT
DTSTART;TZID=Asia/Tokyo:20240206T100000
DTEND;TZID=Asia/Tokyo:20240206T130000
DTSTAMP:20260425T001244
CREATED:20230325T024159Z
LAST-MODIFIED:20230325T024447Z
UID:2514-1707213600-1707224400@www.narupara.com
SUMMARY:移動児童館「ちびっこ冒険ひろば」(雨天中止)
DESCRIPTION:移動児童館「ちびっこ冒険ひろば」日時:毎週火曜日 10:00～13:00\n会場:新海池公園(荒天中止)\n対象:乳幼児と保護者\n内容:どろんこ遊び・森へのおさんぽなどを楽しんでいます。\n着替え持参、汚れてもいい服装で来てね。(おとなも♪) \n※雨天決行・荒天の場合は中止します\n中止の場合はホームページに掲載します。 \n\n名古屋市 緑児童館やってみたい！をやってみよう。緑児童館は名古屋市の指定管理を受け、特定非営利活動法人こどもNPOと名古屋市緑区社会福祉協議会コンソーシアムによって管理・運営をしています。midorijidoukan.com
URL:http://www.narupara.com/event/%e7%a7%bb%e5%8b%95%e5%85%90%e7%ab%a5%e9%a4%a8%e3%80%8c%e3%81%a1%e3%81%b3%e3%81%a3%e3%81%93%e5%86%92%e9%99%ba%e3%81%b2%e3%82%8d%e3%81%b0%e3%80%8d%e9%9b%a8%e5%a4%a9%e4%b8%ad%e6%ad%a2-49/
LOCATION:愛知県
CATEGORIES:スポーツ・健康,子育て
END:VEVENT
BEGIN:VEVENT
DTSTART;TZID=Asia/Tokyo:20240206T080000
DTEND;TZID=Asia/Tokyo:20240207T235900
DTSTAMP:20260425T001244
CREATED:20240113T223805Z
LAST-MODIFIED:20240113T223805Z
UID:6533-1707206400-1707350340@www.narupara.com
SUMMARY:みどり楽の湯 風呂の日
DESCRIPTION:みどり楽の湯ホームページで令和6年2月6日に「風呂の日」が開催されるお知らせが発表されました。 \n詳しくは発表掲載ページをご覧ください。 \n\n\n \n\nページが見つかりませんでした – 楽の湯 みどりrakunoyu.com\n 
URL:http://www.narupara.com/event/20240206-midori-rakunoyu/
LOCATION:愛知県
CATEGORIES:スポーツ・健康
ATTACH;FMTTYPE=image/jpeg:http://www.narupara.com/cms/wp-content/uploads/2023/12/ft_logo_pc.jpg
END:VEVENT
BEGIN:VEVENT
DTSTART;VALUE=DATE:20240206
DTEND;VALUE=DATE:20240212
DTSTAMP:20260425T001244
CREATED:20240115T124259Z
LAST-MODIFIED:20240115T124259Z
UID:6644-1707177600-1707695999@www.narupara.com
SUMMARY:明太子の販売(2024/1/31～2/5)
DESCRIPTION:イオンタウン有松HPで令和6年1月31日(水)から2月5日(火)までの期間開催される「明太子の販売」の情報が発表されました。 \n\n\n\n\n明太子の販売\n開催期間:2024.01.31 ～ 2024.02.05\n時間:10時～19時 (最終日は17:00まで)\n場所:2階 ラメール前 \n \n\nイオンタウン有松イオンタウン有松の公式サイトです。ショップ情報、イベント情報、施設情報などを掲載しています。イオンタウンは、「地域とのつながり」を創造し、お客さまの日常に新たな発見を提供し続けます。皆さまのご来店をお待ちしております。www.aeontown.co.jp
URL:http://www.narupara.com/event/20240131to0205-aeontown-arimatsu/
LOCATION:イオンタウン有松\, 緑区鳴海町有松裏200番地\, 名古屋市\, 愛知県\, 458-0852458-0824\, 日本
ATTACH;FMTTYPE=image/jpeg:http://www.narupara.com/cms/wp-content/uploads/2022/09/aeontown-arimatsu.jpg
END:VEVENT
BEGIN:VEVENT
DTSTART;VALUE=DATE:20240206
DTEND;VALUE=DATE:20240212
DTSTAMP:20260425T001244
CREATED:20240115T124107Z
LAST-MODIFIED:20240115T124144Z
UID:6643-1707177600-1707695999@www.narupara.com
SUMMARY:刃物研ぎ・陶磁器販売(2024/2/6～2/11)
DESCRIPTION:イオンタウン有松HPで令和6年2月6日(火)から2月11日(日・祝)までの期間開催される「刃物研ぎ・陶磁器販売」の情報が発表されました。 \n\n\n\n\n刃物研ぎ・陶磁器販売\n開催期間:2024.02.06 ～ 2024.02.11\n時間:10時～19時 (最終日は15:00まで)\n場所:1階 西出入口前 \n \n\nイオンタウン有松イオンタウン有松の公式サイトです。ショップ情報、イベント情報、施設情報などを掲載しています。イオンタウンは、「地域とのつながり」を創造し、お客さまの日常に新たな発見を提供し続けます。皆さまのご来店をお待ちしております。www.aeontown.co.jp
URL:http://www.narupara.com/event/20240206to0211-aeontown-arimatsu/
LOCATION:イオンタウン有松\, 緑区鳴海町有松裏200番地\, 名古屋市\, 愛知県\, 458-0852458-0824\, 日本
ATTACH;FMTTYPE=image/jpeg:http://www.narupara.com/cms/wp-content/uploads/2022/09/aeontown-arimatsu.jpg
END:VEVENT
BEGIN:VEVENT
DTSTART;VALUE=DATE:20240206
DTEND;VALUE=DATE:20240207
DTSTAMP:20260425T001244
CREATED:20240114T083009Z
LAST-MODIFIED:20240114T083134Z
UID:6610-1707177600-1707263999@www.narupara.com
SUMMARY:音響学科 ホール実習 @緑文化小劇場
DESCRIPTION:
URL:http://www.narupara.com/event/%e9%9f%b3%e9%9f%bf%e5%ad%a6%e7%a7%91-%e3%83%9b%e3%83%bc%e3%83%ab%e5%ae%9f%e7%bf%92-%e7%b7%91%e6%96%87%e5%8c%96%e5%b0%8f%e5%8a%87%e5%a0%b4/
LOCATION:愛知県
CATEGORIES:教養・実用・講座
END:VEVENT
BEGIN:VEVENT
DTSTART;TZID=Asia/Tokyo:20240205T200000
DTEND;TZID=Asia/Tokyo:20240205T200000
DTSTAMP:20260425T001244
CREATED:20240114T083629Z
LAST-MODIFIED:20240114T083733Z
UID:6622-1707163200-1707163200@www.narupara.com
SUMMARY:アラン・プーサン ライブ(Allan Poohsan LIVE)
DESCRIPTION:Stormy Monday Blues SESSION 2023 ホストバンド SP’s / 参加者1000円 お客様無料 / ※内容は掲載当時のものです。変更の場合もあるので公式サイトやSNSでご確認ください。
URL:http://www.narupara.com/event/%e3%82%a2%e3%83%a9%e3%83%b3%e3%83%bb%e3%83%97%e3%83%bc%e3%82%b5%e3%83%b3-%e3%83%a9%e3%82%a4%e3%83%96allan-poohsan-live-204/
LOCATION:愛知県
CATEGORIES:コンサート・ライブ,文化・芸術
END:VEVENT
BEGIN:VEVENT
DTSTART;TZID=Asia/Tokyo:20240205T180000
DTEND;TZID=Asia/Tokyo:20240205T200000
DTSTAMP:20260425T001244
CREATED:20240203T231951Z
LAST-MODIFIED:20240203T231951Z
UID:6986-1707156000-1707163200@www.narupara.com
SUMMARY:有松天満社 令和6年度献燈神事「初午 前夜祭」
DESCRIPTION:有松天満社のホームページで令和6年2月5日(月)に「初午 前夜祭」が開催されるお知らせが発表されました。\n詳しくは発表掲載ページをご覧ください。 \n\n\n—–\n以下、ホームページから引用または抜粋\n—– \n令和6年度献燈神事「初午 前夜祭」のご案内\n令和6年2月5日(月)の夜は東海道の西にある祗園寺さんにて献燈神事「初午(はつうま) 前夜祭」を斎行いたします。 \n初午(はつうま)とは、2月最初の午(うま)の日の事を言います。 \n全国の稲荷神社の総本社・京都の伏見稲荷大社に祀られている 宇迦之御霊(ウカノミタマ) が、伊奈利山(いなりやま)へ降臨された日が「初午」の日であったそうです。 \n宇迦之御霊(ウカノミタマ)は五穀をつかさどる農業神として広く信仰されており、「お稲荷さん」とも呼ばれております。 \n「お稲荷さん」と言えば、「狐の姿をした神様」を想像されるお方もいらっしゃる事と思います。 \n古来より、私たち日本人は「農耕」を生業としていた民族です。 \n農作物を荒らすネズミを狐が狩る事から人々に崇められていた事と、「狐」は「神聖なもの」「神様の使い」として考えられていた事から、「五穀豊穣の神様」「商売繁盛の神様」として人々に広く信仰されるようになりました。 \n今年の初午の日は2月12(月祝)ではありますが、 有松では毎年2月5日に献燈神事「初午 前夜祭」を行う日としており、「先人から受け継いだ有松の大切な文化」として今日に至ります。 \n+++ 祗園寺さんについて +++ \n \n祗園寺さんは、当社にとって大切なご縁のあるお寺です。 \n江戸時代後期の「尾張名所図会」によると、祗園寺さんの境内に祀られていた祠を寛政の 初期(1789年～)の4世文章卍瑞によって、数千から捧げられた詩歌文章等を祇園寺の裏にある天満嶺の山頂に奉納して遷座し、現在に至ります。 \n※これらの由来から参詣道の入り口にある石灯篭や御朱印等に「文章嶺(ふみのみね)」という記載がございます。 \nhttps://www.arimatsu-tenmansha.com/post/令和6年度献燈神事-初午前夜祭のご案内
URL:http://www.narupara.com/event/20240205-arimatsu-tenmansha/
LOCATION:愛知県
CATEGORIES:文化・芸術
ATTACH;FMTTYPE=image/jpeg:http://www.narupara.com/cms/wp-content/uploads/2023/01/a1c05a_c13356a3f8424ec19d0a60aaa652f8bfmv2.jpg
END:VEVENT
BEGIN:VEVENT
DTSTART;TZID=Asia/Tokyo:20240205T100000
DTEND;TZID=Asia/Tokyo:20240205T113000
DTSTAMP:20260425T001244
CREATED:20240114T063151Z
LAST-MODIFIED:20240114T063151Z
UID:6596-1707127200-1707132600@www.narupara.com
SUMMARY:音楽の力でリラックス マインドフルネス講座(事前申し込み・先着順)
DESCRIPTION:音楽の力でリラックス マインドフルネス講座\n対象:名古屋市内在住の60歳以上。先着30人 \n※申し込み開始日時および方法は広報なごやにて確認してください
URL:http://www.narupara.com/event/20240205-mindfulness-music-course/
LOCATION:名古屋市緑福祉会館\, 緑区相原郷二丁目701番地\, 名古屋市\, 愛知県\, 458-0033\, 日本
CATEGORIES:スポーツ・健康,教養・実用・講座
END:VEVENT
BEGIN:VEVENT
DTSTART;TZID=Asia/Tokyo:20240204T193000
DTEND;TZID=Asia/Tokyo:20240204T230000
DTSTAMP:20260425T001244
CREATED:20240114T083629Z
LAST-MODIFIED:20240114T083733Z
UID:6621-1707075000-1707087600@www.narupara.com
SUMMARY:アラン・プーサン ライブ(Allan Poohsan LIVE)
DESCRIPTION:SPECIAL LIVE ToughTimes
URL:http://www.narupara.com/event/%e3%82%a2%e3%83%a9%e3%83%b3%e3%83%bb%e3%83%97%e3%83%bc%e3%82%b5%e3%83%b3-%e3%83%a9%e3%82%a4%e3%83%96allan-poohsan-live-203/
LOCATION:愛知県
CATEGORIES:コンサート・ライブ,文化・芸術
END:VEVENT
BEGIN:VEVENT
DTSTART;TZID=Asia/Tokyo:20240204T103000
DTEND;TZID=Asia/Tokyo:20240204T120000
DTSTAMP:20260425T001244
CREATED:20240114T062317Z
LAST-MODIFIED:20240114T062317Z
UID:6583-1707042600-1707048000@www.narupara.com
SUMMARY:法律セミナー「やさしい相続税・生前贈与」(事前申し込み・先着順)
DESCRIPTION:法律セミナー「やさしい相続税・生前贈与」\n時間:午前10時30分から正午\n場所:徳重地区会館\n対象:先着25人\n費用:500円 \n※申し込み開始日時および方法は広報なごやにて確認してください
URL:http://www.narupara.com/event/20240204-tokushige-library/
LOCATION:名古屋市徳重地区会館\, 緑区元徳重一丁目401番地\, 名古屋市\, 愛知県\, 458-0852\, 日本
CATEGORIES:教養・実用・講座
END:VEVENT
BEGIN:VEVENT
DTSTART;TZID=Asia/Tokyo:20240203T193000
DTEND;TZID=Asia/Tokyo:20240203T230000
DTSTAMP:20260425T001244
CREATED:20240114T083628Z
LAST-MODIFIED:20240114T083733Z
UID:6620-1706988600-1707001200@www.narupara.com
SUMMARY:アラン・プーサン ライブ(Allan Poohsan LIVE)
DESCRIPTION:ALLAN POOHSAN & CHUBBY.K 企画 「APC MART 節分SALE」 コンバース
URL:http://www.narupara.com/event/%e3%82%a2%e3%83%a9%e3%83%b3%e3%83%bb%e3%83%97%e3%83%bc%e3%82%b5%e3%83%b3-%e3%83%a9%e3%82%a4%e3%83%96allan-poohsan-live-202/
LOCATION:愛知県
CATEGORIES:コンサート・ライブ,文化・芸術
END:VEVENT
BEGIN:VEVENT
DTSTART;TZID=Asia/Tokyo:20240203T183000
DTEND;TZID=Asia/Tokyo:20240203T203000
DTSTAMP:20260425T001244
CREATED:20230428T230332Z
LAST-MODIFIED:20230428T230402Z
UID:3245-1706985000-1706992200@www.narupara.com
SUMMARY:サタデーナイトバドミントン(当日先着順)
DESCRIPTION:サタデーナイトバドミントンバドミントンコート10面を開放致します。土曜日の夜は皆さんでバドミントンをしませんか? \n定員:各90名\n対象者:小学生以上\n時間:18:30～20:30\n参加費:各330円(税込)\n会場:緑スポーツセンター 第一競技場\n持ち物:室内シューズ、ラケット、シャトル \n申込期間:当日18:20より事務所窓口にて、先着順 \nその他:参加中に撮影した写真を、当施設のブログや掲示板に使用することがあります。\n掲載されることに支障がある方は事前にお申し出ください。\n新型コロナウィルス感染拡大状況により、開催中止となる場合がございます。\n予めご了承ください。
URL:http://www.narupara.com/event/%e3%82%b5%e3%82%bf%e3%83%87%e3%83%bc%e3%83%8a%e3%82%a4%e3%83%88%e3%83%90%e3%83%89%e3%83%9f%e3%83%b3%e3%83%88%e3%83%b3%e5%bd%93%e6%97%a5%e5%85%88%e7%9d%80%e9%a0%86-16/
LOCATION:愛知県
CATEGORIES:スポーツ・健康
END:VEVENT
BEGIN:VEVENT
DTSTART;TZID=Asia/Tokyo:20240203T140000
DTEND;TZID=Asia/Tokyo:20240203T143000
DTSTAMP:20260425T001244
CREATED:20230413T232306Z
LAST-MODIFIED:20230413T232341Z
UID:3110-1706968800-1706970600@www.narupara.com
SUMMARY:おはなし会(ストーリーテリング)(当日先着順)
DESCRIPTION:おはなし会(ストーリーテリング)時間:毎月第1土曜日 午後2時から午後2時30分\n対象:5歳以上\n当日先着10人 \n\n図書館案内 : 緑図書館 | 名古屋市図書館ホームページwww.library.city.nagoya.jp
URL:http://www.narupara.com/event/%e3%81%8a%e3%81%af%e3%81%aa%e3%81%97%e4%bc%9a%e3%82%b9%e3%83%88%e3%83%bc%e3%83%aa%e3%83%bc%e3%83%86%e3%83%aa%e3%83%b3%e3%82%b0%e5%bd%93%e6%97%a5%e5%85%88%e7%9d%80%e9%a0%86-11/
LOCATION:愛知県
CATEGORIES:子育て,教養・実用・講座
END:VEVENT
BEGIN:VEVENT
DTSTART;TZID=Asia/Tokyo:20240203T110000
DTEND;TZID=Asia/Tokyo:20240203T113000
DTSTAMP:20260425T001244
CREATED:20240114T061403Z
LAST-MODIFIED:20240114T061403Z
UID:6575-1706958000-1706959800@www.narupara.com
SUMMARY:おはなし会(当日先着順)
DESCRIPTION:おはなし会\n時間:午前11時から午前11時30分\n会場:徳重地区会館\n対象:幼児・小学生。当日先着9人
URL:http://www.narupara.com/event/20240203-storytelling-party/
LOCATION:名古屋市徳重地区会館\, 緑区元徳重一丁目401番地\, 名古屋市\, 愛知県\, 458-0852\, 日本
CATEGORIES:子育て,教養・実用・講座
END:VEVENT
BEGIN:VEVENT
DTSTART;TZID=Asia/Tokyo:20240203T090000
DTEND;TZID=Asia/Tokyo:20240203T180000
DTSTAMP:20260425T001244
CREATED:20240113T232426Z
LAST-MODIFIED:20240113T232157Z
UID:6535-1706950800-1706983200@www.narupara.com
SUMMARY:節分祭 追儺祈祷 奉仕
DESCRIPTION:成海神社公式サイトに節分祭 追儺祈祷 奉仕開催のお知らせが発表されています。 \n\n\n節分とは立春正月の古例による年越しの日で、厄除招福の伝統行事が尚ばれています。\n安らかな明るいクラシを営む上に暗い陰がさすものを、国語でオニと申します。\n神徳を頂いてオニなど身辺から追放すべく、節分祭のお祈りをどうぞ。\n壮麗な祭場にお家族様挙って御参列の上、豆まき厄祓式を厳修頂きます。 \n令和6年2月3日(土)\n\n\n時間:午前9時～午後6時まで(随時)\n神事:御祈祷・豆まき式\n御授与品:厄除神符・破魔矢・祈願だるま・撤饌\n\n接遇:福引・甘酒小袋\n祈祷予約券2\,500円(当日のお申込みは3\,000円)\n\n\n\n節分祭 | 成海神社節分とは立春正月の古例による年越しの日で、厄除招福の伝統行事が尚ばれています。 安らかな明るいクラシを営む上に暗い陰がさすものを、国語でオニと申します。 神徳を頂いてオニなど身辺から追放すべく、節分祭のお祈りをどうぞ。 壮麗な祭場にお家族様...narumi-jinja.or.jp
URL:http://www.narupara.com/event/20240203-narumi-shinto-shrine/
LOCATION:成海神社\, 緑区鳴海町乙子山85\, 名古屋市緑区\, 4580801
CATEGORIES:文化・芸術,祭礼
ATTACH;FMTTYPE=image/jpeg:http://www.narupara.com/cms/wp-content/uploads/2022/09/2_1.jpg
END:VEVENT
BEGIN:VEVENT
DTSTART;TZID=Asia/Tokyo:20240202T200000
DTEND;TZID=Asia/Tokyo:20240202T230000
DTSTAMP:20260425T001244
CREATED:20240114T083628Z
LAST-MODIFIED:20240114T083733Z
UID:6619-1706904000-1706914800@www.narupara.com
SUMMARY:アラン・プーサン ライブ(Allan Poohsan LIVE)
DESCRIPTION:弾き語り市 Deepスタイル編 Goichi
URL:http://www.narupara.com/event/%e3%82%a2%e3%83%a9%e3%83%b3%e3%83%bb%e3%83%97%e3%83%bc%e3%82%b5%e3%83%b3-%e3%83%a9%e3%82%a4%e3%83%96allan-poohsan-live-201/
LOCATION:愛知県
CATEGORIES:コンサート・ライブ,文化・芸術
END:VEVENT
BEGIN:VEVENT
DTSTART;TZID=Asia/Tokyo:20240202T133000
DTEND;TZID=Asia/Tokyo:20240202T143000
DTSTAMP:20260425T001244
CREATED:20230311T230404Z
LAST-MODIFIED:20230311T230827Z
UID:2258-1706880600-1706884200@www.narupara.com
SUMMARY:こころの健康相談日(事前申し込み)
DESCRIPTION:こころの健康相談日会場:保健センター\n日程:毎週金曜日\n開催時間:午後1時30分から午後2時、午後2時から午後2時30分\n対象:区内在住・在勤・在学の方、家族・支援者など\n申込:2日前までに電子申請か前日までに電話にて \n予約問合:精神相談 電話番号 052-891-3621
URL:http://www.narupara.com/event/%e3%81%93%e3%81%93%e3%82%8d%e3%81%ae%e5%81%a5%e5%ba%b7%e7%9b%b8%e8%ab%87%e6%97%a5%e4%ba%8b%e5%89%8d%e7%94%b3%e3%81%97%e8%be%bc%e3%81%bf-44/
LOCATION:愛知県
CATEGORIES:スポーツ・健康
END:VEVENT
BEGIN:VEVENT
DTSTART;TZID=Asia/Tokyo:20240202T131000
DTEND;TZID=Asia/Tokyo:20240202T145000
DTSTAMP:20260425T001244
CREATED:20240114T000454Z
LAST-MODIFIED:20240114T000454Z
UID:6554-1706879400-1706885400@www.narupara.com
SUMMARY:母乳相談(事前申し込み)
DESCRIPTION:受付時間:午後1時10分から午後2時50分\n対象:母乳でお悩みの方\n内容:助産師による個別相談 ※詳細は、予約時にお問い合わせください。\n予約問合:保健看護担当 電話番号 052-891-3628 \n※申し込み開始日時および方法は広報なごやにて確認してください
URL:http://www.narupara.com/event/20240202-midori-breastfeeding-consultation/
LOCATION:名古屋市緑保健センター\, 緑区相原郷一丁目715\, 名古屋市\, 愛知県\, 458-0033\, 日本
CATEGORIES:子育て
END:VEVENT
BEGIN:VEVENT
DTSTART;TZID=Asia/Tokyo:20240202T093000
DTEND;TZID=Asia/Tokyo:20240202T113000
DTSTAMP:20260425T001244
CREATED:20240114T001207Z
LAST-MODIFIED:20240114T001207Z
UID:6557-1706866200-1706873400@www.narupara.com
SUMMARY:はじめよう楽しくポールウォーキング(事前申し込み・先着順)
DESCRIPTION:会場:緑スポーツセンター\n時間:午前9時30分から午前11時30分\n対象:緑区内在住で会場から滝ノ水中央公園まで歩ける方。先着20人 \n※申し込み開始日時および方法は広報なごやにて確認してください \n予約問合:がん検診、予防接種 電話番号 052-891-3623
URL:http://www.narupara.com/event/20240202-midori-lets-get-started-and-enjoy-pole-walking/
LOCATION:名古屋市緑スポーツセンター\, 緑区相原郷一丁目2901\, 名古屋市\, 愛知県\, 458-0033\, 日本
CATEGORIES:スポーツ・健康
END:VEVENT
BEGIN:VEVENT
DTSTART;TZID=Asia/Tokyo:20240202T093000
DTEND;TZID=Asia/Tokyo:20240202T110000
DTSTAMP:20260425T001244
CREATED:20230428T234448Z
LAST-MODIFIED:20230428T234515Z
UID:3289-1706866200-1706871600@www.narupara.com
SUMMARY:離乳食・幼児食相談(事前予約制)
DESCRIPTION:離乳食・幼児食相談(事前予約制)\n「うちの子に合ったやり方になっているかな?」「孫の食事作りは昔と同じでいいのかな?」\nちょっとしたことでも大丈夫。\nどうぞ相談に来てくださいね。 \n—–\n内容\n—–\n離乳食・幼児食についての個別相談\n各時間2名(1人20分) \n午前9時30分から\n午前10時00分から\n午前10時30分から\n午前11時00分から \n—–\n対象\n—–\n緑区にお住まいの方 \n—–\n場所\n—–\n緑保健センター1階10番の部屋 \n—–\n持ち物\n—–\n母子健康手帳、筆記用具、(必要な方は)飲み物 \n—–\n申込方法\n—–\n※申し込み開始日時および方法は広報なごやにて確認してください。\n緑保健センター 保健予防課 管理栄養士まで電話(電話番号052-891-3620)または窓口でお申し込みください。 \n—–\n参加にあたっての注意事項\n—–\n欠席をされる場合は、事前にご連絡をお願いします。 \n緑区役所緑保健センター保健予防課保健感染症係\n電話番号:052-891-3620 \n\nERROR: The request could not be satisfiedwww.city.nagoya.jp
URL:http://www.narupara.com/event/%e9%9b%a2%e4%b9%b3%e9%a3%9f%e3%83%bb%e5%b9%bc%e5%85%90%e9%a3%9f%e7%9b%b8%e8%ab%87%e4%ba%8b%e5%89%8d%e4%ba%88%e7%b4%84%e5%88%b6-10/
LOCATION:愛知県
CATEGORIES:子育て
END:VEVENT
BEGIN:VEVENT
DTSTART;TZID=Asia/Tokyo:20240201T160000
DTEND;TZID=Asia/Tokyo:20240201T163000
DTSTAMP:20260425T001244
CREATED:20230413T230409Z
LAST-MODIFIED:20230413T230543Z
UID:3049-1706803200-1706805000@www.narupara.com
SUMMARY:みんなのおはなし会(当日先着順)
DESCRIPTION:みんなのおはなし会毎月第1・3木曜日 午後4時から\n対象:幼児・小学低学年\n先着各10人 \n\n図書館案内 : 緑図書館 | 名古屋市図書館ホームページwww.library.city.nagoya.jp
URL:http://www.narupara.com/event/%e3%81%bf%e3%82%93%e3%81%aa%e3%81%ae%e3%81%8a%e3%81%af%e3%81%aa%e3%81%97%e4%bc%9a%e5%bd%93%e6%97%a5%e5%85%88%e7%9d%80%e9%a0%86-24/
LOCATION:愛知県
CATEGORIES:子育て
END:VEVENT
BEGIN:VEVENT
DTSTART;TZID=Asia/Tokyo:20240201T140000
DTEND;TZID=Asia/Tokyo:20240201T170000
DTSTAMP:20260425T001244
CREATED:20230325T025104Z
LAST-MODIFIED:20230325T025601Z
UID:2567-1706796000-1706806800@www.narupara.com
SUMMARY:移動児童館「にいのみ池プレーパーク」(雨天決行)
DESCRIPTION:にいのみ池プレーパーク日時:毎週木曜日 14:00～17:00\n会場:新海池公園(雨天決行・荒天)\n対象 ：0歳から120歳まで(小学生・中学生・高校生乳幼児親子・地域の人など)\n内容:自由に外遊びを楽しむ! \n※雨天決行・荒天の場合は中止します。\n中止の場合はホームページに掲載します。 \n※児童館の休館日は移動児童館もお休みです \n\n名古屋市 緑児童館やってみたい！をやってみよう。緑児童館は名古屋市の指定管理を受け、特定非営利活動法人こどもNPOと名古屋市緑区社会福祉協議会コンソーシアムによって管理・運営をしています。midorijidoukan.com
URL:http://www.narupara.com/event/%e7%a7%bb%e5%8b%95%e5%85%90%e7%ab%a5%e9%a4%a8%e3%80%8c%e3%81%ab%e3%81%84%e3%81%ae%e3%81%bf%e6%b1%a0%e3%83%97%e3%83%ac%e3%83%bc%e3%83%91%e3%83%bc%e3%82%af%e3%80%8d%e9%9b%a8%e5%a4%a9%e6%b1%ba-49/
LOCATION:愛知県
CATEGORIES:スポーツ・健康,子育て
END:VEVENT
BEGIN:VEVENT
DTSTART;TZID=Asia/Tokyo:20240201T140000
DTEND;TZID=Asia/Tokyo:20240201T153000
DTSTAMP:20260425T001244
CREATED:20240114T001105Z
LAST-MODIFIED:20240114T001105Z
UID:6556-1706796000-1706801400@www.narupara.com
SUMMARY:犬のしつけ方教室(事前申し込み・先着順)
DESCRIPTION:犬のしつけ方教室 \n※申し込み開始日時および方法は広報なごやにて確認してください \n会場:緑保健センター\n時間:午後2時から午後3時30分\n対象:犬を飼っている方(犬の同伴不可)先着20人 \n 
URL:http://www.narupara.com/event/20240201-dog/
LOCATION:名古屋市緑保健センター\, 緑区相原郷一丁目715\, 名古屋市\, 愛知県\, 458-0033\, 日本
CATEGORIES:教養・実用・講座
END:VEVENT
END:VCALENDAR