BEGIN:VCALENDAR
VERSION:2.0
PRODID:-//なるぱら - ECPv5.16.4//NONSGML v1.0//EN
CALSCALE:GREGORIAN
METHOD:PUBLISH
X-WR-CALNAME:なるぱら
X-ORIGINAL-URL:http://www.narupara.com
X-WR-CALDESC:Events for なるぱら
REFRESH-INTERVAL;VALUE=DURATION:PT1H
X-Robots-Tag:noindex
X-PUBLISHED-TTL:PT1H
BEGIN:VTIMEZONE
TZID:Asia/Tokyo
BEGIN:STANDARD
TZOFFSETFROM:+0900
TZOFFSETTO:+0900
TZNAME:JST
DTSTART:20230101T000000
END:STANDARD
END:VTIMEZONE
BEGIN:VEVENT
DTSTART;TZID=Asia/Tokyo:20240302T093000
DTEND;TZID=Asia/Tokyo:20240302T093000
DTSTAMP:20260421T223955
CREATED:20240216T192414Z
LAST-MODIFIED:20240216T192414Z
UID:7191-1709371800-1709371800@www.narupara.com
SUMMARY:「おこしもん」を作ろう!(開催時間中に2回開催)
DESCRIPTION:「おこしもん」を作ろう! \n「おこしもん」は米粉を蒸しあげて作る尾張・名古屋地方独特のひな菓子です。できたて、ほかほかのおこしもんを召しあがってみませんか。 \n日時:3月2日(土曜日)午前9時30分から正午、午後2時から4時30分\n場所:緑生涯学習センター\n料金:200円\n対象:小学生以上(小学生は保護者同伴)先着各24人 \n※申し込み開始日時および方法は広報なごやにて確認してください \n\nERROR: The request could not be satisfiedwww.city.nagoya.jp
URL:http://www.narupara.com/event/20240302-lets-make-okoshimon/
LOCATION:名古屋市緑児童館\, 緑区相原郷二丁目701\, 名古屋市\, 愛知県\, 458-0033\, 日本
CATEGORIES:子育て,教養・実用・講座,文化・芸術
END:VEVENT
BEGIN:VEVENT
DTSTART;TZID=Asia/Tokyo:20231201T200000
DTEND;TZID=Asia/Tokyo:20231201T230000
DTSTAMP:20260421T223955
CREATED:20231103T214808Z
LAST-MODIFIED:20231103T222831Z
UID:5450-1701460800-1701471600@www.narupara.com
SUMMARY:アラン・プーサン ライブ(Allan Poohsan LIVE)
DESCRIPTION:★ゴーゴー加藤 ★トムとフミ ★ひじやん / 1000円 / ※内容は掲載当時のものです。変更の場合もあるので公式サイトやSNSでご確認ください。
URL:http://www.narupara.com/event/%e3%82%a2%e3%83%a9%e3%83%b3%e3%83%bb%e3%83%97%e3%83%bc%e3%82%b5%e3%83%b3-%e3%83%a9%e3%82%a4%e3%83%96allan-poohsan-live-173/
LOCATION:愛知県
CATEGORIES:コンサート・ライブ,レジャー,文化・芸術
END:VEVENT
BEGIN:VEVENT
DTSTART;TZID=Asia/Tokyo:20231201T133000
DTEND;TZID=Asia/Tokyo:20231201T143000
DTSTAMP:20260421T223955
CREATED:20230311T230322Z
LAST-MODIFIED:20230311T230827Z
UID:2249-1701437400-1701441000@www.narupara.com
SUMMARY:こころの健康相談日(事前申し込み)
DESCRIPTION:こころの健康相談日会場:保健センター\n日程:毎週金曜日\n開催時間:午後1時30分から午後2時、午後2時から午後2時30分\n対象:区内在住・在勤・在学の方、家族・支援者など\n申込:2日前までに電子申請か前日までに電話にて \n予約問合:精神相談 電話番号 052-891-3621
URL:http://www.narupara.com/event/%e3%81%93%e3%81%93%e3%82%8d%e3%81%ae%e5%81%a5%e5%ba%b7%e7%9b%b8%e8%ab%87%e6%97%a5%e4%ba%8b%e5%89%8d%e7%94%b3%e3%81%97%e8%be%bc%e3%81%bf-35/
LOCATION:愛知県
CATEGORIES:スポーツ・健康
END:VEVENT
BEGIN:VEVENT
DTSTART;TZID=Asia/Tokyo:20231201T103000
DTEND;TZID=Asia/Tokyo:20231201T111500
DTSTAMP:20260421T223955
CREATED:20230411T001159Z
LAST-MODIFIED:20230411T001249Z
UID:2825-1701426600-1701429300@www.narupara.com
SUMMARY:すくすく歯ッピー教室 -はじめての歯みがきコース-(予約制)  徳重分室実施分
DESCRIPTION:いつから歯みがきをはじめたらいいの?どうやってみがくの?など、はじめての歯みがきには心配ごとがいっぱい!むし歯予防や仕上げ磨きのポイントについてお話します。\n(注) 感染症の状況に応じて、内容変更や中止となる場合があります。 \n—–\n内容\n—–\nむし歯予防の話、仕上げみがきの仕方、他 \n—–\n対象\n—–\n7か月から1歳1か月児まで(緑区民) 第1子のみ \n—–\n日程(すべて金曜日)\n—–\nすくすく歯ッピー教室開催日 \n日にち / 場所 / 申し込み期間\n4月28日 / 緑保健センター(オンライン併用開催) / 4月18日から 4月24日\n5月26日 / 徳重分室 / 5月16日から 5月22日\n6月30日 / 緑保健センター(オンライン併用開催) / 6月20日から 6月26日\n7月28日 / 徳重分室 / 7月18日から 7月24日\n8月25日 / 緑保健センター(オンライン併用開催) / 8月15日から 8月21日\n9月29日 / 徳重分室 / 9月19日から 9月25日\n10月27日 / 緑保健センター(オンライン併用開催) / 10月17日から10月23日\n12月1日 / 徳重分室 / 11月21日から11月27日\n12月22日 / 緑保健センター(オンライン併用開催) / 12月12日から12月18日\n1月26日 / 徳重分室 / 1月16日から 1月22日\n3月1日 / 緑保健センター(オンライン併用開催) / 2月20日から 2月26日\n3月22日 / 徳重分室 / 3月12日から 3月18日 \n—–\n開催時間\n—–\n【緑保健センター・徳重分室】\n午前10時30分から11時15分(受付時間 10時20分から)\n・感染症対策のため、参加者はお子さま1名につき保護者1名でお願いします。\n・体調の優れない方は、参加をご遠慮ください。 \n【オンライン】\n午前10時30分から11時00分(接続開始 10時15分から) \n—–\n定員\n—–\n【緑保健センター・オンライン】\n先着各15組 \n【徳重分室】\n先着10組 \n申し込み方法などは下記ページで確認してください。\n—–\n名古屋市:すくすく歯ッピー教室 -はじめての歯みがきコース-(予約制)(緑区)\nhttps://www.city.nagoya.jp/midori/page/0000161957.html\n—–
URL:http://www.narupara.com/event/%e3%81%99%e3%81%8f%e3%81%99%e3%81%8f%e6%ad%af%e3%83%83%e3%83%94%e3%83%bc%e6%95%99%e5%ae%a4-%e3%81%af%e3%81%98%e3%82%81%e3%81%a6%e3%81%ae%e6%ad%af%e3%81%bf%e3%81%8c%e3%81%8d%e3%82%b3%e3%83%bc-19/
LOCATION:愛知県
CATEGORIES:子育て
END:VEVENT
BEGIN:VEVENT
DTSTART;TZID=Asia/Tokyo:20231201T100000
DTEND;TZID=Asia/Tokyo:20231201T110000
DTSTAMP:20260421T223955
CREATED:20231110T201434Z
LAST-MODIFIED:20231110T201434Z
UID:5599-1701424800-1701428400@www.narupara.com
SUMMARY:あかちゃんひろば(事前申し込み・先着順)
DESCRIPTION:あかちゃんひろば対象:0歳児と保護者。先着各4組 \n※申し込み開始日時および方法は広報なごやにて確認してください。
URL:http://www.narupara.com/event/20231201-baby-hut/
LOCATION:名古屋市緑児童館\, 緑区相原郷二丁目701\, 名古屋市\, 愛知県\, 458-0033\, 日本
CATEGORIES:子育て
END:VEVENT
BEGIN:VEVENT
DTSTART;TZID=Asia/Tokyo:20231201T093000
DTEND;TZID=Asia/Tokyo:20231201T113000
DTSTAMP:20260421T223955
CREATED:20231110T211521Z
LAST-MODIFIED:20231110T211521Z
UID:5623-1701423000-1701430200@www.narupara.com
SUMMARY:はじめよう楽しくポールウォーキング(事前申し込み・先着順)
DESCRIPTION:会場:緑スポーツセンター\n時間:午前9時30分から午前11時30分\n対象:緑区内在住で会場から滝ノ水中央公園まで歩ける方。先着20人 \n※申し込み開始日時および方法は広報なごやにて確認してください \n予約問合:がん検診、予防接種 電話番号 052-891-3623
URL:http://www.narupara.com/event/20231201-midori-lets-get-started-and-enjoy-pole-walking/
LOCATION:名古屋市緑スポーツセンター\, 緑区相原郷一丁目2901\, 名古屋市\, 愛知県\, 458-0033\, 日本
CATEGORIES:スポーツ・健康
END:VEVENT
BEGIN:VEVENT
DTSTART;TZID=Asia/Tokyo:20231201T093000
DTEND;TZID=Asia/Tokyo:20231201T100000
DTSTAMP:20260421T223955
CREATED:20230411T001716Z
LAST-MODIFIED:20230411T001802Z
UID:2839-1701423000-1701424800@www.narupara.com
SUMMARY:すくすく歯ッピー教室 －お口にタッチコース－(予約制)  徳重分室実施分
DESCRIPTION:お子さんの体の成長とともにお口の機能もどんどん発達していきます。食べる力をつけるための離乳食の食べさせ方や歯みがきをこれから上手に進めていくためのコツをお伝えします!(注) 感染症の状況に応じて、内容変更や中止となる場合があります。 \n—–\n内容\nよく噛むお口の育て方、歯みがきの進め方、他\n—– \n—–\n対象\n—–\n3か月から6か月児(緑区民) 第1子のみ \n—–\n日程(すべて金曜日)\n—–\nすくすく歯ッピー教室開催日\n 日にち /  場所 / 申し込み期間\n4月28日 / 緑保健センター(オンライン併用開催) / 4月18日から 4月24日\n5月26日 / 徳重分室 / 5月16日から 5月22日\n6月30日 / 緑保健センター(オンライン併用開催) / 6月20日から 6月26日\n7月28日 / 徳重分室 / 7月18日から 7月24日\n8月25日 / 緑保健センター(オンライン併用開催) / 8月15日から 8月21日\n9月29日 / 徳重分室 / 9月19日から 9月25日\n10月27日 / 緑保健センター(オンライン併用開催) / 10月17日から10月23日\n12月1日 / 徳重分室 / 11月21日から11月27日\n12月22日 / 緑保健センター(オンライン併用開催) / 12月12日から12月18日\n1月26日 / 徳重分室 / 1月16日から 1月22日\n3月1日 / 緑保健センター(オンライン併用開催) / 2月20日から 2月26日\n3月22日 / 徳重分室 / 3月12日から 3月18日 \n—–\n開催時間\n—–\n【緑保健センター・徳重分室】\n午前9時30分から10時00分(受付時間 9時20分から)\n・感染症対策のため、参加者はお子さま1名につき保護者1名でお願いします。\n・体調の優れない方は参加をお控えください。 \n【オンライン】\n午前9時30分から10時00分(接続開始 9時15分から) \n—–\n定員\n—–\n【緑保健センター・オンライン】\n先着各15組 \n【徳重分室】\n先着10組 \n申し込み方法などは下記ページで確認してください。\n—–\n名古屋市:すくすく歯ッピー教室 -お口にタッチコース-(予約制)(緑区)\nhttps://www.city.nagoya.jp/midori/page/0000161956.html\n—–
URL:http://www.narupara.com/event/%e3%81%99%e3%81%8f%e3%81%99%e3%81%8f%e6%ad%af%e3%83%83%e3%83%94%e3%83%bc%e6%95%99%e5%ae%a4-%ef%bc%8d%e3%81%8a%e5%8f%a3%e3%81%ab%e3%82%bf%e3%83%83%e3%83%81%e3%82%b3%e3%83%bc%e3%82%b9%ef%bc%8d-4/
LOCATION:愛知県
CATEGORIES:子育て
END:VEVENT
BEGIN:VEVENT
DTSTART;TZID=Asia/Tokyo:20231201T093000
DTEND;TZID=Asia/Tokyo:20231201T093000
DTSTAMP:20260421T223955
CREATED:20230428T234321Z
LAST-MODIFIED:20230428T234515Z
UID:3285-1701423000-1701423000@www.narupara.com
SUMMARY:離乳食・幼児食相談(事前予約制)
DESCRIPTION:離乳食・幼児食相談(事前予約制)\n「うちの子に合ったやり方になっているかな?」「孫の食事作りは昔と同じでいいのかな?」\nちょっとしたことでも大丈夫。\nどうぞ相談に来てくださいね。 \n—–\n内容\n—–\n離乳食・幼児食についての個別相談\n各時間2名(1人20分) \n午前9時30分から\n午前10時00分から\n午前10時30分から\n午前11時00分から \n—–\n対象\n—–\n緑区にお住まいの方 \n—–\n場所\n—–\n緑保健センター1階10番の部屋 \n—–\n持ち物\n—–\n母子健康手帳、筆記用具、(必要な方は)飲み物 \n—–\n申込方法\n—–\n※申し込み開始日時および方法は広報なごやにて確認してください。\n緑保健センター 保健予防課 管理栄養士まで電話(電話番号052-891-3620)または窓口でお申し込みください。 \n—–\n参加にあたっての注意事項\n—–\n欠席をされる場合は、事前にご連絡をお願いします。 \n緑区役所緑保健センター保健予防課保健感染症係\n電話番号:052-891-3620 \n\nERROR: The request could not be satisfiedwww.city.nagoya.jp
URL:http://www.narupara.com/event/%e9%9b%a2%e4%b9%b3%e9%a3%9f%e3%83%bb%e5%b9%bc%e5%85%90%e9%a3%9f%e7%9b%b8%e8%ab%87%e4%ba%8b%e5%89%8d%e4%ba%88%e7%b4%84%e5%88%b6-8/
LOCATION:愛知県
CATEGORIES:子育て
END:VEVENT
BEGIN:VEVENT
DTSTART;TZID=Asia/Tokyo:20231130T140000
DTEND;TZID=Asia/Tokyo:20231130T170000
DTSTAMP:20260421T223955
CREATED:20230325T025034Z
LAST-MODIFIED:20230325T025602Z
UID:2558-1701352800-1701363600@www.narupara.com
SUMMARY:移動児童館「にいのみ池プレーパーク」(雨天決行)
DESCRIPTION:にいのみ池プレーパーク日時:毎週木曜日 14:00～17:00\n会場:新海池公園(雨天決行・荒天)\n対象 ：0歳から120歳まで(小学生・中学生・高校生乳幼児親子・地域の人など)\n内容:自由に外遊びを楽しむ! \n※雨天決行・荒天の場合は中止します。\n中止の場合はホームページに掲載します。 \n※児童館の休館日は移動児童館もお休みです \n\n名古屋市 緑児童館やってみたい！をやってみよう。緑児童館は名古屋市の指定管理を受け、特定非営利活動法人こどもNPOと名古屋市緑区社会福祉協議会コンソーシアムによって管理・運営をしています。midorijidoukan.com
URL:http://www.narupara.com/event/%e7%a7%bb%e5%8b%95%e5%85%90%e7%ab%a5%e9%a4%a8%e3%80%8c%e3%81%ab%e3%81%84%e3%81%ae%e3%81%bf%e6%b1%a0%e3%83%97%e3%83%ac%e3%83%bc%e3%83%91%e3%83%bc%e3%82%af%e3%80%8d%e9%9b%a8%e5%a4%a9%e6%b1%ba-40/
LOCATION:愛知県
CATEGORIES:スポーツ・健康,子育て
END:VEVENT
BEGIN:VEVENT
DTSTART;TZID=Asia/Tokyo:20231130T130000
DTEND;TZID=Asia/Tokyo:20231130T140000
DTSTAMP:20260421T223955
CREATED:20230410T235220Z
LAST-MODIFIED:20230410T235406Z
UID:2783-1701349200-1701352800@www.narupara.com
SUMMARY:3歳児健康診査 緑保健センター実施分
DESCRIPTION:“—–概要\n—–\n・3歳のお子様の健康診査、子育ての相談を行っています。\n・対象の方には、保健センターから個別に通知します。\n・実施日に都合の悪い方や、転入などにより通知が届かない方は緑保健センター(電話番号052-891-3619)までご連絡下さい。 \n—–\n健康診査の内容\n—–\n1.受付\n2.尿検査(尿蛋白・尿糖のスクリーニング検査)\n3.歯科検診(歯の発育状態をチェックします)\n4.問診(お子様の様子や子育ての困りごとなどをお聞きします)\n5.身体計測(身長・体重・頭囲)\n6.お医者さんによる診察\n7.育児、栄養、歯科についての相談\n8.フッ化物塗布(希望される方のみ、感染症の状況により中止となる場合があります)\n注:感染症の状況により一部の内容が中止・変更となる場合があります。\n注:フッ化物塗布をご希望の方は720円必要です(生活保護世帯は免除あり、要証明)。 \n—–\n令和5年度の3歳児健診について\n—–\n令和5年度の3歳児健診の日程、対象者です。\n令和5年度3歳児健康診査日程 (PDF形式\, 200.77KB) \nhttps://www.city.nagoya.jp/midori/cmsfiles/contents/0000124/124723/3Y-old-child_schedule.pdf \n—–\n受付時間・対象者\n—–\n健診会場:/ 受付時間 / 対象者\n緑保健センター / (第2子以降)午後1時から午後1時30分まで (第1子)午後1時30分から午後2時まで / 徳重分室対象学区以外の学区にお住まいの方\n徳重分室 / (第2子以降)午後1時5分から午後1時30分まで (第1子)午後1時30分から午後2時まで / 次の学区にお住まいの方:黒石・常安・鳴海東部・戸笠・徳重・神の倉・熊の前・桃山 \n・お住まいの学区により健診日、健診会場、受付時間が異なります。\n・12時(正午)から「整理番号札」、「尿検査用の紙コップ」を配布します。 \n—–\n日程変更のお申し出について\n—–\n緑保健センターが実施する乳幼児健診の日程変更を希望される方は、下記の二次元コードまたはURLから変更申請を行ってください。 \n\nLoGoフォームlogoform.jp\n日程変更ができるのは、緑区にお住まいの方のうち、現在、お手元に乳幼児健診のご案内が届いている方のみです。\nウェブでのお手続きが難しい場合は、電話番号(052-891-3619)にてお申し出ください。 \n—–\nその地\n—–\n・付き添いの方はできるだけ保護者様1人でお願いします(ご事情がある方は当日、会場でお申し出ください)。\n・お子様やご家族に咳や発熱、感染が疑われる発疹等の症状のある方は、通知日にかかわらず、受診の延期をお願いします。\n・車での来場はできるだけご遠慮ください。緑保健センターでは、健診者すべての方が駐車できるスペースはありませんので、駐車できるまでお待たせすることがあります。\n・緑保健センター近隣の商業施設への駐車は絶対にご遠慮ください。\n・健診当日の来所者数により、2時間から3時間程度かかることがあります。 \n—–\n名古屋市:令和5年度 3歳児健康診査のご案内(緑区)\nhttps://www.city.nagoya.jp/midori/page/0000124723.html\n—–“
URL:http://www.narupara.com/event/3%e6%ad%b3%e5%85%90%e5%81%a5%e5%ba%b7%e8%a8%ba%e6%9f%bb-%e7%b7%91%e4%bf%9d%e5%81%a5%e3%82%bb%e3%83%b3%e3%82%bf%e3%83%bc%e5%ae%9f%e6%96%bd%e5%88%86-31/
LOCATION:愛知県
CATEGORIES:子育て
END:VEVENT
BEGIN:VEVENT
DTSTART;TZID=Asia/Tokyo:20231130T103000
DTEND;TZID=Asia/Tokyo:20231130T112000
DTSTAMP:20260421T223955
CREATED:20231110T195141Z
LAST-MODIFIED:20231110T195141Z
UID:5579-1701340200-1701343200@www.narupara.com
SUMMARY:おはなし会たんぽぽ(当日先着順)
DESCRIPTION:おはなし会たんぽぽ \n(1)午前10時30分から午前10時50分(2)午前11時から午前11時20分\n対象:(1)0歳児から1歳児と保護者(2)1歳児から3歳児と保護者。当日先着各6組
URL:http://www.narupara.com/event/20231130-tanpopo/
LOCATION:名古屋市緑図書館\, 緑区旭出一丁目1104番地\, 名古屋市\, 愛知県\, 458-0031\, 日本
CATEGORIES:子育て,教養・実用・講座
END:VEVENT
BEGIN:VEVENT
DTSTART;TZID=Asia/Tokyo:20231130T100000
DTEND;TZID=Asia/Tokyo:20231130T150000
DTSTAMP:20260421T223955
CREATED:20231120T222609Z
LAST-MODIFIED:20231120T222609Z
UID:5806-1701338400-1701356400@www.narupara.com
SUMMARY:「一日公庫」in有松商工会
DESCRIPTION:「一日公庫」in有松商工会のご案内\n日本政策金融公庫熱田支店では、愛知県事業承継・引継ぎ支援センター、有松商工会と連携、「融資相談会(一日公庫)・事業承継相談会」を開催します。日本公庫及び愛知県事業承継・引継ぎ支援センターの担当者が、商工会にお伺いし、融資や事業承継に関するご相談を承ります。\n日付:令和5年11月30日(木)\n時間:午前10時～午後3時\n内容:\n一日公庫のご案内.pdf (サイズ:131498 Byte) \n 
URL:http://www.narupara.com/event/20231130-arimatsu/
LOCATION:愛知県
CATEGORIES:教養・実用・講座
END:VEVENT
BEGIN:VEVENT
DTSTART;TZID=Asia/Tokyo:20231130T093000
DTEND;TZID=Asia/Tokyo:20231130T103000
DTSTAMP:20260421T223955
CREATED:20230411T050704Z
LAST-MODIFIED:20230411T050743Z
UID:2852-1701336600-1701340200@www.narupara.com
SUMMARY:むし歯予防教室(予約制) 緑保健センター実施分
DESCRIPTION:生えたばかりの歯はむし歯になりやすく、この頃にフッ素を塗るのが効果的です。定期的に歯科検診やフッ素塗布をしましょう。\n(注)感染症の状況に応じて中止になる場合があります。 \n—–\n内容\n—–\n歯科検診、歯科相談、栄養相談、フッ素塗布(希望者のみ料金720円) \n—–\n対象\n—–\n0歳から3歳11か月児 \n—–\n日程(令和5年度)\n—–\n緑保健センター実施分(すべて木曜日)\n4月27日、5月25日、6月22日、7月27日、8月31日、9月28日、10月26日、11月30日、12月21日、1月25日、2月29日、3月21日 \n徳重分室実施分(すべて木曜日)\n4月20日、5月11日、6月8日、7月13日、8月24日、9月21日、10月12日、11月16日、12月14日、1月11日、2月15日、3月7日 \n—–\n受付時間\n—–\n午前9時30分から10時30分 \n—–\n持ち物等\n—–\n持ち物:母子手帳・歯ブラシ・タオル\nフッ素塗布を希望される方は720円が必要となります。\n(注)生活保護世帯は減免あり(要証明書)\n歯科検診、相談は無料です。 \n—–\n予約方法等\n—–\n電話または窓口で予約(電話番号052-891-3620)\n定員20名 \n—–\n名古屋市:緑保健センター むし歯予防教室(予約制)(緑区)\nhttps://www.city.nagoya.jp/midori/page/0000161955.html\n—–
URL:http://www.narupara.com/event/%e3%82%80%e3%81%97%e6%ad%af%e4%ba%88%e9%98%b2%e6%95%99%e5%ae%a4%e4%ba%88%e7%b4%84%e5%88%b6-%e7%b7%91%e4%bf%9d%e5%81%a5%e3%82%bb%e3%83%b3%e3%82%bf%e3%83%bc%e5%ae%9f%e6%96%bd%e5%88%86-15/
LOCATION:愛知県
CATEGORIES:子育て
END:VEVENT
BEGIN:VEVENT
DTSTART;TZID=Asia/Tokyo:20231129T133000
DTEND;TZID=Asia/Tokyo:20231129T150000
DTSTAMP:20260421T223955
CREATED:20231110T204858Z
LAST-MODIFIED:20231110T204858Z
UID:5605-1701264600-1701270000@www.narupara.com
SUMMARY:消しゴムはんこを作ろう!(事前申し込み・先着順)
DESCRIPTION:消しゴムはんこを作ろう!\n日時:11月29日(水曜日)午後1時30分から午後3時\n人数:先着10人程度\n費用:700円 \n※申し込み開始日時および方法は広報なごやにて確認してください \n緑生涯学習センター\n電話番号 052-621-9121 ファクス番号 052-621-6915 \n\n名古屋市青少年交流プラザ | 名古屋市青少年交流プラザは、青少年の「成長したい」思いを応援する施設です。様々な体験プログラムや、「やってみたい」ことを実現させるプロセスを通して、仲間とのつながりを深めたり、自分の新たな可能性に気付いたりする。そんな経験をプラザでしてみませんか。名古屋市青少年交流プラザは、青少年の「成長したい」思いを応援する施設です。様々な体験プログラムや、「やってみたい」ことを実現させるプロセスを通して、仲間とのつながりを深めたり、自分の新たな可能性に気付いたりする。そんな経験をプラザでしてみま...youth.nagoya
URL:http://www.narupara.com/event/20231129-lets-make-an-eraser-hanko/
LOCATION:名古屋市緑生涯学習センター\, 緑区鳴海町本町54\, 名古屋市\, 愛知県\, 458-0801\, 日本
CATEGORIES:子育て,教養・実用・講座
ATTACH;FMTTYPE=image/jpeg:http://www.narupara.com/cms/wp-content/uploads/2022/09/midori-lifelong-learning-center.jpg
END:VEVENT
BEGIN:VEVENT
DTSTART;TZID=Asia/Tokyo:20231129T130500
DTEND;TZID=Asia/Tokyo:20231129T132500
DTSTAMP:20260421T223955
CREATED:20230410T232827Z
LAST-MODIFIED:20230410T232935Z
UID:2709-1701263100-1701264300@www.narupara.com
SUMMARY:乳幼児健康診査(3・4か月) 緑保健センター徳重分室実施分
DESCRIPTION:—–概要\n—–\n3(4)か月のお子様の健康診査、子育ての相談を行っています。\n対象の方には、保健センターから個別に通知します。\n実施日に都合の悪い方や、転入などにより通知が届かない方は緑保健センター(電話番号052-891-3619)までご連絡下さい。 \n—–\n健康診査の内容\n—–\n1.受付\n2.育児、栄養、お口、予防接種の話(第1子の方のみ)\n3.問診(お子様の様子や子育ての困りごとなどをお聞きします)\n4.身体計測(身長、体重、頭囲)\n5.お医者さんによる診察\n6.育児や栄養についての相談\n注:感染症の状況により一部の内容が中止・変更となる場合があります。 \n—–\n令和5年度の3(4)か月児健診について\n—–\n令和5年度の3(4)か月児健診の日程、対象者です。\n令和5年度3(4)か月児健診日程 (PDF形式\, 200.21KB) \nhttps://www.city.nagoya.jp/midori/cmsfiles/contents/0000124/124639/3M-old-child_schedule.pdf \n—–\n受付時間・対象者\n—–\n健診会場:/ 受付時間 / 対象者\n緑保健センター / 午後1時から1時20分まで / 徳重分室対象学区以外の学区にお住まいの方\n徳重分室 / 午後1時5分から1時25分まで / 次の学区にお住まいの方:黒石・常安・鳴海東部・戸笠・徳重・神の倉・熊の前・桃山 \n・お住まいの学区により健診日、健診会場、受付時間が異なります。\n・12時(正午)から整理番号札を配布します。 \n—–\n日程変更のお申し出について\n—–\n緑保健センターが実施する乳幼児健診の日程変更を希望される方は、下記の二次元コードまたはURLから変更申請を行ってください。 \n\nLoGoフォームlogoform.jp\n日程変更ができるのは、緑区にお住まいの方のうち、現在、お手元に乳幼児健診のご案内が届いている方のみです。\nウェブでのお手続きが難しい場合は、電話番号(052-891-3619)にてお申し出ください。 \n—–\nその他\n—–\n付き添いの方はできるだけ保護者様1人でお願いします(ご事情がある方は当日、会場でお申し出ください)。\nお子様やご家族に咳や発熱、感染が疑われる発疹等の症状のある方は、通知日にかかわらず、受診の延期をお願いします。\n車での来場はできるだけご遠慮ください。緑保健センターでは、健診者すべての方が駐車できるスペースはありませんので、駐車できるまでお待たせすることがあります。\n緑保健センター近隣の商業施設への駐車は絶対にご遠慮ください。\n健康診査は1時間から2時間かかります。ただし当日の混み具合により変わります。 \n—–\n名古屋市:令和5年度 3(4)か月児健康診査（緑区）\nhttps://www.city.nagoya.jp/midori/page/0000124639.html\n—–
URL:http://www.narupara.com/event/%e4%b9%b3%e5%b9%bc%e5%85%90%e5%81%a5%e5%ba%b7%e8%a8%ba%e6%9f%bb3%e3%83%bb4%e3%81%8b%e6%9c%88-%e7%b7%91%e4%bf%9d%e5%81%a5%e3%82%bb%e3%83%b3%e3%82%bf%e3%83%bc%e5%be%b3%e9%87%8d%e5%88%86%e5%ae%a4-25/
LOCATION:愛知県
CATEGORIES:子育て
END:VEVENT
BEGIN:VEVENT
DTSTART;TZID=Asia/Tokyo:20231129T101500
DTEND;TZID=Asia/Tokyo:20231129T113000
DTSTAMP:20260421T223955
CREATED:20230411T053643Z
LAST-MODIFIED:20231014T232236Z
UID:2914-1701252900-1701257400@www.narupara.com
SUMMARY:幼児食へのステップアップ教室(事前予約制) 緑保健センター実施分
DESCRIPTION:幼児食へのステップアップ教室(事前予約制)\n「幼児食って、これでいいのかな?」「おやつは何をあげたらいいの?」「好きだったものを急に食べなくなったけれど大丈夫かな?」\nそんなあなたの思いに、管理栄養士が一緒に解決策を考えます。\nぜひご参加くださいね。 \n—–\n内容\n—–\n幼児食のお話と調理実演、試食など \n—–\n対象\n—–\n緑区にお住まいの、教室開催日に1歳6か月児から2歳6か月児とその保護者\n各先着8組\n(注)託児はありませんのでご了承ください \n—–\n日程\n—–\n開催日\n日にち / 申し込み受付期間\n令和5年7月11日 / 6月12日 午前10時から7月7日\n令和5年11月29日 / 11月1日 午前10時から11月24日\n令和6年3月13日 / 2月13日 午前10時から3月8日 \n—–\n場所\n—–\n緑保健センター1階栄養室 \n—–\n開催時間\n—–\n午前10時15分から午前11時30分(受付時間 午前10時00分から) \n—–\n持ち物\n—–\n母子健康手帳、筆記用具、子どもの食事用エプロン、食具(スプーン、フォーク等)、必要に応じて飲み物など \n—–\n申込方法\n—–\n緑保健センター 保健予防課 管理栄養士まで電話(電話番号052-891-3620)または窓口でお申し込みください。 \n—–\n参加にあたっての注意事項\n—–\n欠席をされる場合は、事前にご連絡をお願いします。 \n—–\n名古屋市:幼児食へのステップアップ教室(事前予約制)(緑区)\nhttps://www.city.nagoya.jp/midori/page/0000162448.html\n—–
URL:http://www.narupara.com/event/20231129-step-up-class-to-infant-meals/
LOCATION:愛知県
CATEGORIES:子育て
END:VEVENT
BEGIN:VEVENT
DTSTART;TZID=Asia/Tokyo:20231128T133000
DTEND;TZID=Asia/Tokyo:20231128T153000
DTSTAMP:20260421T223955
CREATED:20231110T200649Z
LAST-MODIFIED:20231110T200649Z
UID:5593-1701178200-1701185400@www.narupara.com
SUMMARY:認知症家族サロン(当日先着順)
DESCRIPTION:認知症家族サロン\n場所:鳴海東部コミュニティセンター\n対象:認知症の方を介護する家族。\n当日先着各20人 \n※詳しくは広報なごやにて確認してください。
URL:http://www.narupara.com/event/20231128-dementia-family-salon/
LOCATION:愛知県
CATEGORIES:スポーツ・健康
END:VEVENT
BEGIN:VEVENT
DTSTART;TZID=Asia/Tokyo:20231128T133000
DTEND;TZID=Asia/Tokyo:20231128T153000
DTSTAMP:20260421T223955
CREATED:20231015T002422Z
LAST-MODIFIED:20231015T002422Z
UID:5219-1701178200-1701185400@www.narupara.com
SUMMARY:スマートフォン体験教室 iPhone(アイフォーン)-LINE(ライン)編-(事前申し込み・先着順)
DESCRIPTION:スマートフォン体験教室 iPhone(アイフォーン)-LINE(ライン)編-\n対象:名古屋市内在住の60歳以上。先着10人 \n※申し込み開始日時および方法は広報なごやにて確認してください \n緑福祉会館\n電話番号 052-624-3131 ファクス番号 052-624-4485
URL:http://www.narupara.com/event/20231128-smartphone-experience-class/
LOCATION:名古屋市緑福祉会館\, 緑区相原郷二丁目701番地\, 名古屋市\, 愛知県\, 458-0033\, 日本
CATEGORIES:教養・実用・講座
END:VEVENT
BEGIN:VEVENT
DTSTART;TZID=Asia/Tokyo:20231128T130000
DTEND;TZID=Asia/Tokyo:20231128T140000
DTSTAMP:20260421T223955
CREATED:20230410T234002Z
LAST-MODIFIED:20230410T234233Z
UID:2734-1701176400-1701180000@www.narupara.com
SUMMARY:1歳6か月児健康診査 緑保健センター実施分
DESCRIPTION:“—–概要\n—–\n・1歳6か月のお子様の健康診査、子育ての相談を行っています。\n・対象の方には、保健センターから個別に通知します。\n・実施日に都合の悪い方や、転入などにより通知が届かない方は緑保健センター(電話番号052-891-3619)までご連絡下さい。 \n—–\n健康診査の内容\n—–\n1.受付\n2.歯科検診(歯の発育状態をチェックします)\n3.問診(お子様の様子や子育ての困りごとなどをお聞きします)\n4.身体計測(身長・体重・頭囲)\n5.お医者さんによる診察\n6.育児、栄養、歯科についての相談\n7.フッ化物塗布(希望される方のみ、感染症の状況により中止となる場合があります)\n注:感染症の状況により一部の内容が中止・変更となる場合があります。\n注:フッ化物塗布をご希望の方は720円必要です(生活保護世帯は免除あり、要証明)。 \n令和5年度の1歳6か月児健診について\n令和5年度の1歳6か月児健診の日程、対象者です。 \n令和5年度1歳6か月児健康診査日程 (PDF形式\, 201.13KB)\nhttps://www.city.nagoya.jp/midori/cmsfiles/contents/0000124/124654/18M-old-child_schedule.pdf \n受付時間・対象者\n健診会場:/  受付時間 / 対象者\n緑保健センター / (第2子以降)午後1時から午後1時30分まで (第1子)午後1時30分から午後2時まで / 徳重分室対象学区以外の学区にお住まいの方\n徳重分室 / (第2子以降)午後1時5分から午後1時30分まで (第1子)午後1時30分から午後2時まで / 次の学区にお住まいの方:黒石・常安・鳴海東部・戸笠・徳重・神の倉・熊の前・桃山 \n・お住まいの学区により健診日、健診会場、受付時間が異なります。\n・12時(正午)から整理番号札を配布します。 \n—–\n日程変更のお申し出について\n—–\n緑保健センターが実施する乳幼児健診の日程変更を希望される方は、下記の二次元コードまたはURLから変更申請を行ってください。 \n\nLoGoフォームlogoform.jp\n日程変更ができるのは、緑区にお住まいの方のうち、現在、お手元に乳幼児健診のご案内が届いている方のみです。\nウェブでのお手続きが難しい場合は、電話番号(052-891-3619)にてお申し出ください。 \n—–\nその地\n—–\n・付き添いの方はできるだけ保護者様1人でお願いします(ご事情がある方は当日、会場でお申し出ください)。\n・お子様やご家族に咳や発熱、感染が疑われる発疹等の症状のある方は、通知日にかかわらず、受診の延期をお願いします。\n・車での来場はできるだけご遠慮ください。緑保健センターでは、健診者すべての方が駐車できるスペースはありませんので、駐車できるまでお待たせすることがあります。\n・緑保健センター近隣の商業施設への駐車は絶対にご遠慮ください。\n・健診当日の来所者数により、2時間から3時間程度かかることがあります。 \n—–\n名古屋市:令和5年度 1歳6か月児健康診査のご案内(緑区)\nhttps://www.city.nagoya.jp/midori/page/0000124654.html\n—–“
URL:http://www.narupara.com/event/1%e6%ad%b36%e3%81%8b%e6%9c%88%e5%85%90%e5%81%a5%e5%ba%b7%e8%a8%ba%e6%9f%bb-%e7%b7%91%e4%bf%9d%e5%81%a5%e3%82%bb%e3%83%b3%e3%82%bf%e3%83%bc%e5%ae%9f%e6%96%bd%e5%88%86-30/
LOCATION:愛知県
CATEGORIES:子育て
END:VEVENT
BEGIN:VEVENT
DTSTART;TZID=Asia/Tokyo:20231128T100000
DTEND;TZID=Asia/Tokyo:20231128T150000
DTSTAMP:20260421T223955
CREATED:20230919T201527Z
LAST-MODIFIED:20230919T201527Z
UID:4772-1701165600-1701183600@www.narupara.com
SUMMARY:みどり赤ちゃんまつり
DESCRIPTION:令和5年度みどり赤ちゃんまつり\nみどり赤ちゃんまつりとは?\n\nみどり赤ちゃんまつりは、未就園児がいる子育て中のみなさんを対象に緑区の4つの地域で開催されます。 \n平成19年より緑スポーツセンターにて始まりましたが、開催していく中でみなさんにとって身近な地域での開催が望ましいという声に応える形で、地域ごとで開催されることになりました。 \n身近な子育て資源を知る機会になりますので、ぜひご参加ください! \n  \n\n各地域の開催日時等について\n\n\n令和5年度みどり赤ちゃんまつり\n\n\n地域\n日時\n場所\n予約\n予約先\n\n\nおおだか地域\n令和5年10月21日(土曜日)\n丘の上こども園ホール\nあり\nみよし保育園 電話番号052-622-6665\n\n\nなるこ地域\n令和5年11月7日(火曜日)\n鳴海ハウジングセンター\nあり\n未定\n\n\nありまつ地域\n令和5年11月17日(金曜日)\nイオンタウン有松\nあり\nめぐみ保育園 電話番号052-622-4520\n\n\nとくしげ地域\n令和5年11月28日(火曜日)\nヒルズウォーク徳重\nなし\n\n\n\n\n\n\n各地域のイベント詳細については、下部の添付チラシをご覧ください。 \n(注)チラシについては、地域ごとで順次掲載をします。問い合わせ先については、地域ごとのチラシをご覧ください。 \nみどり赤ちゃんまつりinおおだかチラシ \n\n\n\n令和5年度みどり赤ちゃんまつりinおおだか(PDF形式\, 459.37KB)\n\n\n\nPDFファイルの閲覧には Adobe Reader が必要です。同ソフトがインストールされていない場合には、Adobe 社のサイトから Adobe Reader をダウンロード(無償)してください。(外部リンク) \n\n\n\n\n\n\n\nこのページの作成担当\n\n緑区役所保健福祉センター福祉部民生子ども課子ども家庭支援担当 \n\n\n電話番号\n052-625-3961 \n\n\nファックス番号\n052-621-6858 \n\nERROR: The request could not be satisfiedwww.city.nagoya.jp
URL:http://www.narupara.com/event/20231128-midori-baby-festival/
LOCATION:愛知県
CATEGORIES:子育て
END:VEVENT
BEGIN:VEVENT
DTSTART;TZID=Asia/Tokyo:20231128T100000
DTEND;TZID=Asia/Tokyo:20231128T130000
DTSTAMP:20260421T223955
CREATED:20230325T024129Z
LAST-MODIFIED:20230325T024447Z
UID:2504-1701165600-1701176400@www.narupara.com
SUMMARY:移動児童館「ちびっこ冒険ひろば」(雨天中止)
DESCRIPTION:移動児童館「ちびっこ冒険ひろば」日時:毎週火曜日 10:00～13:00\n会場:新海池公園(荒天中止)\n対象:乳幼児と保護者\n内容:どろんこ遊び・森へのおさんぽなどを楽しんでいます。\n着替え持参、汚れてもいい服装で来てね。(おとなも♪) \n※雨天決行・荒天の場合は中止します\n中止の場合はホームページに掲載します。 \n\n名古屋市 緑児童館やってみたい！をやってみよう。緑児童館は名古屋市の指定管理を受け、特定非営利活動法人こどもNPOと名古屋市緑区社会福祉協議会コンソーシアムによって管理・運営をしています。midorijidoukan.com
URL:http://www.narupara.com/event/%e7%a7%bb%e5%8b%95%e5%85%90%e7%ab%a5%e9%a4%a8%e3%80%8c%e3%81%a1%e3%81%b3%e3%81%a3%e3%81%93%e5%86%92%e9%99%ba%e3%81%b2%e3%82%8d%e3%81%b0%e3%80%8d%e9%9b%a8%e5%a4%a9%e4%b8%ad%e6%ad%a2-39/
LOCATION:愛知県
CATEGORIES:スポーツ・健康,子育て
END:VEVENT
BEGIN:VEVENT
DTSTART;TZID=Asia/Tokyo:20231128T100000
DTEND;TZID=Asia/Tokyo:20231128T110000
DTSTAMP:20260421T223955
CREATED:20231015T003323Z
LAST-MODIFIED:20231015T003323Z
UID:5232-1701165600-1701169200@www.narupara.com
SUMMARY:おさんぽクラブ(事前申し込み・抽選)
DESCRIPTION:おさんぽクラブ\n対象:乳幼児と保護者。抽選で8組 \n※申し込み開始日時および方法は広報なごやにて確認してください。 \n緑児童館\n電話番号・ファクス番号 052-623-9656 \n\n名古屋市 緑児童館やってみたい！をやってみよう。緑児童館は名古屋市の指定管理を受け、特定非営利活動法人こどもNPOと名古屋市緑区社会福祉協議会コンソーシアムによって管理・運営をしています。midorijidoukan.com
URL:http://www.narupara.com/event/20231128-osanpo-club/
LOCATION:名古屋市緑児童館\, 緑区相原郷二丁目701\, 名古屋市\, 愛知県\, 458-0033\, 日本
CATEGORIES:子育て
END:VEVENT
BEGIN:VEVENT
DTSTART;TZID=Asia/Tokyo:20231128T093000
DTEND;TZID=Asia/Tokyo:20231128T110000
DTSTAMP:20260421T223955
CREATED:20231014T231710Z
LAST-MODIFIED:20231014T231710Z
UID:5191-1701163800-1701169200@www.narupara.com
SUMMARY:ニューファミリーセミナー(2日間コース) 緑保健センター実施分
DESCRIPTION:ニューファミリーセミナー(2日間コース)\n\n会場:保健センター\n日時:(1)11月6日(月曜日)午後1時10分から午後3時30分 \n会場:徳重分室\n日時:(2)11月14日(火曜日)午後1時10分から午後3時30分 \n会場:保健センター\n日時:(3)11月28日(火曜日)午前9時30分から午前11時 \n対象:初めての出産を迎える妊婦(妊娠37週未満)とパートナー(妊婦のみも可)(1)(3)の2日間先着15組、(2)(3)の2日間先着10組 \n※申し込み開始日時および方法は広報なごやにて確認してください \n\nERROR: The request could not be satisfiedwww.city.nagoya.jp
URL:http://www.narupara.com/event/20231128-midori-new-family-seminar/
LOCATION:名古屋市緑保健センター\, 緑区相原郷一丁目715\, 名古屋市\, 愛知県\, 458-0033\, 日本
CATEGORIES:子育て
END:VEVENT
BEGIN:VEVENT
DTSTART;TZID=Asia/Tokyo:20231127T200000
DTEND;TZID=Asia/Tokyo:20231127T230000
DTSTAMP:20260421T223955
CREATED:20231008T000335Z
LAST-MODIFIED:20231008T000429Z
UID:5114-1701115200-1701126000@www.narupara.com
SUMMARY:アラン・プーサン ライブ(Allan Poohsan LIVE)
DESCRIPTION:「弾き語り市 30分4本勝負」女子の部 ★あきびん ★TOKO ★晴る ★愛aiii / 1000円
URL:http://www.narupara.com/event/%e3%82%a2%e3%83%a9%e3%83%b3%e3%83%bb%e3%83%97%e3%83%bc%e3%82%b5%e3%83%b3-%e3%83%a9%e3%82%a4%e3%83%96allan-poohsan-live-172/
LOCATION:愛知県
CATEGORIES:コンサート・ライブ,レジャー,文化・芸術
END:VEVENT
BEGIN:VEVENT
DTSTART;TZID=Asia/Tokyo:20231127T093000
DTEND;TZID=Asia/Tokyo:20231127T101500
DTSTAMP:20260421T223955
CREATED:20231110T211411Z
LAST-MODIFIED:20231110T211411Z
UID:5622-1701077400-1701080100@www.narupara.com
SUMMARY:健康なんでも相談(事前予約制) 緑保健センター徳重分室実施分
DESCRIPTION:内容:育児相談。成人の健康相談。保健師、管理栄養士、歯科衛生士による個別相談 \n※申し込み開始日時および方法は広報なごやにて確認してください \n予約問い合わせ先:分室事業 電話番号 052-878-2227
URL:http://www.narupara.com/event/20231127-health-counseling-tokushige/
LOCATION:名古屋市緑保健センター徳重分室\, 緑区元徳重一丁目401番地\, 名古屋市\, 愛知県\, 458-0852\, 日本
CATEGORIES:スポーツ・健康
END:VEVENT
BEGIN:VEVENT
DTSTART;VALUE=DATE:20231127
DTEND;VALUE=DATE:20231128
DTSTAMP:20260421T223955
CREATED:20231120T215350Z
LAST-MODIFIED:20231120T215442Z
UID:5805-1701043200-1701129599@www.narupara.com
SUMMARY:大高緑地公園「あいち県民の日」連携事業に伴う臨時営業
DESCRIPTION:「あいち県民の日」連携事業に伴い、11月27日(月)は臨時営業となります。\n(ディノアドベンチャー名古屋はお休みです。) \n\n\nページが見つかりませんでした | おでかけナビ・名古屋と愛知の公園であそぼう！www.aichi-koen.com
URL:http://www.narupara.com/event/20231127-odaka-green-park/
LOCATION:県営大高緑地(大高緑地公園)\, 緑区大高町高山1-1\, 名古屋市\, 愛知県\, 459-8801\, 日本
CATEGORIES:スポーツ・健康,レジャー,自然・環境
END:VEVENT
BEGIN:VEVENT
DTSTART;TZID=Asia/Tokyo:20231126T193000
DTEND;TZID=Asia/Tokyo:20231126T230000
DTSTAMP:20260421T223955
CREATED:20231008T000152Z
LAST-MODIFIED:20231008T000429Z
UID:5111-1701027000-1701039600@www.narupara.com
SUMMARY:アラン・プーサン ライブ(Allan Poohsan LIVE)
DESCRIPTION:★THE COME ONS ★ToughTimes ★THE DROPPERS / 1000円
URL:http://www.narupara.com/event/%e3%82%a2%e3%83%a9%e3%83%b3%e3%83%bb%e3%83%97%e3%83%bc%e3%82%b5%e3%83%b3-%e3%83%a9%e3%82%a4%e3%83%96allan-poohsan-live-171/
LOCATION:愛知県
CATEGORIES:コンサート・ライブ,レジャー,文化・芸術
END:VEVENT
BEGIN:VEVENT
DTSTART;TZID=Asia/Tokyo:20231126T124500
DTEND;TZID=Asia/Tokyo:20231126T153000
DTSTAMP:20260421T223955
CREATED:20231007T231236Z
LAST-MODIFIED:20231007T231415Z
UID:5093-1701002700-1701012600@www.narupara.com
SUMMARY:ピアノ発表会 @緑文化小劇場
DESCRIPTION:無料
URL:http://www.narupara.com/event/%e3%83%94%e3%82%a2%e3%83%8e%e7%99%ba%e8%a1%a8%e4%bc%9a-%e7%b7%91%e6%96%87%e5%8c%96%e5%b0%8f%e5%8a%87%e5%a0%b4-3/
LOCATION:愛知県
CATEGORIES:コンサート・ライブ,文化・芸術
END:VEVENT
BEGIN:VEVENT
DTSTART;TZID=Asia/Tokyo:20231126T110000
DTEND;TZID=Asia/Tokyo:20231126T161500
DTSTAMP:20260421T223955
CREATED:20231111T214014Z
LAST-MODIFIED:20231111T214014Z
UID:5701-1700996400-1701015300@www.narupara.com
SUMMARY:それいけ!アンパンマン みんなでおどろう!ミニステージ
DESCRIPTION:イオンモール大高のホームページに令和5年11月26日(日)に開催予定のそれいけ!アンパンマン みんなでおどろう!ミニステージのお知らせが掲載されました。\n場所は1F グリーンコート\n詳しくは発表掲載ページをご覧ください。 \n\n\n\nイオンモール大高イオンモール大高は「イオン大高店」を核店舗に、ファッション、飲食、サービスなどの専門店で構成されたモールです。odaka-aeonmall.com\n\n 観覧無料 \n それいけ!アンパンマン\nみんなでおどろう!ミニステージ \n 11月26日(日) \n● ● ● ● ● ● ● ● ● ● ● \n 時 間\n(1) 11:00～\n(2) 13:00～\n(3) 14:30～\n(4) 16:00～(各回15分ショー) \n 場 所\n1F グリーンコート \n 整理券について\n当日は整理券を配布致します。\n各回 60組(1組4名さま) \n【整理券配布について】\n各回の整理券を【 9:30～ / 1F レストラン北入口 】で配布します。 \n※全ての回の整理券を9:30～配布、無くなり次第終了いたします。\n(整理券が余った場合は10:30を目途に1Fグリーンコートで配布いたします)\n※お並びいただいた順に各回の整理券をお選びいただけます。\n※お並び1名(1組)につき1枚整理券をお渡しします。整理券1枚につき1～4名程入場できる観覧エリアにご案内いたします。\n※天候・混雑状況によっては整理券配布時間が前後する場合がございます。 \n【観覧について】\n※観覧につきましては会場のシートでの観覧となります。\n※ショーは15分のミニショーの開催となります。\n※事前予約・電話予約などでの場所取りは一切いたしません。ご了承ください。\n※場所取りにてご使用になったご持参品の紛失は一切の責任を負いかねます。ご了承ください。\n※場所取りする場合は観覧される人数分のみとさせていただきます。\n※観覧に際し、施設のカートは一旦お近くの返却場所にてご返却後、ご観覧ください。\n※2Fの観覧の際は、肩車、ガラスの塀を腕や身の乗り出しての観覧・撮影は禁止とさせていただきます。\n※上記の注意事項をスタッフが見かけた場合、お声がけさせていただきますので速やかに従っていただき、ご観覧ください。\n※ショー中の撮影は構いませんが、SNSなどへのアップロードは禁止とさせていただきます。\n※ショー終了後の撮影会・握手会はございません。\n※内容につきましては予告なく変更または中止する場合がございます。ご了承ください。\n※観覧シートでの飲食は禁止とさせていただきます。\n※場所取りされた方は、整理券の表記時間の30分前には必ずお席にお戻りください。お戻りが確認できない場合、スタッフの方でご持参品を回収させていただきます。その際の紛失、破損に関しましては、会場、運営スタッフは一切の責任を負いかねます。ご了承ください。\n※上記の行為を見かけた場合、スタッフからお声がけさせていただきます速やかに指示に従っていただきますようお願いいたします。 \n─────────────\n【お問い合わせ先】\n株式会社サンボード\nTEL:052-485-7641\n電話受付:10:00～18:00\n───────────── \n日程	2023/11/26 (日)\n時間	(1) 11:00～\n(2) 13:00～\n(3) 14:30～\n(4) 16:00～(各回15分ショー)\n※整理券配布あり\n場所	1F グリーンコート
URL:http://www.narupara.com/event/20231126-odaka-aeonmall/
LOCATION:イオンモール大高\, 緑区南大高二丁目450番地\, 名古屋市\, 愛知県\, 459-8016\, 日本
CATEGORIES:イベント,レジャー
ATTACH;FMTTYPE=image/gif:http://www.narupara.com/cms/wp-content/uploads/2022/09/scname-pc.gif
END:VEVENT
BEGIN:VEVENT
DTSTART;TZID=Asia/Tokyo:20231126T110000
DTEND;TZID=Asia/Tokyo:20231126T160000
DTSTAMP:20260421T223955
CREATED:20231108T205835Z
LAST-MODIFIED:20231108T205835Z
UID:5547-1700996400-1701014400@www.narupara.com
SUMMARY:ふらんすぱんの市
DESCRIPTION:日本で楽しむ、フランスパンのある生活。\n【第1回】11月25日・11月26日\n有松天満社にて開催 \n\n\n  \n\n\n\n\n\n\n\n\n\n\nこの投稿をInstagramで見る\n\n\n\n\n\n\n\n\n\n\n\n\n\n\n\n\n\n\n\n\n\n\n  \nふらんすぱんの市(@french_breadnoichi.official)がシェアした投稿 \n\n\n \n愛知県の人気ベーカリー合同販売\nバゲットを楽しむ飲食エリア\n人気パンインフルエンサー参加 \n主催:日本フランスパン友の会\n運営:合同会社HIJライブラリ \n\nInstagramwww.instagram.com\n\n『ふらんすぱんの市』ー日本で楽しむ、フランスパンのある生活。\nそのシンプルで上品な味わいと独特の食感が、世界で愛されているフランスパン。\nその魅力を11月28日「フランスパンの日」に合わせて、北海道・東京・大阪・名古屋・神戸・福岡の6つの地域で伝えるための本イベント。\n名古屋では、フランスパンの多面的な魅力を再発見するために、あえて日本的な空間で、日本人が、日本人らしく楽しむフランスパンを追求する『ふらんすぱんの市』を開催します。\n-フランスの心、日本の手。-\nフランスパンは、フランスの日常に欠かせない食材ですが、日本の生活の中でその魅力を存分に享受する機会は限られているのではないでしょうか。\nそれは、良くも悪くも私たちがフランスパンに抱いているイメージが邪魔しているのかもしれません。\nフランスパンはもっと身近な存在になってもいいはず。日常の中、フランスパンと共に在る新しい食文化の楽しみを皆さまと一緒に見つけていきたいと思います。\nメインエリア(中広場)には、フランスパン食べ放題エリアを設置。ジャム、バター、フレンチといったフランスの伝統的な食材はもちろん、味噌やあんこ、海苔、佃煮といった日本独特の食材との組み合わせを提案し、フランスパンの新たな可能性を発見していただきます。\nサブエリア(下広場)には、愛知県の人気ベーカリーが約10店舗集まる合同販売エリアも設置。フランスパンに留まらず、多様なパンの美味しさを堪能していただけます。\nこのイベントは、クープ・デュ・モンド・ドゥ・ラ・ブーランジュリー日本代表選考会の運営など、日本における正統派フランスパンの製造技術及び、パン食文化の普及などを目的とし活動している日本フランスパン友の会主催\n@h_peter_hij\n@b_iwasakidai_hij_\n愛知県でベーカリーを2店舗経営する合同会社HIJライブラリ運営で開催します。さらに多くの協賛や協力してくださる皆さまとともに、ご来場の方が心から楽しんでいただける場づくりを目指します。 \n日時は11/25(土)と11/26(日)、11時から16時まで。\n場所は愛知県名古屋市緑区 有松天満社です。 \n随時情報を発信していきます。\nよろしくお願いいたします。 \n#ふらんすぱんの市\n#愛知パン屋\n#愛知パン屋巡り\n#名古屋パン屋\n#名古屋パン屋巡り\n#パン屋巡り
URL:http://www.narupara.com/event/20231126-french_breadnoichi/
LOCATION:有松天満社\, 緑区鳴海町米塚10\, 名古屋市\, 愛知県\, 458-0801
CATEGORIES:フリーマーケット・朝市,レジャー
END:VEVENT
END:VCALENDAR